From mboxrd@z Thu Jan 1 00:00:00 1970 Return-Path: Received: from mails.dpdk.org (mails.dpdk.org [217.70.189.124]) by inbox.dpdk.org (Postfix) with ESMTP id 9DF4A46B91 for ; Thu, 17 Jul 2025 00:23:40 +0200 (CEST) Received: from mails.dpdk.org (localhost [127.0.0.1]) by mails.dpdk.org (Postfix) with ESMTP id 92156400EF; Thu, 17 Jul 2025 00:23:40 +0200 (CEST) Received: from mail-il1-f226.google.com (mail-il1-f226.google.com [209.85.166.226]) by mails.dpdk.org (Postfix) with ESMTP id 1CDEA400EF for ; Thu, 17 Jul 2025 00:23:39 +0200 (CEST) Received: by mail-il1-f226.google.com with SMTP id e9e14a558f8ab-3de2b02c69eso1472825ab.1 for ; Wed, 16 Jul 2025 15:23:39 -0700 (PDT) DKIM-Signature: v=1; a=rsa-sha256; c=relaxed/relaxed; d=iol.unh.edu; s=unh-iol; t=1752704618; x=1753309418; darn=dpdk.org; h=references:in-reply-to:cc:to:from:subject:message-id:date:from:to :cc:subject:date:message-id:reply-to; bh=6zjmRBPgPKzWDpS/ieScYWU9KEVuHonR5bklSz513DQ=; b=Lycqace7QDqOZwgm06dXdhA1MN2b0I7Ga3BU/UK43AHGIlK6BZQ6S8VQ+ls5tk+NHR xMFM/czc7Ng/aMkqkpF5Sl9CnPPdYAedEbXTjpB/pRTsiAodZMdPac7QLbqzlj0NH4NU Y/ztQcFdNqs72mYynNuf/6DUuTRxlMdn0IQ6I= X-Google-DKIM-Signature: v=1; a=rsa-sha256; c=relaxed/relaxed; d=1e100.net; s=20230601; t=1752704618; x=1753309418; h=references:in-reply-to:cc:to:from:subject:message-id:date :x-gm-message-state:from:to:cc:subject:date:message-id:reply-to; bh=6zjmRBPgPKzWDpS/ieScYWU9KEVuHonR5bklSz513DQ=; b=ibsNVkKzCCwMGKWM//V9weeswk0HdsRTm8yJN6/f91fAXwCAGcyNQSl07rk+0fXcpA 0Bz924HOYoU8w0Ft/LKKK6kUegph7PD2wGa4mR905+h2Gn1IAoOZU5+c0zcZEszHIA81 xjDFDqeAkTAEAcMyEckAbsKKeblYTxecP9ruGVLHa6ifteicukr0J77KU4D0JzfwRQ6C pRsc1D+gIRavNlqm+oeegh3ZQOYLvndOsuGKhKdFR8CoqIY4N0jjw2Zipf9ogczLDwih 8Zrxt90LkOffPjPBsH2ptrDinpIe+38ObPchqENslzVB+a3zcRX2UrDQDfap/8+eXoRR 2DFg== X-Gm-Message-State: AOJu0YyvB2gp/4/pKKnpqBIUndkfI+CTmeGYNvO5Ca3EeSzb2o+2/0AP 9nhktBime8yFxz6mVfJWmc7ydmfkiRTw6L8kZqWAFjGe7fFRH/FlXooLS1i4Y4myKtG7v+423mT zzOQnIyGjZ1+ylWgR9nPqG6demac/CasZMnn/GqJmZDo16PhGBeoD7mNrA4o1 X-Gm-Gg: ASbGncvRNRqINKdysS1oBGNwne3aid+Kif4mECdPdwM5KKusyx4Pm0ZUpMeYk9B1Cs2 m3h0SeNosP10qvPTloZQ6isPbsrj8PpTl6UVBvEheJUEUF/rKe8qgEKU9rv5HZVaUy1sKsnrGpI X8ex1YtCtedbAxq5XoGrK2XsSEgb+BBhPtptxwMFw3/quof6Pc4Q2iXZtJvXwxonMRjuPK3Vu1s OpC9N9widVvBZXZHQjqKtZxfQSNtv8EeSCNppr76SDH7OSDwt5YdZnTQiYjACGHJUANTQLmoR/u LvLeMcHRSIr+qnMQQDDJZhJ+u0NgDzvDfoFRiq7PDl8rgDXM1A== X-Google-Smtp-Source: AGHT+IEduRRMJrQyzPcZPtQYH920PeVuquzfwE5G7OavzezEfOPFlx1Pg5lcHFtYJCYiDauhnfFwzKZ5yE2J X-Received: by 2002:a05:6e02:1d8d:b0:3df:4ad5:3a71 with SMTP id e9e14a558f8ab-3e282eb104bmr45296275ab.11.1752704618366; Wed, 16 Jul 2025 15:23:38 -0700 (PDT) Received: from postal.iol.unh.edu (postal.iol.unh.edu. [2606:4100:3880:1234::84]) by smtp-relay.gmail.com with ESMTPS id 8926c6da1cb9f-50556591bd2sm750721173.28.2025.07.16.15.23.38 (version=TLS1_2 cipher=ECDHE-ECDSA-AES128-GCM-SHA256 bits=128/128); Wed, 16 Jul 2025 15:23:38 -0700 (PDT) X-Relaying-Domain: iol.unh.edu Date: Wed, 16 Jul 2025 15:23:38 -0700 (PDT) Message-ID: <6878266a.050a0220.28e7cd.81f9SMTPIN_ADDED_MISSING@mx.google.com> Received: from [172.21.0.5] (unknown [172.18.0.240]) by postal.iol.unh.edu (Postfix) with ESMTP id C85F76051830; Wed, 16 Jul 2025 18:23:37 -0400 (EDT) Subject: |SUCCESS| pw155290-155292 [PATCH] [v6,3/3] doc: revise coding guidel From: dpdklab@iol.unh.edu To: Test Report Cc: dpdk-test-reports@iol.unh.edu In-Reply-To: <20250716182546.58567-3-dmarx@iol.unh.edu> References: <20250716182546.58567-3-dmarx@iol.unh.edu> Content-Type: text/plain X-BeenThere: test-report@dpdk.org X-Mailman-Version: 2.1.29 Precedence: list List-Id: automatic DPDK test reports List-Unsubscribe: , List-Archive: List-Post: List-Help: List-Subscribe: , Errors-To: test-report-bounces@dpdk.org Test-Label: iol-unit-arm64-testing Test-Status: SUCCESS http://dpdk.org/patch/155292 _Testing PASS_ Submitter: Dean Marx Date: Wednesday, July 16 2025 18:25:46 DPDK git baseline: Repo:dpdk Branch: master CommitID:9fe9c0b231c8da5435bfccb1963121b4277f961c 155290-155292 --> testing pass Upstream job id: Generic-Unit-Test-DPDK#355853 Test environment and result as below: +------------------------------+----------------+--------------+---------------------------+------------------------------+ | Environment | dpdk_unit_test | lpm_autotest | cryptodev_sw_zuc_autotest | cryptodev_sw_snow3g_autotest | +==============================+================+==============+===========================+==============================+ | CentOS Stream 9 | PASS | SKIPPED | SKIPPED | SKIPPED | +------------------------------+----------------+--------------+---------------------------+------------------------------+ | CentOS Stream 10 | PASS | SKIPPED | SKIPPED | SKIPPED | +------------------------------+----------------+--------------+---------------------------+------------------------------+ | Fedora Linux 40 | PASS | SKIPPED | SKIPPED | SKIPPED | +------------------------------+----------------+--------------+---------------------------+------------------------------+ | Ubuntu 20.04 | PASS | PASS | SKIPPED | SKIPPED | +------------------------------+----------------+--------------+---------------------------+------------------------------+ | Debian GNU/Linux 12 | PASS | SKIPPED | SKIPPED | SKIPPED | +------------------------------+----------------+--------------+---------------------------+------------------------------+ | Fedora Linux 41 | PASS | SKIPPED | SKIPPED | SKIPPED | +------------------------------+----------------+--------------+---------------------------+------------------------------+ | Ubuntu 24.04 | PASS | SKIPPED | SKIPPED | SKIPPED | +------------------------------+----------------+--------------+---------------------------+------------------------------+ | Ubuntu 22.04 | PASS | SKIPPED | SKIPPED | SKIPPED | +------------------------------+----------------+--------------+---------------------------+------------------------------+ | Red Hat Enterprise Linux 9.5 | PASS | SKIPPED | SKIPPED | SKIPPED | +------------------------------+----------------+--------------+---------------------------+------------------------------+ | Debian 12 (arm) | SKIPPED | SKIPPED | PASS | PASS | +------------------------------+----------------+--------------+---------------------------+------------------------------+ CentOS Stream 9 Kernel: 5.4 Compiler: gcc gcc (GCC) 11.5.0 20240719 (Red Hat 11.5.0-7) CentOS Stream 10 Kernel: 5.4 Compiler: gcc gcc (GCC) 14.2.1 20250110 (Red Hat 14.2.1-8) Fedora Linux 40 Kernel: 5.4 Compiler: gcc gcc (GCC) 14.2.1 20240912 (Red Hat 14.2.1-3) Ubuntu 20.04 Kernel: 5.4 Compiler: gcc gcc (Ubuntu 9.4.0-1ubuntu1~20.04.2) 9.4.0 Debian GNU/Linux 12 Kernel: 5.4 Compiler: gcc gcc (Debian 12.2.0-14+deb12u1) 12.2.0 Fedora Linux 41 Kernel: 5.4 Compiler: gcc gcc (GCC) 14.3.1 20250523 (Red Hat 14.3.1-1) Ubuntu 24.04 Kernel: 5.4 Compiler: gcc gcc (Ubuntu 13.3.0-6ubuntu2~24.04) 13.3.0 Ubuntu 22.04 Kernel: 5.4 Compiler: gcc gcc (Ubuntu 11.4.0-1ubuntu1~22.04) 11.4.0 Red Hat Enterprise Linux 9.5 Kernel: 5.4 Compiler: gcc gcc (GCC) 11.5.0 20240719 (Red Hat 11.5.0-2) Debian 12 (arm) Kernel: Depends on container host Compiler: gcc (Debian 12.2.0-14) 12.2.0 To view detailed results, visit: https://lab.dpdk.org/results/dashboard/patchsets/33673/ UNH-IOL DPDK Community Lab To manage your email subscriptions, visit: https://lab.dpdk.org/results/dashboard/preferences/subscriptions/