From mboxrd@z Thu Jan 1 00:00:00 1970 Return-Path: Received: from mails.dpdk.org (mails.dpdk.org [217.70.189.124]) by inbox.dpdk.org (Postfix) with ESMTP id AD72446B91 for ; Thu, 17 Jul 2025 00:23:50 +0200 (CEST) Received: from mails.dpdk.org (localhost [127.0.0.1]) by mails.dpdk.org (Postfix) with ESMTP id A8258402B3; Thu, 17 Jul 2025 00:23:50 +0200 (CEST) Received: from mail-pl1-f225.google.com (mail-pl1-f225.google.com [209.85.214.225]) by mails.dpdk.org (Postfix) with ESMTP id 5147F400EF for ; Thu, 17 Jul 2025 00:23:49 +0200 (CEST) Received: by mail-pl1-f225.google.com with SMTP id d9443c01a7336-234c5b57557so2643935ad.3 for ; Wed, 16 Jul 2025 15:23:49 -0700 (PDT) DKIM-Signature: v=1; a=rsa-sha256; c=relaxed/relaxed; d=iol.unh.edu; s=unh-iol; t=1752704628; x=1753309428; darn=dpdk.org; h=references:in-reply-to:cc:to:from:subject:message-id:date:from:to :cc:subject:date:message-id:reply-to; bh=lg47bJKfQakZxUM0uD8I2A7gOrQREnfhzYC7Y59Lh/8=; b=YF5cJEwqpacMz6qyft7o/J0LiVTQLDC5aywSKpM2xqeQ+qKlYOe5O3InoJr3c+XjpY +B4OOmzjlfm/VPlbo5RN8o/gYXo2xMHQ3UOjAT6uZU297PeL62ywMhhvVyYsdKpoT47U 0+1r+jcIC8V9U54DEjNTFHi1hUpjDissp7pdk= X-Google-DKIM-Signature: v=1; a=rsa-sha256; c=relaxed/relaxed; d=1e100.net; s=20230601; t=1752704628; x=1753309428; h=references:in-reply-to:cc:to:from:subject:message-id:date :x-gm-message-state:from:to:cc:subject:date:message-id:reply-to; bh=lg47bJKfQakZxUM0uD8I2A7gOrQREnfhzYC7Y59Lh/8=; b=GJ5cRVsF7rmha8fcUOnMnx2On3DPY3DIGSu2owMXiasd8eFQhxXyOxglmkH5Q5LYDe 2qOqWJtl2qFicl9GFlgMzEfyaoXZuaCoy47Nwa9YFhV9SgOmYvV6kaTAYyhHIC/C8t8B 3QBH969WI+QJSKtLd64QWmWLQW7n7qB+cwD3ju433yaY9VJI2vt/vmwq8T67QZ3rq/61 xH+PWl8VGk2WBSQTTWWuV0v1O8DHzGI39d/e1dAlki86qoHDR8UKbojvbUDKFg2P/KIa 1KJB4xpM7eFdwMn5Yy8y7dLGIyVBjRDzzAo0iOQeqiOSmM3dPLKvfjjhYXxy9U16yPg5 qgiQ== X-Gm-Message-State: AOJu0Yy3JjxvJEY78rklr9+t/sKwoMDc061d0bTSaO6bVZf1xhFjqsD0 myZ+FG/buwOAbcU38KvtnKWCk7uVvftcqvgA2F8EgaySHLKbZroSyouVJu1cxdeQx/5vOMjJsV8 rWKiCdcY8fipfN18SbrdHcyCU1pV1eFzZNY9VzClFbb8y X-Gm-Gg: ASbGncuvOkxV9i47mi1cnwn6Ye8lXuKm9UeDXtxWIiJQHpAMnrbuFyoEh0b+3z29lTJ r/LzwHfut7ugf03Vobo4mqMh8pFmmcgJz7rWAg2G8xJYRBozY/xGfHEMNdzNTCZ84pdi9Ic5Yup CqJ9u6wSgMIwosiDIOfcwD8H4AtECvkBo4UnAf1YgQMY7EGuI7OhOZLzVnuDy5v71+bK+OgOVp8 UC0XmrGfxg24ahK0/mt+Dr1N62yaH7AmVv0OTFlWjf2tZtkH0QknNIFRT1DLTdUJ2voadqhFOyT CPgo9QF6pbVXtSb598fuI2lRkj5MgI4DtHdM4JB7+S79SDMm/JbLXVsZp0uvxVkSuWRBglIG X-Google-Smtp-Source: AGHT+IGO9xUtFDoYHKzHSVCROXmFbB5UUghbpMYZDilbaibNy2ieH3Adyl8IFgsxEs6bADTEJkxtl6LGXc4P X-Received: by 2002:a17:902:fb8b:b0:23d:e2fc:6fe5 with SMTP id d9443c01a7336-23e2b445108mr29852455ad.49.1752704628467; Wed, 16 Jul 2025 15:23:48 -0700 (PDT) Received: from postal.iol.unh.edu (postal.iol.unh.edu. [132.177.123.84]) by smtp-relay.gmail.com with ESMTPS id d9443c01a7336-23de433a60esm8127065ad.102.2025.07.16.15.23.48 (version=TLS1_2 cipher=ECDHE-ECDSA-AES128-GCM-SHA256 bits=128/128); Wed, 16 Jul 2025 15:23:48 -0700 (PDT) X-Relaying-Domain: iol.unh.edu Date: Wed, 16 Jul 2025 15:23:48 -0700 (PDT) Message-ID: <68782674.170a0220.57e15.bbb2SMTPIN_ADDED_MISSING@mx.google.com> Received: from [172.21.0.5] (unknown [172.18.0.240]) by postal.iol.unh.edu (Postfix) with ESMTP id EF84F6051830; Wed, 16 Jul 2025 18:23:47 -0400 (EDT) Subject: |SUCCESS| pw155288 [PATCH] mailmap: fix entries with many aliases From: dpdklab@iol.unh.edu To: Test Report Cc: dpdk-test-reports@iol.unh.edu In-Reply-To: <20250716144203.1994070-1-david.marchand@redhat.com> References: <20250716144203.1994070-1-david.marchand@redhat.com> Content-Type: text/plain X-BeenThere: test-report@dpdk.org X-Mailman-Version: 2.1.29 Precedence: list List-Id: automatic DPDK test reports List-Unsubscribe: , List-Archive: List-Post: List-Help: List-Subscribe: , Errors-To: test-report-bounces@dpdk.org Test-Label: iol-compile-arm64-testing Test-Status: SUCCESS http://dpdk.org/patch/155288 _Testing PASS_ Submitter: David Marchand Date: Wednesday, July 16 2025 14:41:59 DPDK git baseline: Repo:dpdk Branch: master CommitID:9fe9c0b231c8da5435bfccb1963121b4277f961c 155288 --> testing pass Upstream job id: Generic-DPDK-Compile-Meson#409230 Test environment and result as below: +------------------------------+--------------------+ | Environment | dpdk_meson_compile | +==============================+====================+ | Red Hat Enterprise Linux 9.5 | PASS | +------------------------------+--------------------+ | Ubuntu 20.04 | PASS | +------------------------------+--------------------+ | Debian GNU/Linux 12 | PASS | +------------------------------+--------------------+ | Fedora Linux 40 | PASS | +------------------------------+--------------------+ | Fedora Linux 41 | PASS | +------------------------------+--------------------+ | Ubuntu 22.04 | PASS | +------------------------------+--------------------+ | Ubuntu 24.04 | PASS | +------------------------------+--------------------+ | CentOS Stream 9 | PASS | +------------------------------+--------------------+ | CentOS Stream 10 | PASS | +------------------------------+--------------------+ Red Hat Enterprise Linux 9.5 Kernel: 5.4 Compiler: gcc gcc (GCC) 11.5.0 20240719 (Red Hat 11.5.0-2) Ubuntu 20.04 Kernel: 5.15 Compiler: aarch64-linux-gnu-gcc gcc (Ubuntu 9.4.0-1ubuntu1~20.04.2) 9.4.0 Debian GNU/Linux 12 Kernel: 5.4 Compiler: gcc gcc (Debian 12.2.0-14+deb12u1) 12.2.0 Fedora Linux 40 Kernel: 5.4 Compiler: gcc gcc (GCC) 14.2.1 20240912 (Red Hat 14.2.1-3) Fedora Linux 41 Kernel: 5.4 Compiler: gcc gcc (GCC) 14.3.1 20250523 (Red Hat 14.3.1-1) Ubuntu 22.04 Kernel: 5.4 Compiler: gcc gcc (Ubuntu 11.4.0-1ubuntu1~22.04) 11.4.0 Ubuntu 24.04 Kernel: 5.4 Compiler: gcc gcc (Ubuntu 13.3.0-6ubuntu2~24.04) 13.3.0 CentOS Stream 9 Kernel: 5.4 Compiler: gcc gcc (GCC) 11.5.0 20240719 (Red Hat 11.5.0-7) CentOS Stream 10 Kernel: 5.4 Compiler: gcc gcc (GCC) 14.2.1 20250110 (Red Hat 14.2.1-8) To view detailed results, visit: https://lab.dpdk.org/results/dashboard/patchsets/33671/ UNH-IOL DPDK Community Lab To manage your email subscriptions, visit: https://lab.dpdk.org/results/dashboard/preferences/subscriptions/