automatic DPDK test reports
 help / color / mirror / Atom feed
From: dpdklab@iol.unh.edu
To: Test Report <test-report@dpdk.org>
Cc: dpdk-test-reports@iol.unh.edu
Subject: |SUCCESS| pw155293-155295 [PATCH] [v7,3/3] doc: revise coding guidel
Date: Wed, 16 Jul 2025 16:21:53 -0700 (PDT)	[thread overview]
Message-ID: <68783411.050a0220.e04b6.f7c7SMTPIN_ADDED_MISSING@mx.google.com> (raw)
In-Reply-To: <20250716205402.64997-3-dmarx@iol.unh.edu>

Test-Label: iol-unit-arm64-testing
Test-Status: SUCCESS
http://dpdk.org/patch/155295

_Testing PASS_

Submitter: Dean Marx <dmarx@iol.unh.edu>
Date: Wednesday, July 16 2025 20:54:00 
DPDK git baseline: Repo:dpdk
  Branch: master
  CommitID:9fe9c0b231c8da5435bfccb1963121b4277f961c

155293-155295 --> testing pass

Upstream job id: Generic-Unit-Test-DPDK#355882

Test environment and result as below:

+------------------------------+------------------------------+--------------+---------------------------+----------------+
|         Environment          | cryptodev_sw_snow3g_autotest | lpm_autotest | cryptodev_sw_zuc_autotest | dpdk_unit_test |
+==============================+==============================+==============+===========================+================+
| Debian 12 (arm)              | PASS                         | SKIPPED      | PASS                      | SKIPPED        |
+------------------------------+------------------------------+--------------+---------------------------+----------------+
| Ubuntu 20.04                 | SKIPPED                      | PASS         | SKIPPED                   | PASS           |
+------------------------------+------------------------------+--------------+---------------------------+----------------+
| Debian GNU/Linux 12          | SKIPPED                      | SKIPPED      | SKIPPED                   | PASS           |
+------------------------------+------------------------------+--------------+---------------------------+----------------+
| CentOS Stream 9              | SKIPPED                      | SKIPPED      | SKIPPED                   | PASS           |
+------------------------------+------------------------------+--------------+---------------------------+----------------+
| CentOS Stream 10             | SKIPPED                      | SKIPPED      | SKIPPED                   | PASS           |
+------------------------------+------------------------------+--------------+---------------------------+----------------+
| Fedora Linux 40              | SKIPPED                      | SKIPPED      | SKIPPED                   | PASS           |
+------------------------------+------------------------------+--------------+---------------------------+----------------+
| Fedora Linux 41              | SKIPPED                      | SKIPPED      | SKIPPED                   | PASS           |
+------------------------------+------------------------------+--------------+---------------------------+----------------+
| Red Hat Enterprise Linux 9.5 | SKIPPED                      | SKIPPED      | SKIPPED                   | PASS           |
+------------------------------+------------------------------+--------------+---------------------------+----------------+
| Ubuntu 24.04                 | SKIPPED                      | SKIPPED      | SKIPPED                   | PASS           |
+------------------------------+------------------------------+--------------+---------------------------+----------------+
| Ubuntu 22.04                 | SKIPPED                      | SKIPPED      | SKIPPED                   | PASS           |
+------------------------------+------------------------------+--------------+---------------------------+----------------+


Debian 12 (arm)
	Kernel: Depends on container host
	Compiler: gcc (Debian 12.2.0-14) 12.2.0

Ubuntu 20.04
	Kernel: 5.4
	Compiler: gcc gcc (Ubuntu 9.4.0-1ubuntu1~20.04.2) 9.4.0

Debian GNU/Linux 12
	Kernel: 5.4
	Compiler: gcc gcc (Debian 12.2.0-14+deb12u1) 12.2.0

CentOS Stream 9
	Kernel: 5.4
	Compiler: gcc gcc (GCC) 11.5.0 20240719 (Red Hat 11.5.0-7)

CentOS Stream 10
	Kernel: 5.4
	Compiler: gcc gcc (GCC) 14.2.1 20250110 (Red Hat 14.2.1-8)

Fedora Linux 40
	Kernel: 5.4
	Compiler: clang gcc (GCC) 14.2.1 20240912 (Red Hat 14.2.1-3)

Fedora Linux 41
	Kernel: 5.4
	Compiler: clang gcc (GCC) 14.3.1 20250523 (Red Hat 14.3.1-1)

Red Hat Enterprise Linux 9.5
	Kernel: 5.4
	Compiler: gcc gcc (GCC) 11.5.0 20240719 (Red Hat 11.5.0-2)

Ubuntu 24.04
	Kernel: 5.4
	Compiler: gcc gcc (Ubuntu 13.3.0-6ubuntu2~24.04) 13.3.0

Ubuntu 22.04
	Kernel: 5.4
	Compiler: gcc gcc (Ubuntu 11.4.0-1ubuntu1~22.04) 11.4.0

To view detailed results, visit:
https://lab.dpdk.org/results/dashboard/patchsets/33674/

UNH-IOL DPDK Community Lab

To manage your email subscriptions, visit: 
https://lab.dpdk.org/results/dashboard/preferences/subscriptions/

  parent reply	other threads:[~2025-07-16 23:21 UTC|newest]

Thread overview: 24+ messages / expand[flat|nested]  mbox.gz  Atom feed  top
     [not found] <20250716205402.64997-3-dmarx@iol.unh.edu>
2025-07-16 20:41 ` |SUCCESS| pw155293-155295 [PATCH v7 3/3] doc: revise coding guidelines section qemudev
2025-07-16 20:45 ` qemudev
2025-07-16 20:52 ` |WARNING| pw155295 " checkpatch
2025-07-16 21:20 ` |SUCCESS| pw155293-155295 [PATCH] [v7,3/3] doc: revise coding guidel dpdklab
2025-07-16 21:33 ` |PENDING| " dpdklab
2025-07-16 21:37 ` |SUCCESS| " dpdklab
2025-07-16 21:39 ` |PENDING| " dpdklab
2025-07-16 21:39 ` |SUCCESS| " dpdklab
2025-07-16 21:42 ` |PENDING| " dpdklab
2025-07-16 21:50 ` |SUCCESS| " dpdklab
2025-07-16 21:55 ` dpdklab
2025-07-16 21:55 ` dpdklab
2025-07-16 21:58 ` |PENDING| " dpdklab
2025-07-16 22:03 ` |SUCCESS| pw155295 [PATCH v7 3/3] doc: revise coding guidelines section 0-day Robot
2025-07-16 22:10 ` |SUCCESS| pw155293-155295 [PATCH] [v7,3/3] doc: revise coding guidel dpdklab
2025-07-16 22:12 ` dpdklab
2025-07-16 22:14 ` dpdklab
2025-07-16 22:21 ` dpdklab
2025-07-16 22:22 ` dpdklab
2025-07-16 23:21 ` dpdklab [this message]
2025-07-17  1:06 ` dpdklab
2025-07-17 17:01 ` dpdklab
2025-07-17 17:01 ` dpdklab
2025-07-17 17:16 ` dpdklab

Reply instructions:

You may reply publicly to this message via plain-text email
using any one of the following methods:

* Save the following mbox file, import it into your mail client,
  and reply-to-all from there: mbox

  Avoid top-posting and favor interleaved quoting:
  https://en.wikipedia.org/wiki/Posting_style#Interleaved_style

* Reply using the --to, --cc, and --in-reply-to
  switches of git-send-email(1):

  git send-email \
    --in-reply-to=68783411.050a0220.e04b6.f7c7SMTPIN_ADDED_MISSING@mx.google.com \
    --to=dpdklab@iol.unh.edu \
    --cc=dpdk-test-reports@iol.unh.edu \
    --cc=test-report@dpdk.org \
    /path/to/YOUR_REPLY

  https://kernel.org/pub/software/scm/git/docs/git-send-email.html

* If your mail client supports setting the In-Reply-To header
  via mailto: links, try the mailto: link
Be sure your reply has a Subject: header at the top and a blank line before the message body.
This is a public inbox, see mirroring instructions
for how to clone and mirror all data and code used for this inbox;
as well as URLs for NNTP newsgroup(s).