From mboxrd@z Thu Jan 1 00:00:00 1970 Return-Path: Received: from mails.dpdk.org (mails.dpdk.org [217.70.189.124]) by inbox.dpdk.org (Postfix) with ESMTP id 0A60346B91 for ; Thu, 17 Jul 2025 01:21:56 +0200 (CEST) Received: from mails.dpdk.org (localhost [127.0.0.1]) by mails.dpdk.org (Postfix) with ESMTP id CA6C3400EF; Thu, 17 Jul 2025 01:21:55 +0200 (CEST) Received: from mail-pf1-f225.google.com (mail-pf1-f225.google.com [209.85.210.225]) by mails.dpdk.org (Postfix) with ESMTP id 5CBDE400EF for ; Thu, 17 Jul 2025 01:21:54 +0200 (CEST) Received: by mail-pf1-f225.google.com with SMTP id d2e1a72fcca58-748e81d37a7so291037b3a.1 for ; Wed, 16 Jul 2025 16:21:54 -0700 (PDT) DKIM-Signature: v=1; a=rsa-sha256; c=relaxed/relaxed; d=iol.unh.edu; s=unh-iol; t=1752708113; x=1753312913; darn=dpdk.org; h=references:in-reply-to:cc:to:from:subject:message-id:date:from:to :cc:subject:date:message-id:reply-to; bh=xReddA87LVchCF/yEJFRaE5pL1hm/Bd5jCntXgMIywU=; b=Axcr5AgbK1U8KuLaprsmGG2NlV9CqKPwZPmivq1tkowfm2xlLEA1zpyiPnZtYSRV/m SM6xodykPihK2w39e26BsRVnlA0WGcrk2lXIHTyhqG+wBn5n+Hy6jMWLgwmK2oqGARLg SksSOFolk+73kTCFtEFaV4XPPmQVz9GILiAbI= X-Google-DKIM-Signature: v=1; a=rsa-sha256; c=relaxed/relaxed; d=1e100.net; s=20230601; t=1752708113; x=1753312913; h=references:in-reply-to:cc:to:from:subject:message-id:date :x-gm-message-state:from:to:cc:subject:date:message-id:reply-to; bh=xReddA87LVchCF/yEJFRaE5pL1hm/Bd5jCntXgMIywU=; b=llZmIuy0Q04zeWByUI5Ge2COPTdfhBtrCVGR1p+OTq7OgTV+dq+PMiXaso7HmoBetI BSvUwwFJORpXkSuEtL2eZv5dDaSVHYXxeUjRnWy1NLpiDvaK6HqkDqxli9FpaYSv/aRx HoFlT4cGOVcmv+TiMYF0PxlEUYz7hyOq4H8SyPXz+RPAnVanvG3hWNdakNQ10Ix32UQP 9hJ+l8aqluoRkISg2uqWRNo6n5r0dXteGQSdLsJiHhU84UAZyNbBE05V0LDogNaN0PVE RJSbE9oI+yhxanKNJV8NXkxFdsf6Y6bM5YZNmkFHpL7L/cDn2EP2Y1PvkYDej5RLxtWI hRRg== X-Gm-Message-State: AOJu0YzO+OC3z2ZyfO9vic8GCZsZC88nT3iDOxHo82sdpMzixGZPxo5t KwGBefg+t4NcU1TQd9CQftfNxTy/vUBJ+Hz5WGyUWhiASZHk7ZPfCP72rQGR2QN6Zh75pOwjNC4 wkztiUCOVD9b1ckpMeFYgL5Yy//8xzs0qcS90COmK+NBkURnD+K9iMUI37v4W X-Gm-Gg: ASbGncuWtuxTdxMAgCifcHAfRF7rsFz/RU7AM8fsGo6W5uIQN2QwznAKanv+etygwDw NMl/zs2HkXD+NS4vqo8LVHeXODSd8gn6Nc8f9DaUx5jgXhUooCHf9jq+0U5PuWYFc2SoAKjE+uc cluOXAbjwBeRhYm6y7u4HsEHsa9b9N5FplHF9DHyzqnSurKvqtxk3uzibDnousom7bLG9CEYDck 9g8xnlTSyOkvaI/5JaNzhGuM9u7KY4GWGh6lFt4qqkatFy1gl5+iP/9yC8ue1oR8hHeqYyxnEaJ JxTyAeV/UNmkIzHkyjFoLGqilP/fUQQeKO3LmMUukh6h1scA/A== X-Google-Smtp-Source: AGHT+IHZY6xEgrZC38ICW5kfDWQ2QPmjnOQGWz30RVz8aL/3wGt6SWM0lwBjiKxXe/6oonZV3xmw4WBi6Sco X-Received: by 2002:a05:6a00:4b03:b0:749:bc7:1577 with SMTP id d2e1a72fcca58-756e85824a2mr7489735b3a.9.1752708113436; Wed, 16 Jul 2025 16:21:53 -0700 (PDT) Received: from postal.iol.unh.edu (postal.iol.unh.edu. [2606:4100:3880:1234::84]) by smtp-relay.gmail.com with ESMTPS id d2e1a72fcca58-74eb9f243fcsm909087b3a.14.2025.07.16.16.21.53 (version=TLS1_2 cipher=ECDHE-ECDSA-AES128-GCM-SHA256 bits=128/128); Wed, 16 Jul 2025 16:21:53 -0700 (PDT) X-Relaying-Domain: iol.unh.edu Date: Wed, 16 Jul 2025 16:21:53 -0700 (PDT) Message-ID: <68783411.050a0220.e04b6.f7c7SMTPIN_ADDED_MISSING@mx.google.com> Received: from [172.21.0.5] (unknown [172.18.0.240]) by postal.iol.unh.edu (Postfix) with ESMTP id 8F2196051830; Wed, 16 Jul 2025 19:21:52 -0400 (EDT) Subject: |SUCCESS| pw155293-155295 [PATCH] [v7,3/3] doc: revise coding guidel From: dpdklab@iol.unh.edu To: Test Report Cc: dpdk-test-reports@iol.unh.edu In-Reply-To: <20250716205402.64997-3-dmarx@iol.unh.edu> References: <20250716205402.64997-3-dmarx@iol.unh.edu> Content-Type: text/plain X-BeenThere: test-report@dpdk.org X-Mailman-Version: 2.1.29 Precedence: list List-Id: automatic DPDK test reports List-Unsubscribe: , List-Archive: List-Post: List-Help: List-Subscribe: , Errors-To: test-report-bounces@dpdk.org Test-Label: iol-unit-arm64-testing Test-Status: SUCCESS http://dpdk.org/patch/155295 _Testing PASS_ Submitter: Dean Marx Date: Wednesday, July 16 2025 20:54:00 DPDK git baseline: Repo:dpdk Branch: master CommitID:9fe9c0b231c8da5435bfccb1963121b4277f961c 155293-155295 --> testing pass Upstream job id: Generic-Unit-Test-DPDK#355882 Test environment and result as below: +------------------------------+------------------------------+--------------+---------------------------+----------------+ | Environment | cryptodev_sw_snow3g_autotest | lpm_autotest | cryptodev_sw_zuc_autotest | dpdk_unit_test | +==============================+==============================+==============+===========================+================+ | Debian 12 (arm) | PASS | SKIPPED | PASS | SKIPPED | +------------------------------+------------------------------+--------------+---------------------------+----------------+ | Ubuntu 20.04 | SKIPPED | PASS | SKIPPED | PASS | +------------------------------+------------------------------+--------------+---------------------------+----------------+ | Debian GNU/Linux 12 | SKIPPED | SKIPPED | SKIPPED | PASS | +------------------------------+------------------------------+--------------+---------------------------+----------------+ | CentOS Stream 9 | SKIPPED | SKIPPED | SKIPPED | PASS | +------------------------------+------------------------------+--------------+---------------------------+----------------+ | CentOS Stream 10 | SKIPPED | SKIPPED | SKIPPED | PASS | +------------------------------+------------------------------+--------------+---------------------------+----------------+ | Fedora Linux 40 | SKIPPED | SKIPPED | SKIPPED | PASS | +------------------------------+------------------------------+--------------+---------------------------+----------------+ | Fedora Linux 41 | SKIPPED | SKIPPED | SKIPPED | PASS | +------------------------------+------------------------------+--------------+---------------------------+----------------+ | Red Hat Enterprise Linux 9.5 | SKIPPED | SKIPPED | SKIPPED | PASS | +------------------------------+------------------------------+--------------+---------------------------+----------------+ | Ubuntu 24.04 | SKIPPED | SKIPPED | SKIPPED | PASS | +------------------------------+------------------------------+--------------+---------------------------+----------------+ | Ubuntu 22.04 | SKIPPED | SKIPPED | SKIPPED | PASS | +------------------------------+------------------------------+--------------+---------------------------+----------------+ Debian 12 (arm) Kernel: Depends on container host Compiler: gcc (Debian 12.2.0-14) 12.2.0 Ubuntu 20.04 Kernel: 5.4 Compiler: gcc gcc (Ubuntu 9.4.0-1ubuntu1~20.04.2) 9.4.0 Debian GNU/Linux 12 Kernel: 5.4 Compiler: gcc gcc (Debian 12.2.0-14+deb12u1) 12.2.0 CentOS Stream 9 Kernel: 5.4 Compiler: gcc gcc (GCC) 11.5.0 20240719 (Red Hat 11.5.0-7) CentOS Stream 10 Kernel: 5.4 Compiler: gcc gcc (GCC) 14.2.1 20250110 (Red Hat 14.2.1-8) Fedora Linux 40 Kernel: 5.4 Compiler: clang gcc (GCC) 14.2.1 20240912 (Red Hat 14.2.1-3) Fedora Linux 41 Kernel: 5.4 Compiler: clang gcc (GCC) 14.3.1 20250523 (Red Hat 14.3.1-1) Red Hat Enterprise Linux 9.5 Kernel: 5.4 Compiler: gcc gcc (GCC) 11.5.0 20240719 (Red Hat 11.5.0-2) Ubuntu 24.04 Kernel: 5.4 Compiler: gcc gcc (Ubuntu 13.3.0-6ubuntu2~24.04) 13.3.0 Ubuntu 22.04 Kernel: 5.4 Compiler: gcc gcc (Ubuntu 11.4.0-1ubuntu1~22.04) 11.4.0 To view detailed results, visit: https://lab.dpdk.org/results/dashboard/patchsets/33674/ UNH-IOL DPDK Community Lab To manage your email subscriptions, visit: https://lab.dpdk.org/results/dashboard/preferences/subscriptions/