From mboxrd@z Thu Jan 1 00:00:00 1970 Return-Path: Received: from mails.dpdk.org (mails.dpdk.org [217.70.189.124]) by inbox.dpdk.org (Postfix) with ESMTP id 4FF0A46B92 for ; Thu, 17 Jul 2025 02:14:46 +0200 (CEST) Received: from mails.dpdk.org (localhost [127.0.0.1]) by mails.dpdk.org (Postfix) with ESMTP id 4B91A400EF; Thu, 17 Jul 2025 02:14:46 +0200 (CEST) Received: from mail-pg1-f228.google.com (mail-pg1-f228.google.com [209.85.215.228]) by mails.dpdk.org (Postfix) with ESMTP id 5F974400EF for ; Thu, 17 Jul 2025 02:14:45 +0200 (CEST) Received: by mail-pg1-f228.google.com with SMTP id 41be03b00d2f7-b1fd59851baso255753a12.0 for ; Wed, 16 Jul 2025 17:14:45 -0700 (PDT) DKIM-Signature: v=1; a=rsa-sha256; c=relaxed/relaxed; d=iol.unh.edu; s=unh-iol; t=1752711284; x=1753316084; darn=dpdk.org; h=references:in-reply-to:cc:to:from:subject:message-id:date:from:to :cc:subject:date:message-id:reply-to; bh=JWS+FmejBGoL+teYnqTgGWZ7R1DczKS9VsHuz/I2XmY=; b=dLDtkEY5x/0SkzSfUurnDQsRHOnYVrOqRvZShN3drDRpBiaIN7g0F2bwDZFIVlOdr8 muG3g8ixGGY2MwJGnsThUPErtmpsO+TpoaBSVuqw9z5pDvkxaLNtDnWuOUYzWwqMzeSq BbHE5FgUg4PndMhaz3qPRgQP+BzmXWhZq6puk= X-Google-DKIM-Signature: v=1; a=rsa-sha256; c=relaxed/relaxed; d=1e100.net; s=20230601; t=1752711284; x=1753316084; h=references:in-reply-to:cc:to:from:subject:message-id:date :x-gm-message-state:from:to:cc:subject:date:message-id:reply-to; bh=JWS+FmejBGoL+teYnqTgGWZ7R1DczKS9VsHuz/I2XmY=; b=vTwGL+ucRwenJyYqBf7T/VC4UNcGDfbzDBfdcfWtn5lj4zzoQNgAmpsKWyHbjlqbR3 nJVb9N2AvaIbDNSeMT748gLE25Zy5Jg61MIOlIapUm+4mvRniA1OYwnpah/lhrKf6u/e 0cwEaH+d9q06mfGRbd2cTvM81owJFTJj/0Q1DLYEhmdg0DrFUhNjaduuoyEbYluHYSZY BzMW+SXDkUYB+c/WANJ9iwkS5a33H2CzTxdgcfKAxgLGqGiKQXFz4yKo0UVF+UwV/3fP rPnHMv0mDeaWrkVKxrEfb/hpmK3UGK4zuA/+jH9ggOsTpcD8PsnqjOhB9eWsdLSf08de Ku6g== X-Gm-Message-State: AOJu0YzCXh8rjf2Ps741ZqrLCH4AR9jg+cy8qpoFoaBoA4iGY5u3WVCE si7S7EtfmtLOB/LI9NGJkUIed6jojk0+5tESrbWj5YbPtkBStdO9lHQaHQvsWGw17DMvVBrpEcq hHehSCNHwAlfujhTX7/kBs911gCp8G2lo3k9ZwVxIA23klieCyUChgdYt7mEe X-Gm-Gg: ASbGncvpKzAYliV5BMWI20cP/Nu+diWDCwnG3+rPUKjWgnrtWeRsaO3d97KNqQS/GOs Z3ZdfoQce8v2XFg8A2mF04WfYwHAa30eO65HhD8oLukGxHp6Ht7U0uakWvsWAjp1bv7VBB3fxAR HrGHNJH7a3gwmtPcinzXzQky23sNQ5666MtZ3qk9opu8IeUusre+8CfnmqIyZM8Xsr/naj6KN3r niWINys5LEEDpBdPOAXsMMkUF3RfCWVwZunA8G+0UHSN0S7kB4sekBcbLaVuNg8uf6hOyHxY/HO csQAVP+HYz39VZN/FttfgtD0f2VLppCtO0HpGOaE92UHNtyYJg== X-Google-Smtp-Source: AGHT+IHaIy78GAe7p6TH1XEwMCShPDLhPGmvsg6/DOnrpfvChoF1E+aMLz5sxlAwcvy20btRDhVBhvGqosmT X-Received: by 2002:a17:90b:2247:b0:313:283e:e881 with SMTP id 98e67ed59e1d1-31c9f3ded05mr6821399a91.11.1752711284197; Wed, 16 Jul 2025 17:14:44 -0700 (PDT) Received: from postal.iol.unh.edu (postal.iol.unh.edu. [2606:4100:3880:1234::84]) by smtp-relay.gmail.com with ESMTPS id 98e67ed59e1d1-31caf74d849sm45303a91.6.2025.07.16.17.14.44 (version=TLS1_2 cipher=ECDHE-ECDSA-AES128-GCM-SHA256 bits=128/128); Wed, 16 Jul 2025 17:14:44 -0700 (PDT) X-Relaying-Domain: iol.unh.edu Date: Wed, 16 Jul 2025 17:14:44 -0700 (PDT) Message-ID: <68784074.170a0220.16b9c6.204bSMTPIN_ADDED_MISSING@mx.google.com> Received: from [172.21.0.5] (unknown [172.18.0.240]) by postal.iol.unh.edu (Postfix) with ESMTP id 1608F6051830; Wed, 16 Jul 2025 20:14:43 -0400 (EDT) Subject: |SUCCESS| pw155290-155292 [PATCH] [v6,3/3] doc: revise coding guidel From: dpdklab@iol.unh.edu To: Test Report Cc: dpdk-test-reports@iol.unh.edu In-Reply-To: <20250716182546.58567-3-dmarx@iol.unh.edu> References: <20250716182546.58567-3-dmarx@iol.unh.edu> Content-Type: text/plain X-BeenThere: test-report@dpdk.org X-Mailman-Version: 2.1.29 Precedence: list List-Id: automatic DPDK test reports List-Unsubscribe: , List-Archive: List-Post: List-Help: List-Subscribe: , Errors-To: test-report-bounces@dpdk.org Test-Label: iol-compile-arm64-testing Test-Status: SUCCESS http://dpdk.org/patch/155292 _Testing PASS_ Submitter: Dean Marx Date: Wednesday, July 16 2025 18:25:46 DPDK git baseline: Repo:dpdk Branch: master CommitID:9fe9c0b231c8da5435bfccb1963121b4277f961c 155290-155292 --> testing pass Upstream job id: Generic-DPDK-Compile-Meson#409275 Test environment and result as below: +------------------------------+--------------------+ | Environment | dpdk_meson_compile | +==============================+====================+ | Red Hat Enterprise Linux 9.5 | PASS | +------------------------------+--------------------+ | Ubuntu 20.04 | PASS | +------------------------------+--------------------+ | Debian GNU/Linux 12 | PASS | +------------------------------+--------------------+ | Fedora Linux 40 | PASS | +------------------------------+--------------------+ | Fedora Linux 41 | PASS | +------------------------------+--------------------+ | Ubuntu 22.04 | PASS | +------------------------------+--------------------+ | Ubuntu 24.04 | PASS | +------------------------------+--------------------+ | CentOS Stream 9 | PASS | +------------------------------+--------------------+ | CentOS Stream 10 | PASS | +------------------------------+--------------------+ Red Hat Enterprise Linux 9.5 Kernel: 5.4 Compiler: gcc gcc (GCC) 11.5.0 20240719 (Red Hat 11.5.0-2) Ubuntu 20.04 Kernel: 5.15 Compiler: aarch64-linux-gnu-gcc gcc (Ubuntu 9.4.0-1ubuntu1~20.04.2) 9.4.0 Debian GNU/Linux 12 Kernel: 5.4 Compiler: gcc gcc (Debian 12.2.0-14+deb12u1) 12.2.0 Fedora Linux 40 Kernel: 5.4 Compiler: gcc gcc (GCC) 14.2.1 20240912 (Red Hat 14.2.1-3) Fedora Linux 41 Kernel: 5.4 Compiler: gcc gcc (GCC) 14.3.1 20250523 (Red Hat 14.3.1-1) Ubuntu 22.04 Kernel: 5.4 Compiler: gcc gcc (Ubuntu 11.4.0-1ubuntu1~22.04) 11.4.0 Ubuntu 24.04 Kernel: 5.4 Compiler: gcc gcc (Ubuntu 13.3.0-6ubuntu2~24.04) 13.3.0 CentOS Stream 9 Kernel: 5.4 Compiler: gcc gcc (GCC) 11.5.0 20240719 (Red Hat 11.5.0-7) CentOS Stream 10 Kernel: 5.4 Compiler: gcc gcc (GCC) 14.2.1 20250110 (Red Hat 14.2.1-8) To view detailed results, visit: https://lab.dpdk.org/results/dashboard/patchsets/33673/ UNH-IOL DPDK Community Lab To manage your email subscriptions, visit: https://lab.dpdk.org/results/dashboard/preferences/subscriptions/