From mboxrd@z Thu Jan 1 00:00:00 1970 Return-Path: Received: from mails.dpdk.org (mails.dpdk.org [217.70.189.124]) by inbox.dpdk.org (Postfix) with ESMTP id 83D2B46B92 for ; Thu, 17 Jul 2025 03:06:08 +0200 (CEST) Received: from mails.dpdk.org (localhost [127.0.0.1]) by mails.dpdk.org (Postfix) with ESMTP id 5435E400EF; Thu, 17 Jul 2025 03:06:08 +0200 (CEST) Received: from mail-ot1-f100.google.com (mail-ot1-f100.google.com [209.85.210.100]) by mails.dpdk.org (Postfix) with ESMTP id 630EF400EF for ; Thu, 17 Jul 2025 03:06:06 +0200 (CEST) Received: by mail-ot1-f100.google.com with SMTP id 46e09a7af769-73e58d50fe2so277951a34.1 for ; Wed, 16 Jul 2025 18:06:06 -0700 (PDT) DKIM-Signature: v=1; a=rsa-sha256; c=relaxed/relaxed; d=iol.unh.edu; s=unh-iol; t=1752714365; x=1753319165; darn=dpdk.org; h=references:in-reply-to:cc:to:from:subject:message-id:date:from:to :cc:subject:date:message-id:reply-to; bh=mICWAbkQdizeOnTxr8yk2bTSmxWi4MP2ewHg4fL5hgY=; b=DAochCyx6ZAKs2nFEvAozMvEXMeBdO9k1ZRkCOmI0HKVOlL5Pqw8QLA9Q/Igz2naCE Xcnm8boVHOIRGXv86Q1YzGRVlcvmIg3WW6E58gvVuAxNpKezdIaoxIoc3D10Ow48odcb yqW4s1dlYUlX5MeUpguJw8Tn9o2weqDB//VC4= X-Google-DKIM-Signature: v=1; a=rsa-sha256; c=relaxed/relaxed; d=1e100.net; s=20230601; t=1752714365; x=1753319165; h=references:in-reply-to:cc:to:from:subject:message-id:date :x-gm-message-state:from:to:cc:subject:date:message-id:reply-to; bh=mICWAbkQdizeOnTxr8yk2bTSmxWi4MP2ewHg4fL5hgY=; b=aQ4IRIq02zAkMGmYXsFkN7O096seEKcPcBjFeBujM4STvkdNs8fuZpabBp/OVPHt4/ 5U/iFkNm/mDRqoRLY5ZX9qeK/zaSntrsdO+A88E1wGRwVkva6DRNSQZRdz7+BKm+Cu4t xXS3sXBqdwtjBZUunBIx6fg+V338ErnuJruayBSM1nFGEVZj4lFyuLFXeKaPMeZDAulh FSZEWRZ0a0phbK72jAfcQYYblClYvvmCsi4U5nbRCQLAkhtZihLGw7DlxJCRN3nYQan0 Kn2SMZNTkMYTc+yDfC84b6y+9R9WpYQ360s+qjXzj39ny3d7inj0gThW+1NEbzwlTuIn rN8Q== X-Gm-Message-State: AOJu0YyaEBd4YzQVExe+f+Jj0qtIfZDLSWjlwlJ59FnoUM3/xNsEwrgE gklvVGjZTOBix/buNO2w7wH7Umud2oBCzuXtSoGpWESlEOsSLMGqFCs4Ak91Szy1b8tibdAPHWI B9q48SMBP4cuMALNgAQ8SRLRr7QI9QHH6ru4fCI7UojpKH4fZBvqaMvmrNeI0 X-Gm-Gg: ASbGncsuFx5Hw7ywhsOP+4s6pJwdVIw5E1gxnpkzLvExZ4Y8mmmYNjHQnPHfo24oR94 gYEp+W/s8XJpG2o0C2THKF8PfYJZCuaP8/tVhbN7gt1W3CX74c/PgaBoEq6qqL2aSdVuzytm+By 4ftn+i9SvCrPHbIjEiBV9YOZBqb9JJE/NsMOyt6UIEfkRY/ySaJ8qgMmtO9Q1JyTEOfAP2v6Sew w948kGqIt0wGdT7N5DFFP9769kUIvliF6DWFXUS5tRSC2ygo2N+knxZdw+Lg2TlPrhwOTWhRjBw Ys4eqoYemn0iRwL5z1It3hQ8H0dYdAezJ/4U0YlrHHaiIwaYTQ== X-Google-Smtp-Source: AGHT+IHw1/JDcoEbLxggTW6rk6Pi5bSEpatF/I0b/r2FmEwVhKqRqAnqzHpMC7P2qE1z1v/IVSNyhQvksZJM X-Received: by 2002:a05:6830:64cb:b0:73e:5e27:8817 with SMTP id 46e09a7af769-73e66197ecfmr3548331a34.14.1752714365463; Wed, 16 Jul 2025 18:06:05 -0700 (PDT) Received: from postal.iol.unh.edu (postal.iol.unh.edu. [2606:4100:3880:1234::84]) by smtp-relay.gmail.com with ESMTPS id 46e09a7af769-73cf1147068sm135742a34.11.2025.07.16.18.06.05 (version=TLS1_2 cipher=ECDHE-ECDSA-AES128-GCM-SHA256 bits=128/128); Wed, 16 Jul 2025 18:06:05 -0700 (PDT) X-Relaying-Domain: iol.unh.edu Date: Wed, 16 Jul 2025 18:06:05 -0700 (PDT) Message-ID: <68784c7d.050a0220.2eae8d.67d7SMTPIN_ADDED_MISSING@mx.google.com> Received: from [172.21.0.5] (unknown [172.18.0.240]) by postal.iol.unh.edu (Postfix) with ESMTP id E37E96051830; Wed, 16 Jul 2025 21:06:04 -0400 (EDT) Subject: |SUCCESS| pw155293-155295 [PATCH] [v7,3/3] doc: revise coding guidel From: dpdklab@iol.unh.edu To: Test Report Cc: dpdk-test-reports@iol.unh.edu In-Reply-To: <20250716205402.64997-3-dmarx@iol.unh.edu> References: <20250716205402.64997-3-dmarx@iol.unh.edu> Content-Type: text/plain X-BeenThere: test-report@dpdk.org X-Mailman-Version: 2.1.29 Precedence: list List-Id: automatic DPDK test reports List-Unsubscribe: , List-Archive: List-Post: List-Help: List-Subscribe: , Errors-To: test-report-bounces@dpdk.org Test-Label: iol-compile-arm64-testing Test-Status: SUCCESS http://dpdk.org/patch/155295 _Testing PASS_ Submitter: Dean Marx Date: Wednesday, July 16 2025 20:54:00 DPDK git baseline: Repo:dpdk Branch: master CommitID:9fe9c0b231c8da5435bfccb1963121b4277f961c 155293-155295 --> testing pass Upstream job id: Generic-DPDK-Compile-Meson#409323 Test environment and result as below: +------------------------------+--------------------+ | Environment | dpdk_meson_compile | +==============================+====================+ | Red Hat Enterprise Linux 9.5 | PASS | +------------------------------+--------------------+ | Ubuntu 20.04 | PASS | +------------------------------+--------------------+ | Debian GNU/Linux 12 | PASS | +------------------------------+--------------------+ | Fedora Linux 40 | PASS | +------------------------------+--------------------+ | Fedora Linux 41 | PASS | +------------------------------+--------------------+ | Ubuntu 22.04 | PASS | +------------------------------+--------------------+ | Ubuntu 24.04 | PASS | +------------------------------+--------------------+ | CentOS Stream 9 | PASS | +------------------------------+--------------------+ | CentOS Stream 10 | PASS | +------------------------------+--------------------+ Red Hat Enterprise Linux 9.5 Kernel: 5.4 Compiler: gcc gcc (GCC) 11.5.0 20240719 (Red Hat 11.5.0-2) Ubuntu 20.04 Kernel: 5.15 Compiler: aarch64-linux-gnu-gcc gcc (Ubuntu 9.4.0-1ubuntu1~20.04.2) 9.4.0 Debian GNU/Linux 12 Kernel: 5.4 Compiler: gcc gcc (Debian 12.2.0-14+deb12u1) 12.2.0 Fedora Linux 40 Kernel: 5.4 Compiler: gcc gcc (GCC) 14.2.1 20240912 (Red Hat 14.2.1-3) Fedora Linux 41 Kernel: 5.4 Compiler: gcc gcc (GCC) 14.3.1 20250523 (Red Hat 14.3.1-1) Ubuntu 22.04 Kernel: 5.4 Compiler: gcc gcc (Ubuntu 11.4.0-1ubuntu1~22.04) 11.4.0 Ubuntu 24.04 Kernel: 5.4 Compiler: gcc gcc (Ubuntu 13.3.0-6ubuntu2~24.04) 13.3.0 CentOS Stream 9 Kernel: 5.4 Compiler: gcc gcc (GCC) 11.5.0 20240719 (Red Hat 11.5.0-7) CentOS Stream 10 Kernel: 5.4 Compiler: gcc gcc (GCC) 14.2.1 20250110 (Red Hat 14.2.1-8) To view detailed results, visit: https://lab.dpdk.org/results/dashboard/patchsets/33674/ UNH-IOL DPDK Community Lab To manage your email subscriptions, visit: https://lab.dpdk.org/results/dashboard/preferences/subscriptions/