From mboxrd@z Thu Jan 1 00:00:00 1970 Return-Path: Received: from mails.dpdk.org (mails.dpdk.org [217.70.189.124]) by inbox.dpdk.org (Postfix) with ESMTP id BB6D546B9C for ; Thu, 17 Jul 2025 13:02:06 +0200 (CEST) Received: from mails.dpdk.org (localhost [127.0.0.1]) by mails.dpdk.org (Postfix) with ESMTP id 9079B400EF; Thu, 17 Jul 2025 13:02:06 +0200 (CEST) Received: from mail-il1-f226.google.com (mail-il1-f226.google.com [209.85.166.226]) by mails.dpdk.org (Postfix) with ESMTP id 7A3C9400EF for ; Thu, 17 Jul 2025 13:02:05 +0200 (CEST) Received: by mail-il1-f226.google.com with SMTP id e9e14a558f8ab-3df2f20f4bbso2571385ab.0 for ; Thu, 17 Jul 2025 04:02:05 -0700 (PDT) DKIM-Signature: v=1; a=rsa-sha256; c=relaxed/relaxed; d=iol.unh.edu; s=unh-iol; t=1752750124; x=1753354924; darn=dpdk.org; h=references:in-reply-to:cc:to:from:subject:message-id:date:from:to :cc:subject:date:message-id:reply-to; bh=Kakhf/fcwNhrj7gcBYYimsrXgOQt/XgBJBBsHEvVHxE=; b=OCTKE8DVHMDeO6zras9w3LhoPAdaZzeQfLQ7SzCt7rPc3D/PPPd5giv3CizgL8djbF FWMHKMPvROFH/R2a1Xp0m/B94kFjs8YSjIADSS+5hvdHOVpk+/LSIq8XOa3BQ4f4EEcX 9C4Y5jFBkWZAXooOGZrOoCafXS2+gnZkzXKL0= X-Google-DKIM-Signature: v=1; a=rsa-sha256; c=relaxed/relaxed; d=1e100.net; s=20230601; t=1752750124; x=1753354924; h=references:in-reply-to:cc:to:from:subject:message-id:date :x-gm-message-state:from:to:cc:subject:date:message-id:reply-to; bh=Kakhf/fcwNhrj7gcBYYimsrXgOQt/XgBJBBsHEvVHxE=; b=qfcSMfyRXfKpSTbvKujVWKstPKLBP/nvjSfcSWO0q2HnFGs7VqjWk2zjLToknG6x2b UdQlIJs1cHlbOoHTMUiDE0jdD0E0Q3p1t13au8Ul6tqxbGNVqBWtCi3FoYyOnhequewH Y/fD2rRMblTavc9y5mgn0p83UC2FXLYqQD0V/7XR4RON0lxWXVTizrYssG+haKeiiQcT nXLeANtKPn9HRyiUM9tPY7n+IIgwa/AhNgBRK/P87Fu6EPXSdh1er1tDXwzZMgFT67QH u2jqEgi+iCPOS9VAemfdI+OZbMfl0v4ozP61eh6FEOP+EUH6j1C6OGpM0zjF6SGzUuaW ZWaQ== X-Gm-Message-State: AOJu0Yy7myj+4DMU14k07HHX/LmK8RzJwxSrFf+GzwqTzRWJekz2q3eM kGnstu7IkTO9lVCZnbZZ9l7TSLIcHmJC+OnfCmUCgpwwB02KhIrcNroN1ADME7o7AG9wlAmcjuf sd6aXBk+ThWSK6HJgmyi1mpD3ePv+CRB1gPBBjaF10Nzx X-Gm-Gg: ASbGncsAphff0sHIALzaFT6PsdEfrxyurHW/H/3Uvx8NG2uDtoPnGOV2gMOsA741/7e tlyf8ZgPEvkQUMfiyHRWDwveI6Fedq8wezOu3YEPV8GOYHhVHUZNBD5mmxZcRpHPRcxBIq3vq8E JwcXPpZ/jD80zSA2RkbAOz599ACPn60I3stzwRV+FHjBoBgfatS8PWu4hJRKNrXH1K8xaAE+URo p5OhImbhEh3/CkzIug8XvR8vmVPcuxjBel+7EohPYHYwIkI8+xjpQdiclIrrbb8XerPwtSNkyXe rArIr4j/EgHnru1+qMtD34b3dMe68d0UoKiwAcGl+5M41pQQTkB8SSimkyM5kQjAMlcLV6ZD X-Google-Smtp-Source: AGHT+IEP8X4SHkeNJo5ig1qqLojlQ4qmGOJHaW3hhKF5laB558MyY8rrMggPbVX5XU+MyLpy2RHkDH2JzKYG X-Received: by 2002:a05:6e02:2707:b0:3dd:d18a:2d71 with SMTP id e9e14a558f8ab-3e282327a72mr63715825ab.2.1752750124506; Thu, 17 Jul 2025 04:02:04 -0700 (PDT) Received: from postal.iol.unh.edu (postal.iol.unh.edu. [132.177.123.84]) by smtp-relay.gmail.com with ESMTPS id 8926c6da1cb9f-5055698468csm799435173.52.2025.07.17.04.02.04 (version=TLS1_2 cipher=ECDHE-ECDSA-AES128-GCM-SHA256 bits=128/128); Thu, 17 Jul 2025 04:02:04 -0700 (PDT) X-Relaying-Domain: iol.unh.edu Date: Thu, 17 Jul 2025 04:02:04 -0700 (PDT) Message-ID: <6878d82c.050a0220.34496b.ba57SMTPIN_ADDED_MISSING@mx.google.com> Received: from [172.21.0.5] (unknown [172.18.0.240]) by postal.iol.unh.edu (Postfix) with ESMTP id EEA826051830; Thu, 17 Jul 2025 07:02:03 -0400 (EDT) Subject: |SUCCESS| pw155310 [PATCH] eal: add description of service corelist From: dpdklab@iol.unh.edu To: Test Report Cc: dpdk-test-reports@iol.unh.edu In-Reply-To: <20250717094232.2184783-1-david.marchand@redhat.com> References: <20250717094232.2184783-1-david.marchand@redhat.com> Content-Type: text/plain X-BeenThere: test-report@dpdk.org X-Mailman-Version: 2.1.29 Precedence: list List-Id: automatic DPDK test reports List-Unsubscribe: , List-Archive: List-Post: List-Help: List-Subscribe: , Errors-To: test-report-bounces@dpdk.org Test-Label: iol-unit-amd64-testing Test-Status: SUCCESS http://dpdk.org/patch/155310 _Testing PASS_ Submitter: David Marchand Date: Thursday, July 17 2025 09:42:32 DPDK git baseline: Repo:dpdk Branch: master CommitID:9fe9c0b231c8da5435bfccb1963121b4277f961c 155310 --> testing pass Upstream job id: Generic-Unit-Test-DPDK#355979 Test environment and result as below: +-------------------------------+----------------+ | Environment | dpdk_unit_test | +===============================+================+ | CentOS Stream 9 | PASS | +-------------------------------+----------------+ | CentOS Stream 10 | PASS | +-------------------------------+----------------+ | Debian GNU/Linux 12 | PASS | +-------------------------------+----------------+ | Fedora Linux 40 | PASS | +-------------------------------+----------------+ | Fedora Linux 41 | PASS | +-------------------------------+----------------+ | Red Hat Enterprise Linux 8.10 | PASS | +-------------------------------+----------------+ | Red Hat Enterprise Linux 9.5 | PASS | +-------------------------------+----------------+ | Ubuntu 20.04 | PASS | +-------------------------------+----------------+ | Ubuntu 22.04 | PASS | +-------------------------------+----------------+ | Ubuntu 24.04 | PASS | +-------------------------------+----------------+ CentOS Stream 9 Kernel: 5.15 Compiler: gcc gcc (GCC) 11.5.0 20240719 (Red Hat 11.5.0-7) CentOS Stream 10 Kernel: 5.15 Compiler: gcc gcc (GCC) 14.2.1 20250110 (Red Hat 14.2.1-8) Debian GNU/Linux 12 Kernel: 5.15 Compiler: gcc gcc (Debian 12.2.0-14+deb12u1) 12.2.0 Fedora Linux 40 Kernel: 5.15 Compiler: gcc gcc (GCC) 14.2.1 20240912 (Red Hat 14.2.1-3) Fedora Linux 41 Kernel: 5.15 Compiler: gcc gcc (GCC) 14.3.1 20250523 (Red Hat 14.3.1-1) Red Hat Enterprise Linux 8.10 Kernel: 5.15 Compiler: gcc gcc (GCC) 8.5.0 20210514 (Red Hat 8.5.0-22) Red Hat Enterprise Linux 9.5 Kernel: 5.15 Compiler: gcc gcc (GCC) 11.5.0 20240719 (Red Hat 11.5.0-2) Ubuntu 20.04 Kernel: 5.15 Compiler: gcc gcc (Ubuntu 9.4.0-1ubuntu1~20.04.2) 9.4.0 Ubuntu 22.04 Kernel: 5.15 Compiler: gcc gcc (Ubuntu 11.4.0-1ubuntu1~22.04) 11.4.0 Ubuntu 24.04 Kernel: 5.15 Compiler: gcc gcc (Ubuntu 13.3.0-6ubuntu2~24.04) 13.3.0 To view detailed results, visit: https://lab.dpdk.org/results/dashboard/patchsets/33679/ UNH-IOL DPDK Community Lab To manage your email subscriptions, visit: https://lab.dpdk.org/results/dashboard/preferences/subscriptions/