From mboxrd@z Thu Jan 1 00:00:00 1970 Return-Path: Received: from mails.dpdk.org (mails.dpdk.org [217.70.189.124]) by inbox.dpdk.org (Postfix) with ESMTP id 8CE6F46B9C for ; Thu, 17 Jul 2025 13:21:55 +0200 (CEST) Received: from mails.dpdk.org (localhost [127.0.0.1]) by mails.dpdk.org (Postfix) with ESMTP id 65BCC400EF; Thu, 17 Jul 2025 13:21:55 +0200 (CEST) Received: from mail-qv1-f100.google.com (mail-qv1-f100.google.com [209.85.219.100]) by mails.dpdk.org (Postfix) with ESMTP id D41AA400EF for ; Thu, 17 Jul 2025 13:21:53 +0200 (CEST) Received: by mail-qv1-f100.google.com with SMTP id 6a1803df08f44-704cb8b1314so5922166d6.3 for ; Thu, 17 Jul 2025 04:21:53 -0700 (PDT) DKIM-Signature: v=1; a=rsa-sha256; c=relaxed/relaxed; d=iol.unh.edu; s=unh-iol; t=1752751313; x=1753356113; darn=dpdk.org; h=references:in-reply-to:cc:to:from:subject:message-id:date:from:to :cc:subject:date:message-id:reply-to; bh=yU9RFKAwPSrC4GmWt+cjE0m3vN4SyWFscOTTw0gm6ZI=; b=QvYf9kQAKaKoYPU+n/g8rZeu5S1g8tmKTI8LOS7RzQ+Y6MNxtlrrAr70OsoaXXTIAi NnFlt5oxG6/CGhwQ42Nycxwlt+qctjnxTCchCtaCarUVAdzKKRx/6GvZsnFx1dAEAbu3 1BlaW5NdsVYa6KYyCeCUv8yyPDpzE2QDwmAVU= X-Google-DKIM-Signature: v=1; a=rsa-sha256; c=relaxed/relaxed; d=1e100.net; s=20230601; t=1752751313; x=1753356113; h=references:in-reply-to:cc:to:from:subject:message-id:date :x-gm-message-state:from:to:cc:subject:date:message-id:reply-to; bh=yU9RFKAwPSrC4GmWt+cjE0m3vN4SyWFscOTTw0gm6ZI=; b=Pc3vReRtnVAVzgy7NETzZy0dGFreT3Dx6kzBiPj/htFneErmmERkO0CxMfoIkXDXS+ rLoIvJ0iqxDK83fmvIXNp+N1fzxdeJ6i3kUNPeKA/iV/jhzznE81RKr0apCwi6U/6GoK 1lODpBcLjgZXKuKZ6a9ahDbCDtBHRJQPKaQXXNNO1NBFBd84iJ/152lGMivWt1LVF27f d3rtgD6qLXvIbhrKiaN/qOT2PJgao2xdoLi31uFD2wL5SkMTvepzn+R0bMFixWC3tTTi abs4ie9MEx0JpEuQSG/lJ9ei/EC2fq5C7dDj/aEQeF9ALJq0xJH9PUqS4ikOY5Sx43kd 42HQ== X-Gm-Message-State: AOJu0Yxf3fM2/OzoX99ixnKaQC9SoCR3GD7nPCb7Jzx2NJbvrVAmQDis cn7GKK/yLoLGb36Da8LwroeDg/ZUm/EgTQf3HtIypqkY297NaDcYdio2cLyg5yAriR9owAWl8Ob DTRDo1xgZK7O9xWQBZVkVjfaJ2CDDIEdgc1ngBTPdkRVP X-Gm-Gg: ASbGncuSOISFwrFxNz/+dKB1XeS0igYwgl3k1yteKB9wtb0zAWF4TrIZHS43TimnsEF uvy3DViTUofExKohJR2HdTEJRkmUYIMOScTk8jam1KC0Hu+k3ocewce/Ifa0Ztzpzg+D6mVtDmT scecyPGdSDqwnn+c7xVecV0DwwO+join0Ye+IJ0QG3fAbHhUdgMwZAZuYU0uI8lZTRDplsqBktY S+EE+p/lJc+0mMmvq6CyoCVNzqP2+A7MgsFBoobTl4pPQ57ssGcdBBVMBE4ZRuJJoeh2hgWUx8e t1PXKBJCoZAHhbKJ5wPZaQLuknxZp1PiG7EXLOOAImi5vhJfKOeadL9WSDujSKL9rj+oIPdO X-Google-Smtp-Source: AGHT+IEPxAPTOQzpK+MKidaLk0cDxpo3gRX3UWd1ypiTYtZcgEiDorrTYHC4BKDu6pUhvJ/tvkijtOwTNOCs X-Received: by 2002:a05:6214:29e9:b0:704:904e:53a5 with SMTP id 6a1803df08f44-704f6aa02dfmr104942606d6.23.1752751312801; Thu, 17 Jul 2025 04:21:52 -0700 (PDT) Received: from postal.iol.unh.edu (postal.iol.unh.edu. [132.177.123.84]) by smtp-relay.gmail.com with ESMTPS id d75a77b69052e-4ab71bedb7asm3832491cf.17.2025.07.17.04.21.52 (version=TLS1_2 cipher=ECDHE-ECDSA-AES128-GCM-SHA256 bits=128/128); Thu, 17 Jul 2025 04:21:52 -0700 (PDT) X-Relaying-Domain: iol.unh.edu Date: Thu, 17 Jul 2025 04:21:52 -0700 (PDT) Message-ID: <6878dcd0.050a0220.387324.4861SMTPIN_ADDED_MISSING@mx.google.com> Received: from [172.21.0.6] (unknown [172.18.0.240]) by postal.iol.unh.edu (Postfix) with ESMTP id 64FEA6051830; Thu, 17 Jul 2025 07:21:52 -0400 (EDT) Subject: |SUCCESS| pw155310 [PATCH] eal: add description of service corelist From: dpdklab@iol.unh.edu To: Test Report Cc: dpdk-test-reports@iol.unh.edu In-Reply-To: <20250717094232.2184783-1-david.marchand@redhat.com> References: <20250717094232.2184783-1-david.marchand@redhat.com> Content-Type: text/plain X-BeenThere: test-report@dpdk.org X-Mailman-Version: 2.1.29 Precedence: list List-Id: automatic DPDK test reports List-Unsubscribe: , List-Archive: List-Post: List-Help: List-Subscribe: , Errors-To: test-report-bounces@dpdk.org Test-Label: iol-abi-testing Test-Status: SUCCESS http://dpdk.org/patch/155310 _Testing PASS_ Submitter: David Marchand Date: Thursday, July 17 2025 09:42:32 DPDK git baseline: Repo:dpdk Branch: master CommitID:9fe9c0b231c8da5435bfccb1963121b4277f961c 155310 --> testing pass Upstream job id: Generic-DPDK-Compile-ABI#134645 Test environment and result as below: +-------------------------------+----------+ | Environment | abi_test | +===============================+==========+ | CentOS Stream 10 | PASS | +-------------------------------+----------+ | Fedora Linux 40 | PASS | +-------------------------------+----------+ | Fedora Linux 41 | PASS | +-------------------------------+----------+ | Debian GNU/Linux 12 | PASS | +-------------------------------+----------+ | openSUSE Leap 15.6 | PASS | +-------------------------------+----------+ | Ubuntu 22.04 | PASS | +-------------------------------+----------+ | Red Hat Enterprise Linux 9.5 | PASS | +-------------------------------+----------+ | Red Hat Enterprise Linux 8.10 | PASS | +-------------------------------+----------+ | Ubuntu 24.04 | PASS | +-------------------------------+----------+ | CentOS Stream 9 | PASS | +-------------------------------+----------+ CentOS Stream 10 Kernel: 5.15 Compiler: gcc gcc (GCC) 14.2.1 20250110 (Red Hat 14.2.1-8) Fedora Linux 40 Kernel: 5.15 Compiler: clang gcc (GCC) 14.2.1 20240912 (Red Hat 14.2.1-3) Fedora Linux 41 Kernel: 5.15 Compiler: gcc gcc (GCC) 14.3.1 20250523 (Red Hat 14.3.1-1) Debian GNU/Linux 12 Kernel: 5.15 Compiler: gcc gcc (Debian 12.2.0-14+deb12u1) 12.2.0 openSUSE Leap 15.6 Kernel: 5.15 Compiler: gcc gcc (SUSE Linux) 7.5.0 Ubuntu 22.04 Kernel: 5.15 Compiler: gcc gcc (Ubuntu 11.4.0-1ubuntu1~22.04) 11.4.0 Red Hat Enterprise Linux 9.5 Kernel: 5.15 Compiler: gcc gcc (GCC) 11.5.0 20240719 (Red Hat 11.5.0-2) Red Hat Enterprise Linux 8.10 Kernel: 5.15 Compiler: gcc gcc (GCC) 8.5.0 20210514 (Red Hat 8.5.0-22) Ubuntu 24.04 Kernel: 5.15 Compiler: gcc gcc (Ubuntu 13.3.0-6ubuntu2~24.04) 13.3.0 CentOS Stream 9 Kernel: 5.15 Compiler: gcc gcc (GCC) 11.5.0 20240719 (Red Hat 11.5.0-7) To view detailed results, visit: https://lab.dpdk.org/results/dashboard/patchsets/33679/ UNH-IOL DPDK Community Lab To manage your email subscriptions, visit: https://lab.dpdk.org/results/dashboard/preferences/subscriptions/