From mboxrd@z Thu Jan 1 00:00:00 1970 Return-Path: Received: from mails.dpdk.org (mails.dpdk.org [217.70.189.124]) by inbox.dpdk.org (Postfix) with ESMTP id 8B3A046B9C for ; Thu, 17 Jul 2025 13:22:47 +0200 (CEST) Received: from mails.dpdk.org (localhost [127.0.0.1]) by mails.dpdk.org (Postfix) with ESMTP id 85742400EF; Thu, 17 Jul 2025 13:22:47 +0200 (CEST) Received: from mail-pf1-f227.google.com (mail-pf1-f227.google.com [209.85.210.227]) by mails.dpdk.org (Postfix) with ESMTP id 0BE02400EF for ; Thu, 17 Jul 2025 13:22:46 +0200 (CEST) Received: by mail-pf1-f227.google.com with SMTP id d2e1a72fcca58-74af4af04fdso1359606b3a.1 for ; Thu, 17 Jul 2025 04:22:45 -0700 (PDT) DKIM-Signature: v=1; a=rsa-sha256; c=relaxed/relaxed; d=iol.unh.edu; s=unh-iol; t=1752751365; x=1753356165; darn=dpdk.org; h=references:in-reply-to:cc:to:from:subject:message-id:date:from:to :cc:subject:date:message-id:reply-to; bh=EO8K5ACPS/AfAJBJLP+lBkm6z587XmkBcX3FoKDna+k=; b=hcZEc4qokTU8IHdRa6FTaIJ265B1tNiP0jt4HS3T9QEOaIJ3hfkTcvR4I+Fl8AfdHS U6NrxPsH3l2alYUkVQ/XIw1dqfeSL4v7Q/pG8MzTsLDIc4uu+XlBLg9JxZOrC7Td7OUH n3lMEw6zZ1uRh2E4VIiCcThNXmf5s+Q/UZ+NI= X-Google-DKIM-Signature: v=1; a=rsa-sha256; c=relaxed/relaxed; d=1e100.net; s=20230601; t=1752751365; x=1753356165; h=references:in-reply-to:cc:to:from:subject:message-id:date :x-gm-message-state:from:to:cc:subject:date:message-id:reply-to; bh=EO8K5ACPS/AfAJBJLP+lBkm6z587XmkBcX3FoKDna+k=; b=OEMEvhmbM9XReXBQy9NM1hBgXFK659/QBOgtnnt50HohotT4s6wUjGJkEksYaLq4o7 qEOX6Oo8DKbCsIyomxM1PEqFOT4NW0BzQllTvL/Q7Ls6jjKfdR+aDnpTqCVasBXYtQzE YMAr6EFVrW2psyRY0y3ULT64sjEsqCeBGofnFWIUmvqhGLa1fFmsN0zK90mc0FpNEMql hqbYyXySSOo77DJcC4bubOdPMV6Hq8uOC2JZ7SnmZ28zJYKyQa/6oIEO9JxEOKwadOa4 fMBjw9VAfHd3si/d+F2Rf/om27rjWr2gku0EDn79MFKc65S5edN4UUxLsb99WqFiZmdM aKxg== X-Gm-Message-State: AOJu0YxE7MSIkPYaW80v7cMdOYyDf+OrDYZ6VjB55/uzM5qUxTNwv2zc iNAD0A0uXV/X+D2HDqU6peBp946x0uuvsjGAHDa7kgVLbD817buDe6DPwkhSiZPp0F2PHTr/2FE akUSBtXZewKfrPfokzNFK95Mqc2AWiQ2QG9lzQhQIvx2f X-Gm-Gg: ASbGnculGjXjUb2So2R9PXnAHYgH/9O8OXkmHWej3XKhdYJEJXOrXQO2xk342a+h6Jq 2+FA8RqYVa8VkA1LNc5VZakWqRDHDIGMUiwNW2KMTirfG3Sfh+04P3NrWFpAL+ExM8mR+d94r+W JYhbpKjPKtyj6UQhgrmPQCS9Ikhd65OHNYwzcsZpYPzy7SQeuCiFhZrwCnfVcvxkO7/fP3MeLiK IOlTyKr7+PdTmIuetN7vZyUrZorPOvah4FTttR+UlWVIbLzBz1zeKZIRSBmiUoky8BBFtSspNL0 EyNsvt0ic4ZAyXNpuRdwZ+cQreZtqQVBK3HzCKU0A26qrt/7KEj1I3jqC+LHjUPaPe6Mos7g X-Google-Smtp-Source: AGHT+IGxV9iuQGMwTVQ7ocEROO/UWqMpF0hWwa/S/MkGF1rU8zwDAuB2vXpVprXLyETKbZBSqtdaQwOMacEm X-Received: by 2002:a05:6a21:68a:b0:234:efd:9f39 with SMTP id adf61e73a8af0-2390c80c181mr4811919637.19.1752751364963; Thu, 17 Jul 2025 04:22:44 -0700 (PDT) Received: from postal.iol.unh.edu (postal.iol.unh.edu. [132.177.123.84]) by smtp-relay.gmail.com with ESMTPS id 41be03b00d2f7-b3bbe59a740sm871114a12.13.2025.07.17.04.22.44 (version=TLS1_2 cipher=ECDHE-ECDSA-AES128-GCM-SHA256 bits=128/128); Thu, 17 Jul 2025 04:22:44 -0700 (PDT) X-Relaying-Domain: iol.unh.edu Date: Thu, 17 Jul 2025 04:22:44 -0700 (PDT) Message-ID: <6878dd04.630a0220.f9f1a.d6d3SMTPIN_ADDED_MISSING@mx.google.com> Received: from [172.21.0.6] (unknown [172.18.0.240]) by postal.iol.unh.edu (Postfix) with ESMTP id 39AB86051830; Thu, 17 Jul 2025 07:22:44 -0400 (EDT) Subject: |SUCCESS| pw155310 [PATCH] eal: add description of service corelist From: dpdklab@iol.unh.edu To: Test Report Cc: dpdk-test-reports@iol.unh.edu In-Reply-To: <20250717094232.2184783-1-david.marchand@redhat.com> References: <20250717094232.2184783-1-david.marchand@redhat.com> Content-Type: text/plain X-BeenThere: test-report@dpdk.org X-Mailman-Version: 2.1.29 Precedence: list List-Id: automatic DPDK test reports List-Unsubscribe: , List-Archive: List-Post: List-Help: List-Subscribe: , Errors-To: test-report-bounces@dpdk.org Test-Label: iol-abi-testing Test-Status: SUCCESS http://dpdk.org/patch/155310 _Testing PASS_ Submitter: David Marchand Date: Thursday, July 17 2025 09:42:32 DPDK git baseline: Repo:dpdk Branch: master CommitID:9fe9c0b231c8da5435bfccb1963121b4277f961c 155310 --> testing pass Upstream job id: Generic-DPDK-Compile-ABI#134649 Test environment and result as below: +-------------------------------+----------+ | Environment | abi_test | +===============================+==========+ | CentOS Stream 10 | PASS | +-------------------------------+----------+ | Fedora Linux 40 | PASS | +-------------------------------+----------+ | Fedora Linux 41 | PASS | +-------------------------------+----------+ | Debian GNU/Linux 12 | PASS | +-------------------------------+----------+ | openSUSE Leap 15.6 | PASS | +-------------------------------+----------+ | Ubuntu 22.04 | PASS | +-------------------------------+----------+ | Red Hat Enterprise Linux 9.5 | PASS | +-------------------------------+----------+ | Red Hat Enterprise Linux 8.10 | PASS | +-------------------------------+----------+ | Ubuntu 24.04 | PASS | +-------------------------------+----------+ | CentOS Stream 9 | PASS | +-------------------------------+----------+ CentOS Stream 10 Kernel: 5.15 Compiler: gcc gcc (GCC) 14.2.1 20250110 (Red Hat 14.2.1-8) Fedora Linux 40 Kernel: 5.15 Compiler: clang gcc (GCC) 14.2.1 20240912 (Red Hat 14.2.1-3) Fedora Linux 41 Kernel: 5.15 Compiler: gcc gcc (GCC) 14.3.1 20250523 (Red Hat 14.3.1-1) Debian GNU/Linux 12 Kernel: 5.15 Compiler: gcc gcc (Debian 12.2.0-14+deb12u1) 12.2.0 openSUSE Leap 15.6 Kernel: 5.15 Compiler: gcc gcc (SUSE Linux) 7.5.0 Ubuntu 22.04 Kernel: 5.15 Compiler: gcc gcc (Ubuntu 11.4.0-1ubuntu1~22.04) 11.4.0 Red Hat Enterprise Linux 9.5 Kernel: 5.15 Compiler: gcc gcc (GCC) 11.5.0 20240719 (Red Hat 11.5.0-2) Red Hat Enterprise Linux 8.10 Kernel: 5.15 Compiler: gcc gcc (GCC) 8.5.0 20210514 (Red Hat 8.5.0-22) Ubuntu 24.04 Kernel: 5.15 Compiler: gcc gcc (Ubuntu 13.3.0-6ubuntu2~24.04) 13.3.0 CentOS Stream 9 Kernel: 5.15 Compiler: gcc gcc (GCC) 11.5.0 20240719 (Red Hat 11.5.0-7) To view detailed results, visit: https://lab.dpdk.org/results/dashboard/patchsets/33679/ UNH-IOL DPDK Community Lab To manage your email subscriptions, visit: https://lab.dpdk.org/results/dashboard/preferences/subscriptions/