From mboxrd@z Thu Jan 1 00:00:00 1970 Return-Path: Received: from mails.dpdk.org (mails.dpdk.org [217.70.189.124]) by inbox.dpdk.org (Postfix) with ESMTP id 6284646B9C for ; Thu, 17 Jul 2025 13:41:46 +0200 (CEST) Received: from mails.dpdk.org (localhost [127.0.0.1]) by mails.dpdk.org (Postfix) with ESMTP id 4D077400EF; Thu, 17 Jul 2025 13:41:46 +0200 (CEST) Received: from mail-pl1-f226.google.com (mail-pl1-f226.google.com [209.85.214.226]) by mails.dpdk.org (Postfix) with ESMTP id 4E972400EF for ; Thu, 17 Jul 2025 13:41:44 +0200 (CEST) Received: by mail-pl1-f226.google.com with SMTP id d9443c01a7336-2350fc2591dso8833985ad.1 for ; Thu, 17 Jul 2025 04:41:44 -0700 (PDT) DKIM-Signature: v=1; a=rsa-sha256; c=relaxed/relaxed; d=iol.unh.edu; s=unh-iol; t=1752752503; x=1753357303; darn=dpdk.org; h=references:in-reply-to:cc:to:from:subject:message-id:date:from:to :cc:subject:date:message-id:reply-to; bh=LvxBPoNGK0Dd5hqVJFpD8il9pqbb1WGzBcNg3daiTiA=; b=KnckSMO5/+Zgf911/7rdhkkNzgTJKIe692rvFH9x9onA+1QlA0Wz4MFdYnbNp3bv08 AGZu5F6miAzLOITjzMoioxn1ek9VvK6S/bvEoMUjjx626JPyGadFtnTW7+ZVIkD5pvTS feCnCxmZXrEoU6WDMCAjdmz/RdkSOqka+ak5I= X-Google-DKIM-Signature: v=1; a=rsa-sha256; c=relaxed/relaxed; d=1e100.net; s=20230601; t=1752752503; x=1753357303; h=references:in-reply-to:cc:to:from:subject:message-id:date :x-gm-message-state:from:to:cc:subject:date:message-id:reply-to; bh=LvxBPoNGK0Dd5hqVJFpD8il9pqbb1WGzBcNg3daiTiA=; b=CQQHYDQ0Uxju2EopCTVyzmv2Rsdu7FnrjRiOHgCfg3V1b76nFcXCy+KFfWg+W9WjpS H05x0dSDPByHf0nB5gnxLtTStEYIEzfRdOYjtxF0ppRwrIiNKpL5CqRVDOPk1/ta/Hej uNEEYOW3PsvotL1EGHYD/pU1ox23EjDd3BRxr4Qe4JSGS7OrbwF84ZT0fJ0xJ2dHKY/l 4YDanSoDSqCmIq5CvE455HTQaZHCKx1lGA1bSBGxqQ1XqJbw/3zjPwE1INdtFTXDcoOp U2dfPvArdur+AkurZsOo3PmbFAGDxg2dM+O8NWQyRGUVF0XIYE3/T97E2/F/wE59/BLU SvuA== X-Gm-Message-State: AOJu0Yy/7F2KeDaIN+GJRt94G0JPiH4uMNkCQK506f3wHW/8SCDFfoy9 AjnlFO7yPK68ghwr5eEFwMJHPBRWrIvl3po+AurWQ3FPK4Z0VA34uAt0dG1xezmPHsPIetyJs7m IfiA2JvI8VYkDeZhpb48+kE8CVewAN8vNhzxUo5wicQALAUk6rwQ2+Dh++aV1 X-Gm-Gg: ASbGncvuDquvYd7bD0+5j9xglbqf+bY70HYxKRWS5AIFcHpqyyr+oGEp03WbFRkSCOt p/8ssDrISTQRqgKoAhpuZ/QQp7WKCo4BHzz/ZQivXIu5jLIgJ/GOK8CPud8iX2MC8g3WGLK2y4M Jv88lGrKygnVP4T7f4JTM+ZLRrW5pXuizLMElGaHQtnnnp/4Ge0avhzFOllNGI6uhKbDQS7rm2D gmPLzYPFDvi7kEeLYp8oGi4RVHfdXQx4y3z2APRIa3WO2/u1gbgSjClKc59xxgszZAdQdaJGsam iTjFNs/S6eNuTw7t+9ZPOfICzlJ/0i4cFruNHUvw549FG6Gz1Q== X-Google-Smtp-Source: AGHT+IGCBg4AHTkn4wFBboQaN8VdSj1Mvs2Ao1XqQlTwyAwf/uW0OEQdTD/CY3RAGhHXOJ8lNtO3wCEVzn6p X-Received: by 2002:a17:903:3d4b:b0:23d:f133:a78d with SMTP id d9443c01a7336-23e2f728352mr28487975ad.15.1752752503448; Thu, 17 Jul 2025 04:41:43 -0700 (PDT) Received: from postal.iol.unh.edu (postal.iol.unh.edu. [2606:4100:3880:1234::84]) by smtp-relay.gmail.com with ESMTPS id d9443c01a7336-23dfda62aedsm6396325ad.68.2025.07.17.04.41.43 (version=TLS1_2 cipher=ECDHE-ECDSA-AES128-GCM-SHA256 bits=128/128); Thu, 17 Jul 2025 04:41:43 -0700 (PDT) X-Relaying-Domain: iol.unh.edu Date: Thu, 17 Jul 2025 04:41:43 -0700 (PDT) Message-ID: <6878e177.170a0220.f8ab1.1adbSMTPIN_ADDED_MISSING@mx.google.com> Received: from [172.21.0.5] (unknown [172.18.0.240]) by postal.iol.unh.edu (Postfix) with ESMTP id 8F59B6051830; Thu, 17 Jul 2025 07:41:42 -0400 (EDT) Subject: |SUCCESS| pw155310 [PATCH] eal: add description of service corelist From: dpdklab@iol.unh.edu To: Test Report Cc: dpdk-test-reports@iol.unh.edu In-Reply-To: <20250717094232.2184783-1-david.marchand@redhat.com> References: <20250717094232.2184783-1-david.marchand@redhat.com> Content-Type: text/plain X-BeenThere: test-report@dpdk.org X-Mailman-Version: 2.1.29 Precedence: list List-Id: automatic DPDK test reports List-Unsubscribe: , List-Archive: List-Post: List-Help: List-Subscribe: , Errors-To: test-report-bounces@dpdk.org Test-Label: iol-unit-arm64-testing Test-Status: SUCCESS http://dpdk.org/patch/155310 _Testing PASS_ Submitter: David Marchand Date: Thursday, July 17 2025 09:42:32 DPDK git baseline: Repo:dpdk Branch: master CommitID:9fe9c0b231c8da5435bfccb1963121b4277f961c 155310 --> testing pass Upstream job id: Generic-Unit-Test-DPDK#355975 Test environment and result as below: +------------------------------+---------------------------+--------------+------------------------------+----------------+ | Environment | cryptodev_sw_zuc_autotest | lpm_autotest | cryptodev_sw_snow3g_autotest | dpdk_unit_test | +==============================+===========================+==============+==============================+================+ | Debian 12 (arm) | PASS | SKIPPED | PASS | SKIPPED | +------------------------------+---------------------------+--------------+------------------------------+----------------+ | Ubuntu 20.04 | SKIPPED | PASS | SKIPPED | PASS | +------------------------------+---------------------------+--------------+------------------------------+----------------+ | CentOS Stream 9 | SKIPPED | SKIPPED | SKIPPED | PASS | +------------------------------+---------------------------+--------------+------------------------------+----------------+ | CentOS Stream 10 | SKIPPED | SKIPPED | SKIPPED | PASS | +------------------------------+---------------------------+--------------+------------------------------+----------------+ | Debian GNU/Linux 12 | SKIPPED | SKIPPED | SKIPPED | PASS | +------------------------------+---------------------------+--------------+------------------------------+----------------+ | Fedora Linux 40 | SKIPPED | SKIPPED | SKIPPED | PASS | +------------------------------+---------------------------+--------------+------------------------------+----------------+ | Fedora Linux 41 | SKIPPED | SKIPPED | SKIPPED | PASS | +------------------------------+---------------------------+--------------+------------------------------+----------------+ | Ubuntu 22.04 | SKIPPED | SKIPPED | SKIPPED | PASS | +------------------------------+---------------------------+--------------+------------------------------+----------------+ | Red Hat Enterprise Linux 9.5 | SKIPPED | SKIPPED | SKIPPED | PASS | +------------------------------+---------------------------+--------------+------------------------------+----------------+ | Ubuntu 24.04 | SKIPPED | SKIPPED | SKIPPED | PASS | +------------------------------+---------------------------+--------------+------------------------------+----------------+ Debian 12 (arm) Kernel: Depends on container host Compiler: gcc (Debian 12.2.0-14) 12.2.0 Ubuntu 20.04 Kernel: 5.4 Compiler: gcc gcc (Ubuntu 9.4.0-1ubuntu1~20.04.2) 9.4.0 CentOS Stream 9 Kernel: 5.4 Compiler: gcc gcc (GCC) 11.5.0 20240719 (Red Hat 11.5.0-7) CentOS Stream 10 Kernel: 5.4 Compiler: gcc gcc (GCC) 14.2.1 20250110 (Red Hat 14.2.1-8) Debian GNU/Linux 12 Kernel: 5.4 Compiler: gcc gcc (Debian 12.2.0-14+deb12u1) 12.2.0 Fedora Linux 40 Kernel: 5.4 Compiler: gcc gcc (GCC) 14.2.1 20240912 (Red Hat 14.2.1-3) Fedora Linux 41 Kernel: 5.4 Compiler: gcc gcc (GCC) 14.3.1 20250523 (Red Hat 14.3.1-1) Ubuntu 22.04 Kernel: 5.4 Compiler: gcc gcc (Ubuntu 11.4.0-1ubuntu1~22.04) 11.4.0 Red Hat Enterprise Linux 9.5 Kernel: 5.4 Compiler: gcc gcc (GCC) 11.5.0 20240719 (Red Hat 11.5.0-2) Ubuntu 24.04 Kernel: 5.4 Compiler: gcc gcc (Ubuntu 13.3.0-6ubuntu2~24.04) 13.3.0 To view detailed results, visit: https://lab.dpdk.org/results/dashboard/patchsets/33679/ UNH-IOL DPDK Community Lab To manage your email subscriptions, visit: https://lab.dpdk.org/results/dashboard/preferences/subscriptions/