From mboxrd@z Thu Jan 1 00:00:00 1970 Return-Path: Received: from mails.dpdk.org (mails.dpdk.org [217.70.189.124]) by inbox.dpdk.org (Postfix) with ESMTP id C3F1646B9C for ; Thu, 17 Jul 2025 13:53:44 +0200 (CEST) Received: from mails.dpdk.org (localhost [127.0.0.1]) by mails.dpdk.org (Postfix) with ESMTP id BCA57400EF; Thu, 17 Jul 2025 13:53:44 +0200 (CEST) Received: from mail-qt1-f228.google.com (mail-qt1-f228.google.com [209.85.160.228]) by mails.dpdk.org (Postfix) with ESMTP id C4FCC400EF for ; Thu, 17 Jul 2025 13:53:42 +0200 (CEST) Received: by mail-qt1-f228.google.com with SMTP id d75a77b69052e-4ab93f24dc3so16189441cf.0 for ; Thu, 17 Jul 2025 04:53:42 -0700 (PDT) DKIM-Signature: v=1; a=rsa-sha256; c=relaxed/relaxed; d=iol.unh.edu; s=unh-iol; t=1752753222; x=1753358022; darn=dpdk.org; h=references:in-reply-to:cc:to:from:subject:message-id:date:from:to :cc:subject:date:message-id:reply-to; bh=0QI9dQo5UK0KezWJZAy6mz29j6QN/J9R6trJ3q3XrPs=; b=aS2dzS7Sn1oiCoFTj3RAh3Ka2UQXVsSJMVNlOjBPQp0x1/ypVlvfAgv1fQ9GJ+DKaM CF9iXEraw4b+SMg7+Zp4v3exWhcEwkT0ctE2rdh3WIhlNuN7y0+LXMp/ieIeEZmMBD+Y bHS7a4+E1Oo3gcka9jUdBkhQTXGePeCU/jJRQ= X-Google-DKIM-Signature: v=1; a=rsa-sha256; c=relaxed/relaxed; d=1e100.net; s=20230601; t=1752753222; x=1753358022; h=references:in-reply-to:cc:to:from:subject:message-id:date :x-gm-message-state:from:to:cc:subject:date:message-id:reply-to; bh=0QI9dQo5UK0KezWJZAy6mz29j6QN/J9R6trJ3q3XrPs=; b=IuK6DTyvbWmpaRGx/8INfC3AolS6nyI13VnKLhTgWIsvjWjVniwmRCfF5fYi/muqXj zfJeVxo5cCC+w4hUCRgJcOi/bx44TVbn2aYECU8EMZTwoQMT/wElsz/+Fe0M/TXActVI 8cV0tLfDdxO3RD9M4WoLP9M7djukLbGxzTDPcFDYUuzORTWnlXtuUprPDk46gd72puLG ZUnMKjmPteESmHyMfDAcRcTErjYaqwPIR3vArlQzHBqDqYMWRypxCIsomkugcrwhV8/w DgGEiZ0/LX2rC/foUiVEINjFU5SErzw6MxLqJnm4gejFgkQOskTZ3Yj7gmdsovL5EkB/ KVRA== X-Gm-Message-State: AOJu0Yx5REGlfbTroOnQS5qgg/H1bkey8EvEHg9+bv3Fioka0EpP2yQx G91WHMfydbnrOFKRA+6PBtjYIWQ+vs6OyF5/SwjeVjMu9QiSxx4ALezfo17LsVOSMlkCw1VTn4h A5PMB9S5nR3tdbKuSiEAsbtOhD+zBKrssP1axcEa+jOTq2kl2JAcgGaemLxYN X-Gm-Gg: ASbGncuRLdBnLVRq9uBpAIXJ1JiE1rBr3rXJ/dE1ez4wvbgeYGJrs1q3WwUpyAzG1HO CM6PLAPo3UnP6JsW5vlNyWC+QpVCukX+yU51FRY2mcPMs4XHsHUH0PilA1zSdDFTE43XQbs6CAH AUrIJOP2I3KuaBses7Y/2/dwmvR7NTb1iTiv8PICuk5Ltw+AhtEnuRX1wlggwM7OlcFFiv3418m nJYRGGmxnK3v5zGvSawlj+Ca6HtCh9b9bn/9Xfh4s7eT8dClQTtxTCzsjSLj4vlExlINHRb8LIg fy76Ogz/5LMT0a1DePjR3fFvp8OISMp1RuoR+fuHqscly4MhaA== X-Google-Smtp-Source: AGHT+IG+cy7MN6nPAYXH96IZLhUP2iXi8UWtR6tN2uTgBmNVTTeABf8zgegwP40OpR/AdqOUpnZaoADUYRDF X-Received: by 2002:a05:622a:1b1c:b0:4a6:f51e:a00 with SMTP id d75a77b69052e-4ab90b1cba4mr87077791cf.30.1752753222064; Thu, 17 Jul 2025 04:53:42 -0700 (PDT) Received: from postal.iol.unh.edu (postal.iol.unh.edu. [2606:4100:3880:1234::84]) by smtp-relay.gmail.com with ESMTPS id d75a77b69052e-4ab7339125csm3955251cf.12.2025.07.17.04.53.41 (version=TLS1_2 cipher=ECDHE-ECDSA-AES128-GCM-SHA256 bits=128/128); Thu, 17 Jul 2025 04:53:42 -0700 (PDT) X-Relaying-Domain: iol.unh.edu Date: Thu, 17 Jul 2025 04:53:42 -0700 (PDT) Message-ID: <6878e446.050a0220.89cf6.42b3SMTPIN_ADDED_MISSING@mx.google.com> Received: from [172.21.0.5] (unknown [172.18.0.240]) by postal.iol.unh.edu (Postfix) with ESMTP id A0EB36051830; Thu, 17 Jul 2025 07:53:41 -0400 (EDT) Subject: |SUCCESS| pw155310 [PATCH] eal: add description of service corelist From: dpdklab@iol.unh.edu To: Test Report Cc: dpdk-test-reports@iol.unh.edu In-Reply-To: <20250717094232.2184783-1-david.marchand@redhat.com> References: <20250717094232.2184783-1-david.marchand@redhat.com> Content-Type: text/plain X-BeenThere: test-report@dpdk.org X-Mailman-Version: 2.1.29 Precedence: list List-Id: automatic DPDK test reports List-Unsubscribe: , List-Archive: List-Post: List-Help: List-Subscribe: , Errors-To: test-report-bounces@dpdk.org Test-Label: iol-compile-amd64-testing Test-Status: SUCCESS http://dpdk.org/patch/155310 _Testing PASS_ Submitter: David Marchand Date: Thursday, July 17 2025 09:42:32 DPDK git baseline: Repo:dpdk Branch: master CommitID:9fe9c0b231c8da5435bfccb1963121b4277f961c 155310 --> testing pass Upstream job id: Generic-DPDK-Compile-Meson#409421 Test environment and result as below: +-------------------------------+--------------------+-------------------+------------------+ | Environment | dpdk_meson_compile | dpdk_compile_spdk | dpdk_compile_ovs | +===============================+====================+===================+==================+ | CentOS Stream 9 | PASS | PASS | SKIPPED | +-------------------------------+--------------------+-------------------+------------------+ | Fedora Linux 40 | PASS | PASS | SKIPPED | +-------------------------------+--------------------+-------------------+------------------+ | Debian GNU/Linux 12 | PASS | PASS | SKIPPED | +-------------------------------+--------------------+-------------------+------------------+ | CentOS Stream 10 | PASS | SKIPPED | SKIPPED | +-------------------------------+--------------------+-------------------+------------------+ | openSUSE Leap 15.6 | PASS | SKIPPED | SKIPPED | +-------------------------------+--------------------+-------------------+------------------+ | Red Hat Enterprise Linux 9.5 | PASS | SKIPPED | SKIPPED | +-------------------------------+--------------------+-------------------+------------------+ | Red Hat Enterprise Linux 8.10 | PASS | SKIPPED | SKIPPED | +-------------------------------+--------------------+-------------------+------------------+ | Fedora Linux 41 | PASS | PASS | PASS | +-------------------------------+--------------------+-------------------+------------------+ | Ubuntu 20.04 | PASS | SKIPPED | SKIPPED | +-------------------------------+--------------------+-------------------+------------------+ | Ubuntu 22.04 | PASS | PASS | SKIPPED | +-------------------------------+--------------------+-------------------+------------------+ | Ubuntu 24.04 | PASS | PASS | PASS | +-------------------------------+--------------------+-------------------+------------------+ | Alpine Linux 3.22.0 | PASS | SKIPPED | SKIPPED | +-------------------------------+--------------------+-------------------+------------------+ | FreeBSD 14.2 | PASS | SKIPPED | SKIPPED | +-------------------------------+--------------------+-------------------+------------------+ CentOS Stream 9 Kernel: 5.15 Compiler: gcc gcc (GCC) 11.5.0 20240719 (Red Hat 11.5.0-7) Fedora Linux 40 Kernel: 5.15 Compiler: gcc gcc (GCC) 14.2.1 20240912 (Red Hat 14.2.1-3) Debian GNU/Linux 12 Kernel: 5.15 Compiler: gcc gcc (Debian 12.2.0-14+deb12u1) 12.2.0 CentOS Stream 10 Kernel: 5.15 Compiler: gcc gcc (GCC) 14.2.1 20250110 (Red Hat 14.2.1-8) openSUSE Leap 15.6 Kernel: 5.15 Compiler: gcc gcc (SUSE Linux) 7.5.0 Red Hat Enterprise Linux 9.5 Kernel: 5.15 Compiler: gcc gcc (GCC) 11.5.0 20240719 (Red Hat 11.5.0-2) Red Hat Enterprise Linux 8.10 Kernel: 5.15 Compiler: gcc gcc (GCC) 8.5.0 20210514 (Red Hat 8.5.0-22) Fedora Linux 41 Kernel: 5.15 Compiler: gcc gcc (GCC) 14.3.1 20250523 (Red Hat 14.3.1-1) Ubuntu 20.04 Kernel: 5.15 Compiler: gcc gcc (Ubuntu 9.4.0-1ubuntu1~20.04.2) 9.4.0 Ubuntu 22.04 Kernel: 5.15 Compiler: gcc gcc (Ubuntu 11.4.0-1ubuntu1~22.04) 11.4.0 Ubuntu 24.04 Kernel: 5.15 Compiler: gcc gcc (Ubuntu 13.3.0-6ubuntu2~24.04) 13.3.0 Alpine Linux 3.22.0 Kernel: 5.15 Compiler: gcc gcc (Alpine 14.2.0) 14.2.0 FreeBSD 14.2 Kernel: 14.2-RELEASE Compiler: clang 18.1.6 To view detailed results, visit: https://lab.dpdk.org/results/dashboard/patchsets/33679/ UNH-IOL DPDK Community Lab To manage your email subscriptions, visit: https://lab.dpdk.org/results/dashboard/preferences/subscriptions/