From mboxrd@z Thu Jan 1 00:00:00 1970 Return-Path: Received: from mails.dpdk.org (mails.dpdk.org [217.70.189.124]) by inbox.dpdk.org (Postfix) with ESMTP id 9427346B9D for ; Thu, 17 Jul 2025 14:15:08 +0200 (CEST) Received: from mails.dpdk.org (localhost [127.0.0.1]) by mails.dpdk.org (Postfix) with ESMTP id 8CBC3400EF; Thu, 17 Jul 2025 14:15:08 +0200 (CEST) Received: from mail-pl1-f225.google.com (mail-pl1-f225.google.com [209.85.214.225]) by mails.dpdk.org (Postfix) with ESMTP id 33AF7400EF for ; Thu, 17 Jul 2025 14:15:07 +0200 (CEST) Received: by mail-pl1-f225.google.com with SMTP id d9443c01a7336-2350b1b9129so5607445ad.0 for ; Thu, 17 Jul 2025 05:15:07 -0700 (PDT) DKIM-Signature: v=1; a=rsa-sha256; c=relaxed/relaxed; d=iol.unh.edu; s=unh-iol; t=1752754506; x=1753359306; darn=dpdk.org; h=references:in-reply-to:cc:to:from:subject:message-id:date:from:to :cc:subject:date:message-id:reply-to; bh=clSRBCD64TwK/G6U9wEkBH8w6uOn+rg7vgsIZzeG0cs=; b=MOqJXzdRX9iohWAc1zHKHi32liRwcZtj85KpeWt8YVomcWwbY757YztDohUPCmoKVQ 3rrjgdhhmqGqBs6iiK2kpTMkaeJNX/oEiEDYQGXYZykbHMoQiXBCAvxwYeWxavemSQMG n2NZI7qC18UQM70sG0cl0W+WMDBX5lQ6K0D6A= X-Google-DKIM-Signature: v=1; a=rsa-sha256; c=relaxed/relaxed; d=1e100.net; s=20230601; t=1752754506; x=1753359306; h=references:in-reply-to:cc:to:from:subject:message-id:date :x-gm-message-state:from:to:cc:subject:date:message-id:reply-to; bh=clSRBCD64TwK/G6U9wEkBH8w6uOn+rg7vgsIZzeG0cs=; b=LduPXV0+RD1qMJ1qQ3XwQhLcJfwH9y1R+a80Tmv2OigVnfP/evEIl6Vw11Vrb0BOLZ AjsGxUG2dHzTaGQZyB/Qo5qZ50YSxFy6iIeecmjYE5X/GhCqMch/vLuWWDnUhz47EWKa YAhhhQQYjHDpi3v4oRq6oBV8wIrbux3xhLcw5NbVolSS10wrR8qBwvnArl5Ij9/Djcy0 YCjeXCwSyle9Gcrx6PwVN5+OMVdduCudnnEO7WlZYtygmWW9Wu33s5pwRtk7GXFJuxjV pWhR0CrWFp0UZwCDw3ePyZrodpYBNTB0Uz8ZwNlOfscmctpYAPQSsYmPkhBkl+72Blfm 3W9Q== X-Gm-Message-State: AOJu0Yz27xeSzPn7+v+mOLl0cl1XLUPBch/JNeLO6EeQYig3YShdFPg/ lZSPBF8mioSkgDUYhQN1zz4A3lSjZYkX58yvML3vUaa3ZrKmIHZps5CLl2QHyL2OheEAQUBLmXO 956v7JvQM98YpHMTWvKm6GF5cH2XygsarL2599I23QWYnF1LmaRsogcqIAIwA X-Gm-Gg: ASbGncuCP2kqMJKULgwG6Qc4nMLm8m7cRXny9GN9yWzPtRxRvEzJ+bzooamzbvNEWla 5PE/OChsp9CwWQhrQ3ycsHaEIdjGTB94c6IpfyBty4VwlpI9T+Ahfi0vGp7l3gnDH7+hgs9FIqw U8JBqVbDhRI8sVV4oL6wRKWYqzMiKLsgNJe9Cctvf1mCVviM9Zx3hVerccTgGcsph0ba0MeNRjs 8J/2s7FxqahKvn0ZZ/rE+na8eaNwI4SiwJ+gno0VXAe4aeodLXQLO88JVh77rPalE4g983HCnmo d32pdbwXk6cLWIS5LzGsxuFoTr90axfWFi79eN5cmhpPMPsKKA== X-Google-Smtp-Source: AGHT+IF3+gO+9IN4UP5NCdpqre1GSpBbU2uzgn7J3as4Ie3Rqd5LqX6pUngSBIDMgLCM9/oVFlNPjynqWUOL X-Received: by 2002:a17:902:c941:b0:234:c2e7:a103 with SMTP id d9443c01a7336-23e2572ffe3mr77470755ad.33.1752754506111; Thu, 17 Jul 2025 05:15:06 -0700 (PDT) Received: from postal.iol.unh.edu (postal.iol.unh.edu. [2606:4100:3880:1234::84]) by smtp-relay.gmail.com with ESMTPS id d9443c01a7336-23de4320c0fsm9024055ad.83.2025.07.17.05.15.06 (version=TLS1_2 cipher=ECDHE-ECDSA-AES128-GCM-SHA256 bits=128/128); Thu, 17 Jul 2025 05:15:06 -0700 (PDT) X-Relaying-Domain: iol.unh.edu Date: Thu, 17 Jul 2025 05:15:06 -0700 (PDT) Message-ID: <6878e94a.170a0220.28810d.f968SMTPIN_ADDED_MISSING@mx.google.com> Received: from [172.21.0.6] (unknown [172.18.0.240]) by postal.iol.unh.edu (Postfix) with ESMTP id 4C6B46051830; Thu, 17 Jul 2025 08:15:05 -0400 (EDT) Subject: |SUCCESS| pw155302-155309 [PATCH] [v9,8/8] bus/dpaa: optimize qman e From: dpdklab@iol.unh.edu To: Test Report Cc: dpdk-test-reports@iol.unh.edu In-Reply-To: <20250717094238.899294-9-vanshika.shukla@nxp.com> References: <20250717094238.899294-9-vanshika.shukla@nxp.com> Content-Type: text/plain X-BeenThere: test-report@dpdk.org X-Mailman-Version: 2.1.29 Precedence: list List-Id: automatic DPDK test reports List-Unsubscribe: , List-Archive: List-Post: List-Help: List-Subscribe: , Errors-To: test-report-bounces@dpdk.org Test-Label: iol-unit-amd64-testing Test-Status: SUCCESS http://dpdk.org/patch/155309 _Testing PASS_ Submitter: Vanshika Shukla Date: Thursday, July 17 2025 09:42:38 DPDK git baseline: Repo:dpdk Branch: master CommitID:9fe9c0b231c8da5435bfccb1963121b4277f961c 155302-155309 --> testing pass Upstream job id: Generic-Unit-Test-DPDK#356002 Test environment and result as below: +-------------------------------+----------------+ | Environment | dpdk_unit_test | +===============================+================+ | CentOS Stream 10 | PASS | +-------------------------------+----------------+ | CentOS Stream 9 | PASS | +-------------------------------+----------------+ | Debian GNU/Linux 12 | PASS | +-------------------------------+----------------+ | Fedora Linux 41 | PASS | +-------------------------------+----------------+ | Fedora Linux 40 | PASS | +-------------------------------+----------------+ | Red Hat Enterprise Linux 9.5 | PASS | +-------------------------------+----------------+ | Red Hat Enterprise Linux 8.10 | PASS | +-------------------------------+----------------+ | Ubuntu 22.04 | PASS | +-------------------------------+----------------+ | Ubuntu 20.04 | PASS | +-------------------------------+----------------+ | Ubuntu 24.04 | PASS | +-------------------------------+----------------+ CentOS Stream 10 Kernel: 5.15 Compiler: gcc gcc (GCC) 14.2.1 20250110 (Red Hat 14.2.1-8) CentOS Stream 9 Kernel: 5.15 Compiler: gcc gcc (GCC) 11.5.0 20240719 (Red Hat 11.5.0-7) Debian GNU/Linux 12 Kernel: 5.15 Compiler: gcc gcc (Debian 12.2.0-14+deb12u1) 12.2.0 Fedora Linux 41 Kernel: 5.15 Compiler: gcc gcc (GCC) 14.3.1 20250523 (Red Hat 14.3.1-1) Fedora Linux 40 Kernel: 5.15 Compiler: gcc gcc (GCC) 14.2.1 20240912 (Red Hat 14.2.1-3) Red Hat Enterprise Linux 9.5 Kernel: 5.15 Compiler: gcc gcc (GCC) 11.5.0 20240719 (Red Hat 11.5.0-2) Red Hat Enterprise Linux 8.10 Kernel: 5.15 Compiler: gcc gcc (GCC) 8.5.0 20210514 (Red Hat 8.5.0-22) Ubuntu 22.04 Kernel: 5.15 Compiler: gcc gcc (Ubuntu 11.4.0-1ubuntu1~22.04) 11.4.0 Ubuntu 20.04 Kernel: 5.15 Compiler: gcc gcc (Ubuntu 9.4.0-1ubuntu1~20.04.2) 9.4.0 Ubuntu 24.04 Kernel: 5.15 Compiler: gcc gcc (Ubuntu 13.3.0-6ubuntu2~24.04) 13.3.0 To view detailed results, visit: https://lab.dpdk.org/results/dashboard/patchsets/33678/ UNH-IOL DPDK Community Lab To manage your email subscriptions, visit: https://lab.dpdk.org/results/dashboard/preferences/subscriptions/