From mboxrd@z Thu Jan 1 00:00:00 1970 Return-Path: Received: from mails.dpdk.org (mails.dpdk.org [217.70.189.124]) by inbox.dpdk.org (Postfix) with ESMTP id C075B46B9D for ; Thu, 17 Jul 2025 14:38:50 +0200 (CEST) Received: from mails.dpdk.org (localhost [127.0.0.1]) by mails.dpdk.org (Postfix) with ESMTP id BA25F400EF; Thu, 17 Jul 2025 14:38:50 +0200 (CEST) Received: from mail-il1-f226.google.com (mail-il1-f226.google.com [209.85.166.226]) by mails.dpdk.org (Postfix) with ESMTP id E375B400EF for ; Thu, 17 Jul 2025 14:38:49 +0200 (CEST) Received: by mail-il1-f226.google.com with SMTP id e9e14a558f8ab-3e25355160dso2870295ab.0 for ; Thu, 17 Jul 2025 05:38:49 -0700 (PDT) DKIM-Signature: v=1; a=rsa-sha256; c=relaxed/relaxed; d=iol.unh.edu; s=unh-iol; t=1752755929; x=1753360729; darn=dpdk.org; h=references:in-reply-to:cc:to:from:subject:message-id:date:from:to :cc:subject:date:message-id:reply-to; bh=ticZc3cXpJAhlsls2JBBegancznl3MUoMlkN8dATAtU=; b=iRVx/cIW9ZOeHdTCKreJSvddLVqDfBjmloSNbaU26t3XnuQYCGzpi+QdJGabXlqwhY pgEBqU7enDz9VWxqhmV4jpOtEjSjEDl4W1A3vCL76PYPAtzf0EUxgF8FkFxABFFhKe8X Wuu6/Lb45hx62Q9yPlnxx1iMN5FeG1yRJEIZs= X-Google-DKIM-Signature: v=1; a=rsa-sha256; c=relaxed/relaxed; d=1e100.net; s=20230601; t=1752755929; x=1753360729; h=references:in-reply-to:cc:to:from:subject:message-id:date :x-gm-message-state:from:to:cc:subject:date:message-id:reply-to; bh=ticZc3cXpJAhlsls2JBBegancznl3MUoMlkN8dATAtU=; b=dUI7E1sdz9s10OrEgnl+WlOhIAKcbixT7poK/hQJkLACAJMmAaIRu29cXYKrIqDIzo t92Kd2qJMxEOKoFzJUrQc/TpfKxfDSMfmjCg9XZy7w41lQQCRgxpoqOwg5OH5wLWAz2A F00hGAVR/YNUElE4ZXfdwWg8xjDnyoJMqy7LMeSwxMN13qTGrJdlnFavGglTZfCiAINy vA+EQGEqRVg/Wjax/AvIx6JMGPzlb5L6CcPpzc1GOsWJzxAGuypfraYvjFP8o0HkYcVX FnNzObT12dY00ZWCrDiktfSHR45hi8Kf2tgL3/i2hF8ZVBhGfMIxcEfro3s3wFh/RaTQ 1Nug== X-Gm-Message-State: AOJu0Yw4rIbJGj4OKn/2uppKfVOvJVXLHQjX7/J2Jky6ZScgvMvB/cSj 509w1WZORXWchWVBjG0qswI4U/ftvQqQ7VwfhqBQcOzEAduovowEM1IVkX5QcPRXRO8vTVnlIj7 SQYvLQMugEKPTvG1aWNKHbprwyj60Vynn3e9hxZxWkaBEbuCMtsFWgJT0pxpS X-Gm-Gg: ASbGncucwfo3HiJ+Q6dyiRwzTpJHu0R//MzNF8zQOSSclCZhCT/DmiQemlCSoqt0n6x 6+SUY1uM2vYoWLWB9CjnPuYbMhLguYp3/Hxmb+JR3Y991Sy0goid3Gi/xXVd9mt4OAkZIRdJvpa /AnrKMzUoC15HKTfjQPcHilk9JtcSIw0+tL/YEvvn1PRKdO51a+2wzM6LuYqYI9ZwziCLBhdXjS Hiyo4JAaK5Yw0YXmoylstsVyzU/vy45/tMZZOZ2VW/Foj8a2mJSKVDcqoQU6Ujm/3y2QasVuU+O Ag0j81chO3y0iyyfyidOp4yuUFTiogkcdx1pCHJfw19FJmx0qQ== X-Google-Smtp-Source: AGHT+IH45XrzYrYv/zPvd3cFSilxS8N+srV3r7jvXuyOjfIfNL0/MxA1fcXWb8kNTLA6ZE1/hhh7ICTvQdzm X-Received: by 2002:a05:6e02:18c8:b0:3df:3ab2:cc7c with SMTP id e9e14a558f8ab-3e282e2ad3fmr56389885ab.13.1752755929086; Thu, 17 Jul 2025 05:38:49 -0700 (PDT) Received: from postal.iol.unh.edu (postal.iol.unh.edu. [2606:4100:3880:1234::84]) by smtp-relay.gmail.com with ESMTPS id e9e14a558f8ab-3e2781763d3sm4403875ab.25.2025.07.17.05.38.48 (version=TLS1_2 cipher=ECDHE-ECDSA-AES128-GCM-SHA256 bits=128/128); Thu, 17 Jul 2025 05:38:49 -0700 (PDT) X-Relaying-Domain: iol.unh.edu Date: Thu, 17 Jul 2025 05:38:49 -0700 (PDT) Message-ID: <6878eed9.050a0220.31c931.7ea3SMTPIN_ADDED_MISSING@mx.google.com> Received: from [172.21.0.6] (unknown [172.18.0.240]) by postal.iol.unh.edu (Postfix) with ESMTP id 80E566050A61; Thu, 17 Jul 2025 08:38:48 -0400 (EDT) Subject: |SUCCESS| pw155285-155287 [PATCH] [v5,3/3] doc: revise coding guidel From: dpdklab@iol.unh.edu To: Test Report Cc: dpdk-test-reports@iol.unh.edu In-Reply-To: <20250716135708.49233-3-dmarx@iol.unh.edu> References: <20250716135708.49233-3-dmarx@iol.unh.edu> Content-Type: text/plain X-BeenThere: test-report@dpdk.org X-Mailman-Version: 2.1.29 Precedence: list List-Id: automatic DPDK test reports List-Unsubscribe: , List-Archive: List-Post: List-Help: List-Subscribe: , Errors-To: test-report-bounces@dpdk.org Test-Label: iol-compile-arm64-testing Test-Status: SUCCESS http://dpdk.org/patch/155287 _Testing PASS_ Submitter: Dean Marx Date: Wednesday, July 16 2025 13:57:06 DPDK git baseline: Repo:dpdk Branch: master CommitID:9fe9c0b231c8da5435bfccb1963121b4277f961c 155285-155287 --> testing pass Upstream job id: Generic-DPDK-Compile-Meson#409478 Test environment and result as below: +------------------------------+--------------------+ | Environment | dpdk_meson_compile | +==============================+====================+ | Red Hat Enterprise Linux 9.5 | PASS | +------------------------------+--------------------+ | Ubuntu 20.04 | PASS | +------------------------------+--------------------+ | Debian GNU/Linux 12 | PASS | +------------------------------+--------------------+ | Fedora Linux 40 | PASS | +------------------------------+--------------------+ | Fedora Linux 41 | PASS | +------------------------------+--------------------+ | CentOS Stream 9 | PASS | +------------------------------+--------------------+ | Ubuntu 24.04 | PASS | +------------------------------+--------------------+ | Ubuntu 22.04 | PASS | +------------------------------+--------------------+ | CentOS Stream 10 | PASS | +------------------------------+--------------------+ Red Hat Enterprise Linux 9.5 Kernel: 5.4 Compiler: gcc gcc (GCC) 11.5.0 20240719 (Red Hat 11.5.0-2) Ubuntu 20.04 Kernel: 5.4 Compiler: gcc gcc (Ubuntu 9.4.0-1ubuntu1~20.04.2) 9.4.0 Debian GNU/Linux 12 Kernel: 5.4 Compiler: gcc gcc (Debian 12.2.0-14+deb12u1) 12.2.0 Fedora Linux 40 Kernel: 5.4 Compiler: clang gcc (GCC) 14.2.1 20240912 (Red Hat 14.2.1-3) Fedora Linux 41 Kernel: 5.4 Compiler: gcc gcc (GCC) 14.3.1 20250523 (Red Hat 14.3.1-1) CentOS Stream 9 Kernel: 5.4 Compiler: gcc gcc (GCC) 11.5.0 20240719 (Red Hat 11.5.0-7) Ubuntu 24.04 Kernel: 5.4 Compiler: gcc gcc (Ubuntu 13.3.0-6ubuntu2~24.04) 13.3.0 Ubuntu 22.04 Kernel: 5.4 Compiler: gcc gcc (Ubuntu 11.4.0-1ubuntu1~22.04) 11.4.0 CentOS Stream 10 Kernel: 5.4 Compiler: gcc gcc (GCC) 14.2.1 20250110 (Red Hat 14.2.1-8) To view detailed results, visit: https://lab.dpdk.org/results/dashboard/patchsets/33670/ UNH-IOL DPDK Community Lab To manage your email subscriptions, visit: https://lab.dpdk.org/results/dashboard/preferences/subscriptions/