From mboxrd@z Thu Jan 1 00:00:00 1970 Return-Path: Received: from mails.dpdk.org (mails.dpdk.org [217.70.189.124]) by inbox.dpdk.org (Postfix) with ESMTP id 571D646B9D for ; Thu, 17 Jul 2025 14:43:56 +0200 (CEST) Received: from mails.dpdk.org (localhost [127.0.0.1]) by mails.dpdk.org (Postfix) with ESMTP id 3A0AE400EF; Thu, 17 Jul 2025 14:43:56 +0200 (CEST) Received: from mail-io1-f98.google.com (mail-io1-f98.google.com [209.85.166.98]) by mails.dpdk.org (Postfix) with ESMTP id 21727400EF for ; Thu, 17 Jul 2025 14:43:55 +0200 (CEST) Received: by mail-io1-f98.google.com with SMTP id ca18e2360f4ac-87c0ad018d9so2109739f.2 for ; Thu, 17 Jul 2025 05:43:55 -0700 (PDT) DKIM-Signature: v=1; a=rsa-sha256; c=relaxed/relaxed; d=iol.unh.edu; s=unh-iol; t=1752756234; x=1753361034; darn=dpdk.org; h=references:in-reply-to:cc:to:from:subject:message-id:date:from:to :cc:subject:date:message-id:reply-to; bh=YwkWHRLvu+fjZPLb8XycDJ2VatnBzSzSQ89v5JayEWk=; b=SKb0efGDW+n+lOyoBqa7gsktVlb1i7rTlQ4MdP9jLNXlta+T4GKvn6U2R3a/X+nWTE d6MX27yBfyuVkMIDc3vzuXE88FPu/wtTY+6/k2OMfa9DnOlxz5vpplgUAri4wmqACEIs yDn9QC3EUQR1VyXbMmX84aaNuj3B7zazO6Oso= X-Google-DKIM-Signature: v=1; a=rsa-sha256; c=relaxed/relaxed; d=1e100.net; s=20230601; t=1752756234; x=1753361034; h=references:in-reply-to:cc:to:from:subject:message-id:date :x-gm-message-state:from:to:cc:subject:date:message-id:reply-to; bh=YwkWHRLvu+fjZPLb8XycDJ2VatnBzSzSQ89v5JayEWk=; b=rhtPEqgLA23pDUmTkHm0TDF+5sw35K9J8ItXGWNI7aX4fIVDAhiGWcKMxhLRcoInKs gZQnzIMingRnLah10mP4Fkl+/E9jJxWJtqorBoojnr0dRJRTHcCTEbEnr95V6pHd+r47 1RIbujuZug7Td/Dc8bgCPkXEy7TMes/uYpNRaCZVwcyBPk55KklZpj/eJO61OUxf3Hv9 T8jjh4z5cG80cO/c1n8JwjV1+/zsueVEV678ple7SFnGVxU3nmcpsjGMbwj6yJfNM2t7 zg04YgJVt3ZFUfN1j9pnAdmPpilq+fQBdnkS2Dg32plbTbJs7YrICEHo00vCkkmwoPeI LrKA== X-Gm-Message-State: AOJu0Yysdq0aXGDpUedgDGvEveHrbOkjsCu8hKsLjOBPmV2ptXMTmYvt ZP+B6K85E94Pt3Uy2+CUiQaTwTW1vnJXILuSKaPvoOooNst4tQDs83QI1ef8osAiSZEoIprR+Tb zd8BSENRF1J8iwJoeDIp91tZO9UeJFlDi5Vo3PgwEqn2s X-Gm-Gg: ASbGncuVFSIfXskFBruDhFWlBvWsmcJ40x8vLkOQfbabMegy6zcto/AfFPWRTlf5UM3 W7Oot5XhOam+cPI+9avFvmUHB8fCqqqOHB/VO7bTAI8eO4VrD0XEb2lxPv/dtEa80qS/1xWrRs8 +/3UrKdRR9gEah+LHX/T46+87+GwKn2kYIeKxTUx1/hkq/HRoyVH/xcZN7hyB8yYQx6ou2kI0hx O6TmGjoMieUJ2IVlizHKiVr611YP0DiEQHdjNzGLrw/3ka4dg0TPHyggPGCSwlzINsozc8eIUsR CJDr2unbkDzR3CUH+aAtgg7Cqb03TSTvmk5lm8NTIXavom5tPo0H8uoaf9cl9CNxhfGjZRz4 X-Google-Smtp-Source: AGHT+IE6KTJYnhkRhhkNrjQbodCfFxxJiTREZsShYmv7xp8xRfLG6De/QorUvhc4OfPkPndw/V3QnmS7fgDh X-Received: by 2002:a05:6602:1696:b0:874:e108:8e3a with SMTP id ca18e2360f4ac-879c093ab71mr935748839f.12.1752756234347; Thu, 17 Jul 2025 05:43:54 -0700 (PDT) Received: from postal.iol.unh.edu (postal.iol.unh.edu. [132.177.123.84]) by smtp-relay.gmail.com with ESMTPS id ca18e2360f4ac-8796bbf6701sm74082739f.25.2025.07.17.05.43.54 (version=TLS1_2 cipher=ECDHE-ECDSA-AES128-GCM-SHA256 bits=128/128); Thu, 17 Jul 2025 05:43:54 -0700 (PDT) X-Relaying-Domain: iol.unh.edu Date: Thu, 17 Jul 2025 05:43:54 -0700 (PDT) Message-ID: <6878f00a.050a0220.10b5ba.6c88SMTPIN_ADDED_MISSING@mx.google.com> Received: from [172.21.0.5] (unknown [172.18.0.240]) by postal.iol.unh.edu (Postfix) with ESMTP id BF3856050A61; Thu, 17 Jul 2025 08:43:53 -0400 (EDT) Subject: |SUCCESS| pw155302-155309 [PATCH] [v9,8/8] bus/dpaa: optimize qman e From: dpdklab@iol.unh.edu To: Test Report Cc: dpdk-test-reports@iol.unh.edu In-Reply-To: <20250717094238.899294-9-vanshika.shukla@nxp.com> References: <20250717094238.899294-9-vanshika.shukla@nxp.com> Content-Type: text/plain X-BeenThere: test-report@dpdk.org X-Mailman-Version: 2.1.29 Precedence: list List-Id: automatic DPDK test reports List-Unsubscribe: , List-Archive: List-Post: List-Help: List-Subscribe: , Errors-To: test-report-bounces@dpdk.org Test-Label: iol-unit-arm64-testing Test-Status: SUCCESS http://dpdk.org/patch/155309 _Testing PASS_ Submitter: Vanshika Shukla Date: Thursday, July 17 2025 09:42:38 DPDK git baseline: Repo:dpdk Branch: master CommitID:9fe9c0b231c8da5435bfccb1963121b4277f961c 155302-155309 --> testing pass Upstream job id: Generic-Unit-Test-DPDK#355994 Test environment and result as below: +------------------------------+----------------+--------------+---------------------------+------------------------------+ | Environment | dpdk_unit_test | lpm_autotest | cryptodev_sw_zuc_autotest | cryptodev_sw_snow3g_autotest | +==============================+================+==============+===========================+==============================+ | CentOS Stream 10 | PASS | SKIPPED | SKIPPED | SKIPPED | +------------------------------+----------------+--------------+---------------------------+------------------------------+ | CentOS Stream 9 | PASS | SKIPPED | SKIPPED | SKIPPED | +------------------------------+----------------+--------------+---------------------------+------------------------------+ | Fedora Linux 40 | PASS | SKIPPED | SKIPPED | SKIPPED | +------------------------------+----------------+--------------+---------------------------+------------------------------+ | Fedora Linux 41 | PASS | SKIPPED | SKIPPED | SKIPPED | +------------------------------+----------------+--------------+---------------------------+------------------------------+ | Debian GNU/Linux 12 | PASS | SKIPPED | SKIPPED | SKIPPED | +------------------------------+----------------+--------------+---------------------------+------------------------------+ | Red Hat Enterprise Linux 9.5 | PASS | SKIPPED | SKIPPED | SKIPPED | +------------------------------+----------------+--------------+---------------------------+------------------------------+ | Ubuntu 20.04 | PASS | PASS | SKIPPED | SKIPPED | +------------------------------+----------------+--------------+---------------------------+------------------------------+ | Ubuntu 22.04 | PASS | SKIPPED | SKIPPED | SKIPPED | +------------------------------+----------------+--------------+---------------------------+------------------------------+ | Ubuntu 24.04 | PASS | SKIPPED | SKIPPED | SKIPPED | +------------------------------+----------------+--------------+---------------------------+------------------------------+ | Debian 12 (arm) | SKIPPED | SKIPPED | PASS | PASS | +------------------------------+----------------+--------------+---------------------------+------------------------------+ CentOS Stream 10 Kernel: 5.4 Compiler: gcc gcc (GCC) 14.2.1 20250110 (Red Hat 14.2.1-8) CentOS Stream 9 Kernel: 5.4 Compiler: gcc gcc (GCC) 11.5.0 20240719 (Red Hat 11.5.0-7) Fedora Linux 40 Kernel: 5.4 Compiler: clang gcc (GCC) 14.2.1 20240912 (Red Hat 14.2.1-3) Fedora Linux 41 Kernel: 5.4 Compiler: gcc gcc (GCC) 14.3.1 20250523 (Red Hat 14.3.1-1) Debian GNU/Linux 12 Kernel: 5.4 Compiler: gcc gcc (Debian 12.2.0-14+deb12u1) 12.2.0 Red Hat Enterprise Linux 9.5 Kernel: 5.4 Compiler: gcc gcc (GCC) 11.5.0 20240719 (Red Hat 11.5.0-2) Ubuntu 20.04 Kernel: 5.4 Compiler: gcc gcc (Ubuntu 9.4.0-1ubuntu1~20.04.2) 9.4.0 Ubuntu 22.04 Kernel: 5.4 Compiler: gcc gcc (Ubuntu 11.4.0-1ubuntu1~22.04) 11.4.0 Ubuntu 24.04 Kernel: 5.4 Compiler: gcc gcc (Ubuntu 13.3.0-6ubuntu2~24.04) 13.3.0 Debian 12 (arm) Kernel: Depends on container host Compiler: gcc (Debian 12.2.0-14) 12.2.0 To view detailed results, visit: https://lab.dpdk.org/results/dashboard/patchsets/33678/ UNH-IOL DPDK Community Lab To manage your email subscriptions, visit: https://lab.dpdk.org/results/dashboard/preferences/subscriptions/