From mboxrd@z Thu Jan 1 00:00:00 1970 Return-Path: Received: from mails.dpdk.org (mails.dpdk.org [217.70.189.124]) by inbox.dpdk.org (Postfix) with ESMTP id 4E3B646B9D for ; Thu, 17 Jul 2025 14:44:14 +0200 (CEST) Received: from mails.dpdk.org (localhost [127.0.0.1]) by mails.dpdk.org (Postfix) with ESMTP id 4933A400EF; Thu, 17 Jul 2025 14:44:14 +0200 (CEST) Received: from mail-pg1-f225.google.com (mail-pg1-f225.google.com [209.85.215.225]) by mails.dpdk.org (Postfix) with ESMTP id 6F24A400EF for ; Thu, 17 Jul 2025 14:44:13 +0200 (CEST) Received: by mail-pg1-f225.google.com with SMTP id 41be03b00d2f7-b3bcb168fd5so710066a12.3 for ; Thu, 17 Jul 2025 05:44:13 -0700 (PDT) DKIM-Signature: v=1; a=rsa-sha256; c=relaxed/relaxed; d=iol.unh.edu; s=unh-iol; t=1752756252; x=1753361052; darn=dpdk.org; h=references:in-reply-to:cc:to:from:subject:message-id:date:from:to :cc:subject:date:message-id:reply-to; bh=v2MiZudkA6Xc0587By44M1Mz4hl5LWGWeI5xmgOzMAQ=; b=DOIs2KYhNvLS5lCqVTDJDoGW9HU6BV98pMFukW9zJ1syVPYYlrsXIZRVartzhEuDW+ hs4Cf+NCJQvOahc09uU3vkk7ow++Ski4l/7Az8cRU94x/VzvP+cBd0jF9xEqzWdMc5sn 0HYDmvu/kENIydJnMHhw5ZfKgEa9VrHsDHHa4= X-Google-DKIM-Signature: v=1; a=rsa-sha256; c=relaxed/relaxed; d=1e100.net; s=20230601; t=1752756252; x=1753361052; h=references:in-reply-to:cc:to:from:subject:message-id:date :x-gm-message-state:from:to:cc:subject:date:message-id:reply-to; bh=v2MiZudkA6Xc0587By44M1Mz4hl5LWGWeI5xmgOzMAQ=; b=vcA63IKXKqVt13jKgqMA6eTkKR8mMs+NFuSiCGwNqIzgZrawjhhGojlI7b8thcPJJH N4I+M5Z/RewhjlvJZNZvyNIPa7Z8w7hpPvG88s/24Lf6/srOWHIigi77PNZjZ9uIB+y8 vRTv7DYqKDolOdLjUZEl8DuEt4mFK9hXAWbdu8qcmo5X6yWXA7MDdmLGmgxm3MkCz2Zy 8n2ryQngc2d4yP3sPtAg+kw4WJ5ycWdxe/irunUDw6/JW8+/hw7BtGTeOZaYRDkZT+nB K/z/E2TQ83tRVBStG0/D9iRRIjl++FQpUWbBo/yOCIbjb5BHy5gCKseCwQW4mE572t63 kXaA== X-Gm-Message-State: AOJu0Yzk75hDfD+aiWdsIPlClYT6+ToC2PEFAT0Ztb4Q1dKK9MR2iRM0 UKHSzU7Rj4w+YjxFWdYYTb3WpBm2LXfyNvgBeYb+FsqIYTv5Iu+2Hx8HsnbmQKC/0xU+/56tuPt DOg7GDHgSDm1Sqz9aYaGFtbZTbFB5VMwxpQuRJjqHqLOnkoNinrWFvPq4+K5L X-Gm-Gg: ASbGncvfjMvdYV9TRXZxw1scmHU0RvRz97n6a+SHV/HzRbQT6FIJsxjlymsIveaL3/Y HQoSRh46q1ZI4+u/PqEbdfZnOmcxZAz6d33DZSV+by819Ne47P5loZU5XwgYXoqc2nH8mBi02Ir ngTjNp0yBbq6tnWqxTjp8D4opT/E941NJHEu4v3oXTAl8s7aOTistlzK83H0nIVP0x6Ay2OknQN KiLIeaOag38217/06OxOMaVtpyvy1RVHdfPrRP0lzzM5Y4DbIFTQ1edLzEGAK7zDm9GsvW41VkP iwdzkne0t2zjZLhcUWnbOaI6JucCw2F6kTClmuhGv50T4xHvYw== X-Google-Smtp-Source: AGHT+IHaz5Btq0A53q1y7MfKiN3LEfBKjZAB7//ox/wy0qcld/Ag/cCNOtiZJbyZ8ACVifQI8fHyjPJ7iEke X-Received: by 2002:a17:90b:3c10:b0:311:ff02:3fcc with SMTP id 98e67ed59e1d1-31c9f44bcd8mr10039427a91.14.1752756251281; Thu, 17 Jul 2025 05:44:11 -0700 (PDT) Received: from postal.iol.unh.edu (postal.iol.unh.edu. [2606:4100:3880:1234::84]) by smtp-relay.gmail.com with ESMTPS id 41be03b00d2f7-b3bbe6c6073sm938371a12.22.2025.07.17.05.44.11 (version=TLS1_2 cipher=ECDHE-ECDSA-AES128-GCM-SHA256 bits=128/128); Thu, 17 Jul 2025 05:44:11 -0700 (PDT) X-Relaying-Domain: iol.unh.edu Date: Thu, 17 Jul 2025 05:44:11 -0700 (PDT) Message-ID: <6878f01b.630a0220.370360.1f44SMTPIN_ADDED_MISSING@mx.google.com> Received: from [172.21.0.5] (unknown [172.18.0.240]) by postal.iol.unh.edu (Postfix) with ESMTP id B0C246050A61; Thu, 17 Jul 2025 08:44:10 -0400 (EDT) Subject: |SUCCESS| pw155302-155309 [PATCH] [v9,8/8] bus/dpaa: optimize qman e From: dpdklab@iol.unh.edu To: Test Report Cc: dpdk-test-reports@iol.unh.edu In-Reply-To: <20250717094238.899294-9-vanshika.shukla@nxp.com> References: <20250717094238.899294-9-vanshika.shukla@nxp.com> Content-Type: text/plain X-BeenThere: test-report@dpdk.org X-Mailman-Version: 2.1.29 Precedence: list List-Id: automatic DPDK test reports List-Unsubscribe: , List-Archive: List-Post: List-Help: List-Subscribe: , Errors-To: test-report-bounces@dpdk.org Test-Label: iol-abi-testing Test-Status: SUCCESS http://dpdk.org/patch/155309 _Testing PASS_ Submitter: Vanshika Shukla Date: Thursday, July 17 2025 09:42:38 DPDK git baseline: Repo:dpdk Branch: master CommitID:9fe9c0b231c8da5435bfccb1963121b4277f961c 155302-155309 --> testing pass Upstream job id: Generic-DPDK-Compile-ABI#134656 Test environment and result as below: +-------------------------------+----------+ | Environment | abi_test | +===============================+==========+ | CentOS Stream 9 | PASS | +-------------------------------+----------+ | Debian GNU/Linux 12 | PASS | +-------------------------------+----------+ | CentOS Stream 10 | PASS | +-------------------------------+----------+ | Fedora Linux 40 | PASS | +-------------------------------+----------+ | Fedora Linux 41 | PASS | +-------------------------------+----------+ | openSUSE Leap 15.6 | PASS | +-------------------------------+----------+ | Red Hat Enterprise Linux 8.10 | PASS | +-------------------------------+----------+ | Red Hat Enterprise Linux 9.5 | PASS | +-------------------------------+----------+ | Ubuntu 22.04 | PASS | +-------------------------------+----------+ | Ubuntu 24.04 | PASS | +-------------------------------+----------+ CentOS Stream 9 Kernel: 5.15 Compiler: gcc gcc (GCC) 11.5.0 20240719 (Red Hat 11.5.0-7) Debian GNU/Linux 12 Kernel: 5.15 Compiler: gcc gcc (Debian 12.2.0-14+deb12u1) 12.2.0 CentOS Stream 10 Kernel: 5.15 Compiler: gcc gcc (GCC) 14.2.1 20250110 (Red Hat 14.2.1-8) Fedora Linux 40 Kernel: 5.15 Compiler: gcc gcc (GCC) 14.2.1 20240912 (Red Hat 14.2.1-3) Fedora Linux 41 Kernel: 5.15 Compiler: clang gcc (GCC) 14.3.1 20250523 (Red Hat 14.3.1-1) openSUSE Leap 15.6 Kernel: 5.15 Compiler: gcc gcc (SUSE Linux) 7.5.0 Red Hat Enterprise Linux 8.10 Kernel: 5.15 Compiler: gcc gcc (GCC) 8.5.0 20210514 (Red Hat 8.5.0-22) Red Hat Enterprise Linux 9.5 Kernel: 5.15 Compiler: gcc gcc (GCC) 11.5.0 20240719 (Red Hat 11.5.0-2) Ubuntu 22.04 Kernel: 5.15 Compiler: gcc gcc (Ubuntu 11.4.0-1ubuntu1~22.04) 11.4.0 Ubuntu 24.04 Kernel: 5.15 Compiler: gcc gcc (Ubuntu 13.3.0-6ubuntu2~24.04) 13.3.0 To view detailed results, visit: https://lab.dpdk.org/results/dashboard/patchsets/33678/ UNH-IOL DPDK Community Lab To manage your email subscriptions, visit: https://lab.dpdk.org/results/dashboard/preferences/subscriptions/