From mboxrd@z Thu Jan 1 00:00:00 1970 Return-Path: Received: from mails.dpdk.org (mails.dpdk.org [217.70.189.124]) by inbox.dpdk.org (Postfix) with ESMTP id 692C146B9D for ; Thu, 17 Jul 2025 14:45:02 +0200 (CEST) Received: from mails.dpdk.org (localhost [127.0.0.1]) by mails.dpdk.org (Postfix) with ESMTP id 60448400EF; Thu, 17 Jul 2025 14:45:02 +0200 (CEST) Received: from mail-il1-f226.google.com (mail-il1-f226.google.com [209.85.166.226]) by mails.dpdk.org (Postfix) with ESMTP id A0824400EF for ; Thu, 17 Jul 2025 14:45:01 +0200 (CEST) Received: by mail-il1-f226.google.com with SMTP id e9e14a558f8ab-3e05bb6efe0so8283925ab.3 for ; Thu, 17 Jul 2025 05:45:01 -0700 (PDT) DKIM-Signature: v=1; a=rsa-sha256; c=relaxed/relaxed; d=iol.unh.edu; s=unh-iol; t=1752756301; x=1753361101; darn=dpdk.org; h=references:in-reply-to:cc:to:from:subject:message-id:date:from:to :cc:subject:date:message-id:reply-to; bh=oxGoz9FroLDTv62tdBkIlz3ym2YRQnHK4Ts8rJ1Oj4o=; b=AaP7sAHTJiQRPyANDP7/KeDykNZx0Z1WuWehAGoL5VEZWZJnMi2A6k3KpieTqRkZbb ELYnCyS024puenCZDvnsWavgLUhxtcTOjIZhUtZq4g9eMj8HkKkV/t6aayMZgUL4oNkT IAFJn83ZhnJPSHnEUTRuu+ciAWBEiK3otUk+0= X-Google-DKIM-Signature: v=1; a=rsa-sha256; c=relaxed/relaxed; d=1e100.net; s=20230601; t=1752756301; x=1753361101; h=references:in-reply-to:cc:to:from:subject:message-id:date :x-gm-message-state:from:to:cc:subject:date:message-id:reply-to; bh=oxGoz9FroLDTv62tdBkIlz3ym2YRQnHK4Ts8rJ1Oj4o=; b=Beuh95+faQQcNWaGIBHJ87eanTGjvY1t0QaIvr6wvhA18GIyfuz69fwXl18PA/O8Tv pbNnlGYoW9CEkq9K4Zw4XrZK7uFPPv/tmiCDkB4UytlOyx5+uXZ/eNisDjj5wroVuYia RPU7EuK4gWVaHVpRl+gDmRLzqZyDMGjCLqOsetIzcyLigpiDeDgzP3dcrsVEX2AfmA1A YywKZ9v7VzQcdf6/SWpFoF9SarcOrAyuJUU0hfH20nxXZljS3GE1A2+T2eg/efxuOp9Q RbTMsvkHs6ctNUH1nktcWG792zzhq1v5IilbS1jweYMnlBHyqnSmKZBEjuJZA0H4tOB0 2sDw== X-Gm-Message-State: AOJu0Yz7p/bpdGUFyxuWHsvRYgwls8+ki9uQaGbV6uSzWq2MBdWfYHTc EzKeVGTw3l1YPKTYtXI7aoEba20ZfoThRq5AiHLGZTpIdwXEH8+QfZykeHBjs+SBJdgzMFkCdWs s+bu3Yq39XC6PZyA//e4iBaW0ng8JgZcQhs+PJ/j2OsWu9sCPNAJ8x3YhXxH0 X-Gm-Gg: ASbGnct+mmnLPLf/zuk7pFhs1m3FbEIdModOWfVXnCkVfflGe/twuRA2sdepykaG+cY b+HR224xXf85lkDzpUR8DMzCd6zAsevGaWIKvHFR3ZGAqeRM5MKfynu8ITukO3PyDUtRdR915xz 1UcFy0fAYXtmRv5LfemW58DS7G9IjYrQJN0wBdBZdfC2V1za1TFeIJsM5a99sk1p0572sqZnPs8 VRCMUiB6+ugOTi4zJuUN9a9EQpUsOCCrMl1o9qSdZdwIE/NYN0CcThjheKB5QT5eBC0P8Wb3Y78 zS/nzgwx0Efd3b4Hg9ft3WZt/ckY5q9OQcAB3FfksXRSQCWdww== X-Google-Smtp-Source: AGHT+IGjq954Z45eZt/uPuDee5fygRKkiTPbXj1hY4AqLGfQERGleve7FSif2Vdad1NfCRS39M8F5juuOnJN X-Received: by 2002:a05:6e02:164b:b0:3e2:8649:1f14 with SMTP id e9e14a558f8ab-3e286491fa3mr47090705ab.0.1752756300952; Thu, 17 Jul 2025 05:45:00 -0700 (PDT) Received: from postal.iol.unh.edu (postal.iol.unh.edu. [2606:4100:3880:1234::84]) by smtp-relay.gmail.com with ESMTPS id e9e14a558f8ab-3e2461fa625sm9871585ab.41.2025.07.17.05.45.00 (version=TLS1_2 cipher=ECDHE-ECDSA-AES128-GCM-SHA256 bits=128/128); Thu, 17 Jul 2025 05:45:00 -0700 (PDT) X-Relaying-Domain: iol.unh.edu Date: Thu, 17 Jul 2025 05:45:00 -0700 (PDT) Message-ID: <6878f04c.050a0220.49fe5.3046SMTPIN_ADDED_MISSING@mx.google.com> Received: from [172.21.0.5] (unknown [172.18.0.240]) by postal.iol.unh.edu (Postfix) with ESMTP id 82E9A6050A61; Thu, 17 Jul 2025 08:45:00 -0400 (EDT) Subject: |SUCCESS| pw155302-155309 [PATCH] [v9,8/8] bus/dpaa: optimize qman e From: dpdklab@iol.unh.edu To: Test Report Cc: dpdk-test-reports@iol.unh.edu In-Reply-To: <20250717094238.899294-9-vanshika.shukla@nxp.com> References: <20250717094238.899294-9-vanshika.shukla@nxp.com> Content-Type: text/plain X-BeenThere: test-report@dpdk.org X-Mailman-Version: 2.1.29 Precedence: list List-Id: automatic DPDK test reports List-Unsubscribe: , List-Archive: List-Post: List-Help: List-Subscribe: , Errors-To: test-report-bounces@dpdk.org Test-Label: iol-compile-amd64-testing Test-Status: SUCCESS http://dpdk.org/patch/155309 _Testing PASS_ Submitter: Vanshika Shukla Date: Thursday, July 17 2025 09:42:38 DPDK git baseline: Repo:dpdk Branch: master CommitID:9fe9c0b231c8da5435bfccb1963121b4277f961c 155302-155309 --> testing pass Upstream job id: Generic-DPDK-Compile-Meson#409482 Test environment and result as below: +-------------------------------+--------------------+-------------------+------------------+ | Environment | dpdk_meson_compile | dpdk_compile_spdk | dpdk_compile_ovs | +===============================+====================+===================+==================+ | CentOS Stream 10 | PASS | SKIPPED | SKIPPED | +-------------------------------+--------------------+-------------------+------------------+ | CentOS Stream 9 | PASS | PASS | SKIPPED | +-------------------------------+--------------------+-------------------+------------------+ | Fedora Linux 40 | PASS | PASS | SKIPPED | +-------------------------------+--------------------+-------------------+------------------+ | Fedora Linux 41 | PASS | PASS | PASS | +-------------------------------+--------------------+-------------------+------------------+ | Debian GNU/Linux 12 | PASS | PASS | SKIPPED | +-------------------------------+--------------------+-------------------+------------------+ | Red Hat Enterprise Linux 9.5 | PASS | SKIPPED | SKIPPED | +-------------------------------+--------------------+-------------------+------------------+ | openSUSE Leap 15.6 | PASS | SKIPPED | SKIPPED | +-------------------------------+--------------------+-------------------+------------------+ | Red Hat Enterprise Linux 8.10 | PASS | SKIPPED | SKIPPED | +-------------------------------+--------------------+-------------------+------------------+ | Ubuntu 20.04 | PASS | SKIPPED | SKIPPED | +-------------------------------+--------------------+-------------------+------------------+ | Ubuntu 22.04 | PASS | PASS | SKIPPED | +-------------------------------+--------------------+-------------------+------------------+ | Ubuntu 24.04 | PASS | PASS | PASS | +-------------------------------+--------------------+-------------------+------------------+ | Alpine Linux 3.22.0 | PASS | SKIPPED | SKIPPED | +-------------------------------+--------------------+-------------------+------------------+ | FreeBSD 14.2 | PASS | SKIPPED | SKIPPED | +-------------------------------+--------------------+-------------------+------------------+ CentOS Stream 10 Kernel: 5.15 Compiler: gcc gcc (GCC) 14.2.1 20250110 (Red Hat 14.2.1-8) CentOS Stream 9 Kernel: 5.15 Compiler: gcc gcc (GCC) 11.5.0 20240719 (Red Hat 11.5.0-7) Fedora Linux 40 Kernel: 5.15 Compiler: gcc gcc (GCC) 14.2.1 20240912 (Red Hat 14.2.1-3) Fedora Linux 41 Kernel: 5.15 Compiler: clang gcc (GCC) 14.3.1 20250523 (Red Hat 14.3.1-1) Debian GNU/Linux 12 Kernel: 5.15 Compiler: gcc gcc (Debian 12.2.0-14+deb12u1) 12.2.0 Red Hat Enterprise Linux 9.5 Kernel: 5.15 Compiler: gcc gcc (GCC) 11.5.0 20240719 (Red Hat 11.5.0-2) openSUSE Leap 15.6 Kernel: 5.15 Compiler: gcc gcc (SUSE Linux) 7.5.0 Red Hat Enterprise Linux 8.10 Kernel: 5.15 Compiler: gcc gcc (GCC) 8.5.0 20210514 (Red Hat 8.5.0-22) Ubuntu 20.04 Kernel: 5.15 Compiler: gcc gcc (Ubuntu 9.4.0-1ubuntu1~20.04.2) 9.4.0 Ubuntu 22.04 Kernel: 5.15 Compiler: gcc gcc (Ubuntu 11.4.0-1ubuntu1~22.04) 11.4.0 Ubuntu 24.04 Kernel: 5.15 Compiler: gcc gcc (Ubuntu 13.3.0-6ubuntu2~24.04) 13.3.0 Alpine Linux 3.22.0 Kernel: 5.15 Compiler: gcc gcc (Alpine 14.2.0) 14.2.0 FreeBSD 14.2 Kernel: 14.2-RELEASE Compiler: clang 18.1.6 To view detailed results, visit: https://lab.dpdk.org/results/dashboard/patchsets/33678/ UNH-IOL DPDK Community Lab To manage your email subscriptions, visit: https://lab.dpdk.org/results/dashboard/preferences/subscriptions/