From mboxrd@z Thu Jan 1 00:00:00 1970 Return-Path: Received: from mails.dpdk.org (mails.dpdk.org [217.70.189.124]) by inbox.dpdk.org (Postfix) with ESMTP id 74C2D46B9E for ; Thu, 17 Jul 2025 16:07:56 +0200 (CEST) Received: from mails.dpdk.org (localhost [127.0.0.1]) by mails.dpdk.org (Postfix) with ESMTP id 51AC0400EF; Thu, 17 Jul 2025 16:07:56 +0200 (CEST) Received: from mail-oa1-f97.google.com (mail-oa1-f97.google.com [209.85.160.97]) by mails.dpdk.org (Postfix) with ESMTP id D0F5E400EF for ; Thu, 17 Jul 2025 16:07:54 +0200 (CEST) Received: by mail-oa1-f97.google.com with SMTP id 586e51a60fabf-2ff9b45aec2so472446fac.2 for ; Thu, 17 Jul 2025 07:07:54 -0700 (PDT) DKIM-Signature: v=1; a=rsa-sha256; c=relaxed/relaxed; d=iol.unh.edu; s=unh-iol; t=1752761274; x=1753366074; darn=dpdk.org; h=references:in-reply-to:cc:to:from:subject:message-id:date:from:to :cc:subject:date:message-id:reply-to; bh=e3K/dCtHjwa9Y4Zk+fu/FCSPfaqWx5NKkmq9DL+guzE=; b=Jl7jQ9xVO2aE/EsWlNjoyxVcXPoQI5xsd/wNIyUEnYrBk6wh6SN0Wf8oFUOcs4p9RF pVQ6HO3IPvD/soCXd2xhzsnmsbymM/2a9NMCRpdqK1EWoA0zgZ6/NKZfYACR4n5NeWaM LMTBG53z8NUbPUUit1UPM4mScBGn8ZbSPn9GA= X-Google-DKIM-Signature: v=1; a=rsa-sha256; c=relaxed/relaxed; d=1e100.net; s=20230601; t=1752761274; x=1753366074; h=references:in-reply-to:cc:to:from:subject:message-id:date :x-gm-message-state:from:to:cc:subject:date:message-id:reply-to; bh=e3K/dCtHjwa9Y4Zk+fu/FCSPfaqWx5NKkmq9DL+guzE=; b=Njjag5MJlJPZL6P2DnzEWjSVX8K+7o+tHjcDJOr6ZoRMYiacJoDM5uylR4pLoyavRi t2li3dExOkHFm5ieX8BiAemrF7w+ZQMq+s0rTrKt5L4DbY7JSUSzEndVsjkFXOFryDvy q6SsMQONfdIaUogCxgBqJr3VABnp6ccuz/1oiffq30FbaLQ7D3keEE54EHxWPrWUT9MH k2j9kFU98I9PLHuz2y3VrLBlmQfksZHJVBncM4EsCe+yjh+wIKlw42K3Vo50G5q1/enH yW4vFTNN68lB9Q+c/HbpYbHcvg7LhAJh4DD8LM+UJsX13twhCaKoYorcvHnh8mcKX43U zMCQ== X-Gm-Message-State: AOJu0Yy+8MLZQ3xsV9bHl0pzMIZYf/HhJZYpLYgr4GB6CCi2YoEUfaHG hjMKGggnsQSeyYewbfrEUHRsmk1ohTTSM8Vl6aai9L2vXBSUltBgXNohL4NVVQwdpzR+tn1x/8j VMHfhdRhak1GGi1+X0BR/6rBU++jo/u0di9L/g4y+SjyX X-Gm-Gg: ASbGncsfr8rVl4/03iehPycNyIjDo0HAk8X3UG7QEZ472mxt7TiqQ73VQJZoeXrlxTr pr5vn4CniwRrMkccizQxsNSmiO54/C5C5/g3mAxBr7DVDYLFiWp9vudX8lCBjvcsvBGz/SpJ/dT FvSTeHXmaD9Myy724mhZBbSo5sVhl3MOPqpD4111i6+AeNrH0TWp0uJGVE1vh4iYfZYTf91X7Pp PHr4Z1kFUMzBk/FAwbZUdb9As7HQdU4Vn7UVgNjmRK/gTXjBl4EVUneqegdw1vMz4ivngrlq/0q jvuI7Fws0P5V+E/4qwZugOM2H/bUAB2wMOhFRA0NF5xfLoSf4hMxlctoarmRFnpTEOJqs3IF X-Google-Smtp-Source: AGHT+IE513E1Qkrtzaio32lzeCEjrYwig9g7J/pUdDoc6dmfQ5VSg9sCwQ9Oc+0XrdFn2lXrVlsGyvGBlELI X-Received: by 2002:a05:6871:71f:b0:2ff:b00f:a54d with SMTP id 586e51a60fabf-2ffb21ec6d2mr5263672fac.5.1752761273725; Thu, 17 Jul 2025 07:07:53 -0700 (PDT) Received: from postal.iol.unh.edu (postal.iol.unh.edu. [132.177.123.84]) by smtp-relay.gmail.com with ESMTPS id 586e51a60fabf-2ff11236e13sm1161432fac.10.2025.07.17.07.07.53 (version=TLS1_2 cipher=ECDHE-ECDSA-AES128-GCM-SHA256 bits=128/128); Thu, 17 Jul 2025 07:07:53 -0700 (PDT) X-Relaying-Domain: iol.unh.edu Date: Thu, 17 Jul 2025 07:07:53 -0700 (PDT) Message-ID: <687903b9.050a0220.257d62.c199SMTPIN_ADDED_MISSING@mx.google.com> Received: from [172.21.0.5] (unknown [172.18.0.240]) by postal.iol.unh.edu (Postfix) with ESMTP id 2BAD76050A61; Thu, 17 Jul 2025 10:07:53 -0400 (EDT) Subject: |SUCCESS| pw155207 [PATCH] [v1] mailmap: add new email to DPDK From: dpdklab@iol.unh.edu To: Test Report Cc: dpdk-test-reports@iol.unh.edu In-Reply-To: <20250714191141.1243467-1-pravin.pathak@intel.com> References: <20250714191141.1243467-1-pravin.pathak@intel.com> Content-Type: text/plain X-BeenThere: test-report@dpdk.org X-Mailman-Version: 2.1.29 Precedence: list List-Id: automatic DPDK test reports List-Unsubscribe: , List-Archive: List-Post: List-Help: List-Subscribe: , Errors-To: test-report-bounces@dpdk.org Test-Label: iol-unit-amd64-testing Test-Status: SUCCESS http://dpdk.org/patch/155207 _Testing PASS RETEST #1_ Submitter: Pravin Pathak Date: Monday, July 14 2025 19:11:41 DPDK git baseline: Repo:dpdk Branch: master CommitID:9fe9c0b231c8da5435bfccb1963121b4277f961c 155207 --> testing pass Upstream job id: Generic-Unit-Test-DPDK#356025 Test environment and result as below: +-------------------------------+----------------+ | Environment | dpdk_unit_test | +===============================+================+ | Debian GNU/Linux 12 | PASS | +-------------------------------+----------------+ | CentOS Stream 9 | PASS | +-------------------------------+----------------+ | CentOS Stream 10 | PASS | +-------------------------------+----------------+ | Fedora Linux 41 | PASS | +-------------------------------+----------------+ | Ubuntu 22.04 | PASS | +-------------------------------+----------------+ | Ubuntu 20.04 | PASS | +-------------------------------+----------------+ | Fedora Linux 40 | PASS | +-------------------------------+----------------+ | Red Hat Enterprise Linux 9.5 | PASS | +-------------------------------+----------------+ | Red Hat Enterprise Linux 8.10 | PASS | +-------------------------------+----------------+ | Ubuntu 24.04 | PASS | +-------------------------------+----------------+ Debian GNU/Linux 12 Kernel: 5.15 Compiler: gcc gcc (Debian 12.2.0-14+deb12u1) 12.2.0 CentOS Stream 9 Kernel: 5.15 Compiler: gcc gcc (GCC) 11.5.0 20240719 (Red Hat 11.5.0-7) CentOS Stream 10 Kernel: 5.15 Compiler: gcc gcc (GCC) 14.2.1 20250110 (Red Hat 14.2.1-8) Fedora Linux 41 Kernel: 5.15 Compiler: gcc gcc (GCC) 14.3.1 20250523 (Red Hat 14.3.1-1) Ubuntu 22.04 Kernel: 5.15 Compiler: gcc gcc (Ubuntu 11.4.0-1ubuntu1~22.04) 11.4.0 Ubuntu 20.04 Kernel: 5.15 Compiler: gcc gcc (Ubuntu 9.4.0-1ubuntu1~20.04.2) 9.4.0 Fedora Linux 40 Kernel: 5.15 Compiler: clang gcc (GCC) 14.2.1 20240912 (Red Hat 14.2.1-3) Red Hat Enterprise Linux 9.5 Kernel: 5.15 Compiler: gcc gcc (GCC) 11.5.0 20240719 (Red Hat 11.5.0-2) Red Hat Enterprise Linux 8.10 Kernel: 5.15 Compiler: gcc gcc (GCC) 8.5.0 20210514 (Red Hat 8.5.0-22) Ubuntu 24.04 Kernel: 5.15 Compiler: gcc gcc (Ubuntu 13.3.0-6ubuntu2~24.04) 13.3.0 To view detailed results, visit: https://lab.dpdk.org/results/dashboard/patchsets/33652/ UNH-IOL DPDK Community Lab To manage your email subscriptions, visit: https://lab.dpdk.org/results/dashboard/preferences/subscriptions/