From mboxrd@z Thu Jan 1 00:00:00 1970 Return-Path: Received: from mails.dpdk.org (mails.dpdk.org [217.70.189.124]) by inbox.dpdk.org (Postfix) with ESMTP id C219446B9E for ; Thu, 17 Jul 2025 16:12:07 +0200 (CEST) Received: from mails.dpdk.org (localhost [127.0.0.1]) by mails.dpdk.org (Postfix) with ESMTP id B037D400EF; Thu, 17 Jul 2025 16:12:07 +0200 (CEST) Received: from mail-pl1-f228.google.com (mail-pl1-f228.google.com [209.85.214.228]) by mails.dpdk.org (Postfix) with ESMTP id 28C47400EF for ; Thu, 17 Jul 2025 16:12:07 +0200 (CEST) Received: by mail-pl1-f228.google.com with SMTP id d9443c01a7336-23dea2e01e4so11780125ad.1 for ; Thu, 17 Jul 2025 07:12:07 -0700 (PDT) DKIM-Signature: v=1; a=rsa-sha256; c=relaxed/relaxed; d=iol.unh.edu; s=unh-iol; t=1752761526; x=1753366326; darn=dpdk.org; h=references:in-reply-to:cc:to:from:subject:message-id:date:from:to :cc:subject:date:message-id:reply-to; bh=ybvd2E05P7wW6uPCCeNWwidH4IN/rm6hlgfmmp2NjU0=; b=cGFARg8zeFvldwW6g5Kv7OgQaRJxPVclMmFXgZvjh26LFmGwvd9/S5K5Z1K6zE+9lc 4SZHsrdWaoqy8yo2mrIP/7VJRv40IqcD1lkfOOBU+qZsUBziwCRIsXPiSUSV+gGvliZ5 ZNyPTuAo7J93WitxlH8v3kfNRlCImQvrKAWJU= X-Google-DKIM-Signature: v=1; a=rsa-sha256; c=relaxed/relaxed; d=1e100.net; s=20230601; t=1752761526; x=1753366326; h=references:in-reply-to:cc:to:from:subject:message-id:date :x-gm-message-state:from:to:cc:subject:date:message-id:reply-to; bh=ybvd2E05P7wW6uPCCeNWwidH4IN/rm6hlgfmmp2NjU0=; b=tHg2TodXelNigQV6+zHGtIOYNq4bhsKUF/NAulsHx0URDP45/3mlCTO2AEqBETzX0H URAUdj6R1c/yaD5qleQF9P1YNq7a2vdi/9ZIhQHIB/E6tm7/MrF0UC5VyHUrEWucUDwj +JClQUQhv9vwRJevoZF196Fkog4mxtaX4V9YXF/Yd6XY27mNjD6k6LSunIqKsOLHtgYf M6iwz11Lf+uPN+b4RBWN2J7iftnAY7dlbCZkPpXvHc4ttn//Vg8ANtVUKHpCYMFKYURF muDQYQe+Vj9PSZngCGWFXYvwDDL7HttxTsn2Nd0mKuC72Labrn6yQ3amXTwnZy9vUeEJ xPZA== X-Gm-Message-State: AOJu0YxFrpROCszVeI4qWheuqfd5PEVDlqa4F8iJHbMvK73iSW2iwyLx /maXCVHjExmpEZcn44kDJIcYlQrfr6BZZFulGQ/RonkLDU3ZPLUCOQtd/9am9fPJRx7V1txMFRO 7+XbBFWDVi/Ccy/NWV0kyblDs76REOHqKmr+uYDu2Fv7dvdlEvhG65juABNro X-Gm-Gg: ASbGnctc7D3hYQg6DRn5HJFdfmr0dadmcLzc8CH/M9d7ZciR3K4aJAWS8IMjuo7Lxwv uaUntm2WAbWEO27UOU6fRYEQ5MNdKw1uMFdMpqG5JHGm74cAKZatKkhjDnBXAIdSSMv6E2re6qe TwBhYR7bA+HZptM+FjYkC1/c/zIGrBjnfhDY+kcyjxJJiaarfp9q4Maxs/L7py3enStWpZACO37 UP3AavSYoOB/5Tb/ATbbWfQTtf0z+1Xs+DhyDXsL86TWp15sYuEKdoHYBzPfu4NZh8YptPxZjv2 rST0fcp9sF6Qzb7Y8AhQLU0LVbvTFKUt1wNFOHnWwx9n/QhmzQ== X-Google-Smtp-Source: AGHT+IGpOU/44MRZhcf16ocJBIgJTBvG74PBv7wSCPkbaVWz8cFq3IegDrh8XhSTrRQ2BHk8/JETi02532wu X-Received: by 2002:a17:902:da91:b0:235:eefe:68f4 with SMTP id d9443c01a7336-23e2572b0cbmr98044525ad.29.1752761526094; Thu, 17 Jul 2025 07:12:06 -0700 (PDT) Received: from postal.iol.unh.edu (postal.iol.unh.edu. [2606:4100:3880:1234::84]) by smtp-relay.gmail.com with ESMTPS id d9443c01a7336-23de4320bb5sm9011185ad.63.2025.07.17.07.12.05 (version=TLS1_2 cipher=ECDHE-ECDSA-AES128-GCM-SHA256 bits=128/128); Thu, 17 Jul 2025 07:12:06 -0700 (PDT) X-Relaying-Domain: iol.unh.edu Date: Thu, 17 Jul 2025 07:12:06 -0700 (PDT) Message-ID: <687904b6.170a0220.822f3.f964SMTPIN_ADDED_MISSING@mx.google.com> Received: from [172.21.0.6] (unknown [172.18.0.240]) by postal.iol.unh.edu (Postfix) with ESMTP id 44DF26050A61; Thu, 17 Jul 2025 10:12:05 -0400 (EDT) Subject: |SUCCESS| pw155310 [PATCH] eal: add description of service corelist From: dpdklab@iol.unh.edu To: Test Report Cc: dpdk-test-reports@iol.unh.edu In-Reply-To: <20250717094232.2184783-1-david.marchand@redhat.com> References: <20250717094232.2184783-1-david.marchand@redhat.com> Content-Type: text/plain X-BeenThere: test-report@dpdk.org X-Mailman-Version: 2.1.29 Precedence: list List-Id: automatic DPDK test reports List-Unsubscribe: , List-Archive: List-Post: List-Help: List-Subscribe: , Errors-To: test-report-bounces@dpdk.org Test-Label: iol-compile-arm64-testing Test-Status: SUCCESS http://dpdk.org/patch/155310 _Testing PASS_ Submitter: David Marchand Date: Thursday, July 17 2025 09:42:32 DPDK git baseline: Repo:dpdk Branch: master CommitID:9fe9c0b231c8da5435bfccb1963121b4277f961c 155310 --> testing pass Upstream job id: Generic-DPDK-Compile-Meson#409436 Test environment and result as below: +------------------------------+--------------------+ | Environment | dpdk_meson_compile | +==============================+====================+ | Red Hat Enterprise Linux 9.5 | PASS | +------------------------------+--------------------+ | Ubuntu 20.04 | PASS | +------------------------------+--------------------+ | Fedora Linux 40 | PASS | +------------------------------+--------------------+ | Fedora Linux 41 | PASS | +------------------------------+--------------------+ | Debian GNU/Linux 12 | PASS | +------------------------------+--------------------+ | Ubuntu 22.04 | PASS | +------------------------------+--------------------+ | Ubuntu 24.04 | PASS | +------------------------------+--------------------+ | CentOS Stream 9 | PASS | +------------------------------+--------------------+ | CentOS Stream 10 | PASS | +------------------------------+--------------------+ Red Hat Enterprise Linux 9.5 Kernel: 5.4 Compiler: gcc gcc (GCC) 11.5.0 20240719 (Red Hat 11.5.0-2) Ubuntu 20.04 Kernel: 5.15 Compiler: aarch64-linux-gnu-gcc gcc (Ubuntu 9.4.0-1ubuntu1~20.04.2) 9.4.0 Fedora Linux 40 Kernel: 5.4 Compiler: clang gcc (GCC) 14.2.1 20240912 (Red Hat 14.2.1-3) Fedora Linux 41 Kernel: 5.4 Compiler: gcc gcc (GCC) 14.3.1 20250523 (Red Hat 14.3.1-1) Debian GNU/Linux 12 Kernel: 5.4 Compiler: gcc gcc (Debian 12.2.0-14+deb12u1) 12.2.0 Ubuntu 22.04 Kernel: 5.4 Compiler: gcc gcc (Ubuntu 11.4.0-1ubuntu1~22.04) 11.4.0 Ubuntu 24.04 Kernel: 5.4 Compiler: gcc gcc (Ubuntu 13.3.0-6ubuntu2~24.04) 13.3.0 CentOS Stream 9 Kernel: 5.4 Compiler: gcc gcc (GCC) 11.5.0 20240719 (Red Hat 11.5.0-7) CentOS Stream 10 Kernel: 5.4 Compiler: gcc gcc (GCC) 14.2.1 20250110 (Red Hat 14.2.1-8) To view detailed results, visit: https://lab.dpdk.org/results/dashboard/patchsets/33679/ UNH-IOL DPDK Community Lab To manage your email subscriptions, visit: https://lab.dpdk.org/results/dashboard/preferences/subscriptions/