From mboxrd@z Thu Jan 1 00:00:00 1970 Return-Path: Received: from mails.dpdk.org (mails.dpdk.org [217.70.189.124]) by inbox.dpdk.org (Postfix) with ESMTP id D941046B9E for ; Thu, 17 Jul 2025 16:13:24 +0200 (CEST) Received: from mails.dpdk.org (localhost [127.0.0.1]) by mails.dpdk.org (Postfix) with ESMTP id D451B400EF; Thu, 17 Jul 2025 16:13:24 +0200 (CEST) Received: from mail-yw1-f226.google.com (mail-yw1-f226.google.com [209.85.128.226]) by mails.dpdk.org (Postfix) with ESMTP id A9D7D400EF for ; Thu, 17 Jul 2025 16:13:23 +0200 (CEST) Received: by mail-yw1-f226.google.com with SMTP id 00721157ae682-70e5d953c0bso10528857b3.1 for ; Thu, 17 Jul 2025 07:13:23 -0700 (PDT) DKIM-Signature: v=1; a=rsa-sha256; c=relaxed/relaxed; d=iol.unh.edu; s=unh-iol; t=1752761603; x=1753366403; darn=dpdk.org; h=references:in-reply-to:cc:to:from:subject:message-id:date:from:to :cc:subject:date:message-id:reply-to; bh=pEmt0srq0AJNSGxslNAoHmQXC085092RXFs2Oxar7yo=; b=cEAIsV7wBxyozvHtRIVcyrNmX50tp+ReBwa0zwF0yMS2/VAsI7xRfUuU5QKeVZp7Xt Hdk1iRyZJc95JwPYknb8Z3nrxFWmxwBvhBrUcAtE4FgvbStE1DpC/fIbWUgmtVKqQFAA D/K99k7ljGg58/Id1nPnwWjLKs1mODDYfSi2Y= X-Google-DKIM-Signature: v=1; a=rsa-sha256; c=relaxed/relaxed; d=1e100.net; s=20230601; t=1752761603; x=1753366403; h=references:in-reply-to:cc:to:from:subject:message-id:date :x-gm-message-state:from:to:cc:subject:date:message-id:reply-to; bh=pEmt0srq0AJNSGxslNAoHmQXC085092RXFs2Oxar7yo=; b=WeyFR4s2qo1eg6ljQ9n9SV3/oUGWo2/ZCMjkH7q7v499yVXX/gMZSF+HflsnxlEzse YXa0fP4FP2zZ+vQ55X7cl7TRD/9hemuyP2BLeQb6Z5Yuj3X2cVhJIRlRSAOo9NEwWgPh k3GnBMq4Unn2qOFcARw/nZJ78fe/VBkiQT/9oQkru5199RZMDI7xKkwdN5BIdEXPhYpF kxUsEPb00B5gIxCf5/zCFA3YuhK6Jlbad/56quoAz6xwNDPCDggvd4B0Hga30Whys41B F28mgnwgaHKFBN8YRKHRHXBxssFgBB2UZUk05B1gK0yCNsTh2bs5DriAdrlB8w3BtrDY nuLw== X-Gm-Message-State: AOJu0YyFM0sd1isD/0CNDIsMGYs25O7XptbJv+idZf8FpEs2q20tgmzF LXXVqr0d3OANbcrZsWZ+eZynNhJMl2dTSEzIY6kHEBRM+2n1wiSQhY7Iaa0oa9SW7hTekSTKRAf JH7NBAkUs2lNntnu6tg2O91QMIb6Xg0LWs4+0v+uyvXNNejt6ERcIabEzZ0iB X-Gm-Gg: ASbGncv2JHnnHGo7E/OoCDkeLeKshWPHnIgpDL1F7EK9lDFmPd09vMcEcW4zpt11r9n ehun8TGXRIrszIYQ3xFle/xVAOcnbzjjsiG3mgdxs8WcuRnLLaeOnjVlgdM3JtPbgyYfWmXVBdo rJMRzWYrvHJtJrW8k1S6FRBnLuSD8k4o1enNi/j7OAdY8aHXwPlOFZNDHvX0AdEXE1WeZSuaL3K svhx7/jiQizob1JWLt1Kh+LVeVet8xZAEyRnh4Zq+5yQe7Dx9MSaY4ahEteIDWTLCYDLyaBLD1t u4D6cea8CnBqLRPqq3qkGR2JcWgm6A2Cp8aXQMjtJW56BKw1rA== X-Google-Smtp-Source: AGHT+IHsHumQSmzQw9R1yh7cSItW9c9YB9AUeOdLDRTaRuHawvevCn2Ev7Ooo7bSQ7YMcgoVroFHJ9dkviuG X-Received: by 2002:a05:690c:7006:b0:70e:82d6:9af2 with SMTP id 00721157ae682-7183519693bmr102825177b3.34.1752761592066; Thu, 17 Jul 2025 07:13:12 -0700 (PDT) Received: from postal.iol.unh.edu (postal.iol.unh.edu. [2606:4100:3880:1234::84]) by smtp-relay.gmail.com with ESMTPS id 00721157ae682-717c6234a7fsm5690377b3.47.2025.07.17.07.13.12 (version=TLS1_2 cipher=ECDHE-ECDSA-AES128-GCM-SHA256 bits=128/128); Thu, 17 Jul 2025 07:13:12 -0700 (PDT) X-Relaying-Domain: iol.unh.edu Date: Thu, 17 Jul 2025 07:13:12 -0700 (PDT) Message-ID: <687904f8.050a0220.c2ddf.dbf3SMTPIN_ADDED_MISSING@mx.google.com> Received: from [172.21.0.5] (unknown [172.18.0.240]) by postal.iol.unh.edu (Postfix) with ESMTP id AC88E6050A61; Thu, 17 Jul 2025 10:13:11 -0400 (EDT) Subject: |SUCCESS| pw155310 [PATCH] eal: add description of service corelist From: dpdklab@iol.unh.edu To: Test Report Cc: dpdk-test-reports@iol.unh.edu In-Reply-To: <20250717094232.2184783-1-david.marchand@redhat.com> References: <20250717094232.2184783-1-david.marchand@redhat.com> Content-Type: text/plain X-BeenThere: test-report@dpdk.org X-Mailman-Version: 2.1.29 Precedence: list List-Id: automatic DPDK test reports List-Unsubscribe: , List-Archive: List-Post: List-Help: List-Subscribe: , Errors-To: test-report-bounces@dpdk.org Test-Label: iol-compile-arm64-testing Test-Status: SUCCESS http://dpdk.org/patch/155310 _Testing PASS_ Submitter: David Marchand Date: Thursday, July 17 2025 09:42:32 DPDK git baseline: Repo:dpdk Branch: master CommitID:9fe9c0b231c8da5435bfccb1963121b4277f961c 155310 --> testing pass Upstream job id: Generic-DPDK-Compile-Meson#409438 Test environment and result as below: +------------------------------+--------------------+ | Environment | dpdk_meson_compile | +==============================+====================+ | Red Hat Enterprise Linux 9.5 | PASS | +------------------------------+--------------------+ | Ubuntu 20.04 | PASS | +------------------------------+--------------------+ | Fedora Linux 40 | PASS | +------------------------------+--------------------+ | Fedora Linux 41 | PASS | +------------------------------+--------------------+ | Debian GNU/Linux 12 | PASS | +------------------------------+--------------------+ | Ubuntu 22.04 | PASS | +------------------------------+--------------------+ | Ubuntu 24.04 | PASS | +------------------------------+--------------------+ | CentOS Stream 9 | PASS | +------------------------------+--------------------+ | CentOS Stream 10 | PASS | +------------------------------+--------------------+ Red Hat Enterprise Linux 9.5 Kernel: 5.4 Compiler: gcc gcc (GCC) 11.5.0 20240719 (Red Hat 11.5.0-2) Ubuntu 20.04 Kernel: 5.15 Compiler: aarch64-linux-gnu-gcc gcc (Ubuntu 9.4.0-1ubuntu1~20.04.2) 9.4.0 Fedora Linux 40 Kernel: 5.4 Compiler: clang gcc (GCC) 14.2.1 20240912 (Red Hat 14.2.1-3) Fedora Linux 41 Kernel: 5.4 Compiler: gcc gcc (GCC) 14.3.1 20250523 (Red Hat 14.3.1-1) Debian GNU/Linux 12 Kernel: 5.4 Compiler: gcc gcc (Debian 12.2.0-14+deb12u1) 12.2.0 Ubuntu 22.04 Kernel: 5.4 Compiler: gcc gcc (Ubuntu 11.4.0-1ubuntu1~22.04) 11.4.0 Ubuntu 24.04 Kernel: 5.4 Compiler: gcc gcc (Ubuntu 13.3.0-6ubuntu2~24.04) 13.3.0 CentOS Stream 9 Kernel: 5.4 Compiler: gcc gcc (GCC) 11.5.0 20240719 (Red Hat 11.5.0-7) CentOS Stream 10 Kernel: 5.4 Compiler: gcc gcc (GCC) 14.2.1 20250110 (Red Hat 14.2.1-8) To view detailed results, visit: https://lab.dpdk.org/results/dashboard/patchsets/33679/ UNH-IOL DPDK Community Lab To manage your email subscriptions, visit: https://lab.dpdk.org/results/dashboard/preferences/subscriptions/