From mboxrd@z Thu Jan 1 00:00:00 1970 Return-Path: Received: from mails.dpdk.org (mails.dpdk.org [217.70.189.124]) by inbox.dpdk.org (Postfix) with ESMTP id 434D546B9E for ; Thu, 17 Jul 2025 16:28:52 +0200 (CEST) Received: from mails.dpdk.org (localhost [127.0.0.1]) by mails.dpdk.org (Postfix) with ESMTP id 2033A400EF; Thu, 17 Jul 2025 16:28:52 +0200 (CEST) Received: from mail-qv1-f97.google.com (mail-qv1-f97.google.com [209.85.219.97]) by mails.dpdk.org (Postfix) with ESMTP id AF5D7400EF for ; Thu, 17 Jul 2025 16:28:50 +0200 (CEST) Received: by mail-qv1-f97.google.com with SMTP id 6a1803df08f44-704cb8b1314so7123346d6.3 for ; Thu, 17 Jul 2025 07:28:50 -0700 (PDT) DKIM-Signature: v=1; a=rsa-sha256; c=relaxed/relaxed; d=iol.unh.edu; s=unh-iol; t=1752762530; x=1753367330; darn=dpdk.org; h=references:in-reply-to:cc:to:from:subject:message-id:date:from:to :cc:subject:date:message-id:reply-to; bh=u9Ganb2HrrSeTCawZ3xtqxCcUpmzih5Yhhqyn5NnsS0=; b=fQa5ACq5DKvgGrSjpIkbeTTuphA5gUZQp/GLNz6DgcvfUoigXuZdXWIEXrvoiiTzDJ gMk2ayS3V+ECtJYFLimIQ58Xyz9DLnoX0nEteP0X9ZJ73e3COF/TBQuHKwRoM6s55zuf 3qQxd2fk2O4gTfy704DRUlK4tPH6kt+OmXdys= X-Google-DKIM-Signature: v=1; a=rsa-sha256; c=relaxed/relaxed; d=1e100.net; s=20230601; t=1752762530; x=1753367330; h=references:in-reply-to:cc:to:from:subject:message-id:date :x-gm-message-state:from:to:cc:subject:date:message-id:reply-to; bh=u9Ganb2HrrSeTCawZ3xtqxCcUpmzih5Yhhqyn5NnsS0=; b=C4KCtex3BJkECorcd0eX1MquNNYEN3aPiJGm3t2xkqk55TFWYLHjIn/6tdn/StBXW5 bL69Jk955TEIq341PuMJU57Si67n0hMtDKS83N6BrhpS5gRJoyjJAT6u+tw2i0YFkaa3 8ujJNPWZs9IQfS+zyklKd2Gg536gsV7v+ypiBgDlLT8nI+6KrNK7ceEESuoewBOIUsFm rvnaMtsQOUlHm9uG2U3/CBfNl2kQInIXUDkPQl+OwOstqwHkH/ur4BTW7n22xKSqzW3I zgbXLOum3MQwOSAdZ7MR7VxNWw+l2H4npmPE7PeiRquI9J8XAZAg1yD/pqXXsmkSBq3E NjfA== X-Gm-Message-State: AOJu0YzItixTJ32KyghYam2ryXf1dOINCE8bhsoN18s9KtJufSIADSRw 3RtqEF6VsUy8oKLPICayt4bDwx1ilXO/GZf/wG74hUb/hXXqqL0Zt3kvt5q2c80pVam9gm0/yvC rFyph7Y+/Pgk7GVdbaU+z34L6gFXD4q16Y+Qiwdm+m148 X-Gm-Gg: ASbGncuU6mBqrOjkKAu5RdxMFluq9mlqhvWfmWvE+gWaZjV7+I+w6rSiIa/p0yjifHs 5WuzXRCbiwu22KsutxZg6eKwpcDzITzShCFESWQ6NTIyRNon9Ei+dGpXOKrpDpaSv6X4u+0UcO7 w7w2De6BGf+WV1mmyqj8B8z54h9JMjyDdXrih79/luhEtSXneDVOuhoJUSEQc3JH3jbi8fpUOnx IQQ4C6WPN0WNAagdtsm6SuJHjwjvZrIOEVIpXaggzaIO07dQLGWEuMBG6NlV9kGD0oU5bR51RFr 5grv6XHz7+OpgKcxbSdeBhBGjlvwqK13x6v3k8n2iIyAUFmaE4ZCFRXZsztgKZWg0ssJXDu7 X-Google-Smtp-Source: AGHT+IECbJIu9jEL0/shN2zdwH9SUmdv8Q5n0jDrKJQ7f3ZsG6diqhi2H9YWLd9val8aeFtjQHh1RYIS3t/u X-Received: by 2002:a05:6214:5885:b0:6fa:c6ad:1618 with SMTP id 6a1803df08f44-704f6aa0d13mr101676126d6.27.1752762529890; Thu, 17 Jul 2025 07:28:49 -0700 (PDT) Received: from postal.iol.unh.edu (postal.iol.unh.edu. [132.177.123.84]) by smtp-relay.gmail.com with ESMTPS id 6a1803df08f44-70497d59c21sm9154616d6.46.2025.07.17.07.28.49 (version=TLS1_2 cipher=ECDHE-ECDSA-AES128-GCM-SHA256 bits=128/128); Thu, 17 Jul 2025 07:28:49 -0700 (PDT) X-Relaying-Domain: iol.unh.edu Date: Thu, 17 Jul 2025 07:28:49 -0700 (PDT) Message-ID: <687908a1.d40a0220.15e19e.ff29SMTPIN_ADDED_MISSING@mx.google.com> Received: from [172.21.0.5] (unknown [172.18.0.240]) by postal.iol.unh.edu (Postfix) with ESMTP id 8EE34604D420; Thu, 17 Jul 2025 10:28:49 -0400 (EDT) Subject: |SUCCESS| pw155207 [PATCH] [v1] mailmap: add new email to DPDK From: dpdklab@iol.unh.edu To: Test Report Cc: dpdk-test-reports@iol.unh.edu In-Reply-To: <20250714191141.1243467-1-pravin.pathak@intel.com> References: <20250714191141.1243467-1-pravin.pathak@intel.com> Content-Type: text/plain X-BeenThere: test-report@dpdk.org X-Mailman-Version: 2.1.29 Precedence: list List-Id: automatic DPDK test reports List-Unsubscribe: , List-Archive: List-Post: List-Help: List-Subscribe: , Errors-To: test-report-bounces@dpdk.org Test-Label: iol-abi-testing Test-Status: SUCCESS http://dpdk.org/patch/155207 _Testing PASS RETEST #1_ Submitter: Pravin Pathak Date: Monday, July 14 2025 19:11:41 DPDK git baseline: Repo:dpdk Branch: master CommitID:9fe9c0b231c8da5435bfccb1963121b4277f961c 155207 --> testing pass Upstream job id: Generic-DPDK-Compile-ABI#134671 Test environment and result as below: +-------------------------------+----------+ | Environment | abi_test | +===============================+==========+ | Fedora Linux 41 | PASS | +-------------------------------+----------+ | CentOS Stream 10 | PASS | +-------------------------------+----------+ | Debian GNU/Linux 12 | PASS | +-------------------------------+----------+ | CentOS Stream 9 | PASS | +-------------------------------+----------+ | Fedora Linux 40 | PASS | +-------------------------------+----------+ | Red Hat Enterprise Linux 8.10 | PASS | +-------------------------------+----------+ | openSUSE Leap 15.6 | PASS | +-------------------------------+----------+ | Ubuntu 22.04 | PASS | +-------------------------------+----------+ | Red Hat Enterprise Linux 9.5 | PASS | +-------------------------------+----------+ | Ubuntu 24.04 | PASS | +-------------------------------+----------+ Fedora Linux 41 Kernel: 5.15 Compiler: gcc gcc (GCC) 14.3.1 20250523 (Red Hat 14.3.1-1) CentOS Stream 10 Kernel: 5.15 Compiler: gcc gcc (GCC) 14.2.1 20250110 (Red Hat 14.2.1-8) Debian GNU/Linux 12 Kernel: 5.15 Compiler: gcc gcc (Debian 12.2.0-14+deb12u1) 12.2.0 CentOS Stream 9 Kernel: 5.15 Compiler: gcc gcc (GCC) 11.5.0 20240719 (Red Hat 11.5.0-7) Fedora Linux 40 Kernel: 5.15 Compiler: clang gcc (GCC) 14.2.1 20240912 (Red Hat 14.2.1-3) Red Hat Enterprise Linux 8.10 Kernel: 5.15 Compiler: gcc gcc (GCC) 8.5.0 20210514 (Red Hat 8.5.0-22) openSUSE Leap 15.6 Kernel: 5.15 Compiler: gcc gcc (SUSE Linux) 7.5.0 Ubuntu 22.04 Kernel: 5.15 Compiler: gcc gcc (Ubuntu 11.4.0-1ubuntu1~22.04) 11.4.0 Red Hat Enterprise Linux 9.5 Kernel: 5.15 Compiler: gcc gcc (GCC) 11.5.0 20240719 (Red Hat 11.5.0-2) Ubuntu 24.04 Kernel: 5.15 Compiler: gcc gcc (Ubuntu 13.3.0-6ubuntu2~24.04) 13.3.0 To view detailed results, visit: https://lab.dpdk.org/results/dashboard/patchsets/33652/ UNH-IOL DPDK Community Lab To manage your email subscriptions, visit: https://lab.dpdk.org/results/dashboard/preferences/subscriptions/