From mboxrd@z Thu Jan 1 00:00:00 1970 Return-Path: Received: from mails.dpdk.org (mails.dpdk.org [217.70.189.124]) by inbox.dpdk.org (Postfix) with ESMTP id E8E7546B9E for ; Thu, 17 Jul 2025 16:48:29 +0200 (CEST) Received: from mails.dpdk.org (localhost [127.0.0.1]) by mails.dpdk.org (Postfix) with ESMTP id C474B400EF; Thu, 17 Jul 2025 16:48:29 +0200 (CEST) Received: from mail-pl1-f228.google.com (mail-pl1-f228.google.com [209.85.214.228]) by mails.dpdk.org (Postfix) with ESMTP id AD36F400EF for ; Thu, 17 Jul 2025 16:48:28 +0200 (CEST) Received: by mail-pl1-f228.google.com with SMTP id d9443c01a7336-234f17910d8so9603635ad.3 for ; Thu, 17 Jul 2025 07:48:28 -0700 (PDT) DKIM-Signature: v=1; a=rsa-sha256; c=relaxed/relaxed; d=iol.unh.edu; s=unh-iol; t=1752763708; x=1753368508; darn=dpdk.org; h=references:in-reply-to:cc:to:from:subject:message-id:date:from:to :cc:subject:date:message-id:reply-to; bh=ci8YpxB6N6Nr5mDXnXCrYIFVWpnyuE6OcYKGq8o5nhA=; b=biW517zkCylvNluSUvIgpnYnyYoZ3AjK6ihxpJmOIV5CqsT0UEj97Tf+2nxqYmaxTg 5nAAdQJComYLNri+jEWeUgdKCXQZTaR2b8qDmb1ZJuoniScR8Iyazqq6sDw7QBQwk5rB r+BeA0U0BnPCvh9j/8ziZv/6SGAFsNx4VSp90= X-Google-DKIM-Signature: v=1; a=rsa-sha256; c=relaxed/relaxed; d=1e100.net; s=20230601; t=1752763708; x=1753368508; h=references:in-reply-to:cc:to:from:subject:message-id:date :x-gm-message-state:from:to:cc:subject:date:message-id:reply-to; bh=ci8YpxB6N6Nr5mDXnXCrYIFVWpnyuE6OcYKGq8o5nhA=; b=HMhHAcYilmpEsX0X8DRJSExIPtBH7VwpzULa0p/XxDXHa9a9l4tgsiaAmemV6p5WzY xJC2aOZEJoGVJsQOOnF53cf02gc8oc3HhP1aBqIHoXQ1e0sQpoaFJ7OgAragzef0DSHe ffGV0n05MweMLWMNC4SojRB9cJqd3hN57Wfzgvavd1maAHByi2ddYElAhMQuZ7x5nJ2m 5MxLWozxeaTfvmX5/nXN5fIixTur409QVFNiOJNDsknStK6it2BurbX+xIKLHZalDlcL cktlldDcl6tljWHpoc93gavDwdkfMOOHmBxu4yrxRV2D+3TKsj5FPMbx1b9lb6rqVphj lzxQ== X-Gm-Message-State: AOJu0YxUllZQQt7i7/WS9Bv2v4HHqiRRowfxu0SJ+z/I2sGFN1tbHOLP 0oQQfQ/Pj9UQcf7qudZFNB0GiSXKsbAmZHu2MK20R1R7HOB3VLcmN2wIq/Av6Ob7cgHGlpQtnGS mIXO/6F0QIXfiaEDUGzZLezkDuryF2isbK/UGF+l5CqiX X-Gm-Gg: ASbGncuBk+ODcHV8gPDdChptFzVfxWv5aZ0BRMqttoYrY9uMKfBNs9sATCsi9oq0akG uqe8B6J9K2kHFGhem134xR3z25b1i8LDhyLzyo90LasojTDpZqToTbX00KCxLfdJw8MGjV6qULc Q2Y6/DRqCsdy4eDfSGf0ablmvsL0ALNFjo2TIRv7svmqM+EvLJz5WHE5o+tEDJtOS9lc3GGg9+T KZcMcOi5MrBBf5C0c2jrG7KM8HVMLP7JUGOR8hkuSoQNSl/CQ1rkRx5xxR9vOrBJ8sAy5LTf503 qnS0PAK6eQJNuL959vDcfA/tjhAk67fC86cC8ahBBQQH1eLc0wTolP8DolmWgd5ggcZi1x1c X-Google-Smtp-Source: AGHT+IGp34AJwnVUc/MsOlnkWKAF93FhKPt0LmLLATbzNcog/Qa7kHHVGdHkhIFjtah+cZrF47qoq45SkQsW X-Received: by 2002:a17:902:e745:b0:224:1eab:97b2 with SMTP id d9443c01a7336-23e24f8aef8mr116251795ad.53.1752763707674; Thu, 17 Jul 2025 07:48:27 -0700 (PDT) Received: from postal.iol.unh.edu (postal.iol.unh.edu. [132.177.123.84]) by smtp-relay.gmail.com with ESMTPS id d9443c01a7336-23de4320b64sm8712675ad.64.2025.07.17.07.48.27 (version=TLS1_2 cipher=ECDHE-ECDSA-AES128-GCM-SHA256 bits=128/128); Thu, 17 Jul 2025 07:48:27 -0700 (PDT) X-Relaying-Domain: iol.unh.edu Date: Thu, 17 Jul 2025 07:48:27 -0700 (PDT) Message-ID: <68790d3b.170a0220.288161.deebSMTPIN_ADDED_MISSING@mx.google.com> Received: from [172.21.0.5] (unknown [172.18.0.240]) by postal.iol.unh.edu (Postfix) with ESMTP id C76D9604D420; Thu, 17 Jul 2025 10:48:26 -0400 (EDT) Subject: |SUCCESS| pw155207 [PATCH] [v1] mailmap: add new email to DPDK From: dpdklab@iol.unh.edu To: Test Report Cc: dpdk-test-reports@iol.unh.edu In-Reply-To: <20250714191141.1243467-1-pravin.pathak@intel.com> References: <20250714191141.1243467-1-pravin.pathak@intel.com> Content-Type: text/plain X-BeenThere: test-report@dpdk.org X-Mailman-Version: 2.1.29 Precedence: list List-Id: automatic DPDK test reports List-Unsubscribe: , List-Archive: List-Post: List-Help: List-Subscribe: , Errors-To: test-report-bounces@dpdk.org Test-Label: iol-unit-arm64-testing Test-Status: SUCCESS http://dpdk.org/patch/155207 _Testing PASS RETEST #1_ Submitter: Pravin Pathak Date: Monday, July 14 2025 19:11:41 DPDK git baseline: Repo:dpdk Branch: master CommitID:9fe9c0b231c8da5435bfccb1963121b4277f961c 155207 --> testing pass Upstream job id: Generic-Unit-Test-DPDK#356027 Test environment and result as below: +------------------------------+---------------------------+----------------+--------------+------------------------------+ | Environment | cryptodev_sw_zuc_autotest | dpdk_unit_test | lpm_autotest | cryptodev_sw_snow3g_autotest | +==============================+===========================+================+==============+==============================+ | Debian 12 (arm) | PASS | SKIPPED | SKIPPED | PASS | +------------------------------+---------------------------+----------------+--------------+------------------------------+ | Fedora Linux 40 | SKIPPED | PASS | SKIPPED | SKIPPED | +------------------------------+---------------------------+----------------+--------------+------------------------------+ | Ubuntu 20.04 | SKIPPED | PASS | PASS | SKIPPED | +------------------------------+---------------------------+----------------+--------------+------------------------------+ | Fedora Linux 41 | SKIPPED | PASS | SKIPPED | SKIPPED | +------------------------------+---------------------------+----------------+--------------+------------------------------+ | CentOS Stream 10 | SKIPPED | PASS | SKIPPED | SKIPPED | +------------------------------+---------------------------+----------------+--------------+------------------------------+ | Debian GNU/Linux 12 | SKIPPED | PASS | SKIPPED | SKIPPED | +------------------------------+---------------------------+----------------+--------------+------------------------------+ | CentOS Stream 9 | SKIPPED | PASS | SKIPPED | SKIPPED | +------------------------------+---------------------------+----------------+--------------+------------------------------+ | Red Hat Enterprise Linux 9.5 | SKIPPED | PASS | SKIPPED | SKIPPED | +------------------------------+---------------------------+----------------+--------------+------------------------------+ | Ubuntu 22.04 | SKIPPED | PASS | SKIPPED | SKIPPED | +------------------------------+---------------------------+----------------+--------------+------------------------------+ | Ubuntu 24.04 | SKIPPED | PASS | SKIPPED | SKIPPED | +------------------------------+---------------------------+----------------+--------------+------------------------------+ Debian 12 (arm) Kernel: Depends on container host Compiler: gcc (Debian 12.2.0-14) 12.2.0 Fedora Linux 40 Kernel: 5.4 Compiler: gcc gcc (GCC) 14.2.1 20240912 (Red Hat 14.2.1-3) Ubuntu 20.04 Kernel: 5.4 Compiler: gcc gcc (Ubuntu 9.4.0-1ubuntu1~20.04.2) 9.4.0 Fedora Linux 41 Kernel: 5.4 Compiler: gcc gcc (GCC) 14.3.1 20250523 (Red Hat 14.3.1-1) CentOS Stream 10 Kernel: 5.4 Compiler: gcc gcc (GCC) 14.2.1 20250110 (Red Hat 14.2.1-8) Debian GNU/Linux 12 Kernel: 5.4 Compiler: gcc gcc (Debian 12.2.0-14+deb12u1) 12.2.0 CentOS Stream 9 Kernel: 5.4 Compiler: gcc gcc (GCC) 11.5.0 20240719 (Red Hat 11.5.0-7) Red Hat Enterprise Linux 9.5 Kernel: 5.4 Compiler: gcc gcc (GCC) 11.5.0 20240719 (Red Hat 11.5.0-2) Ubuntu 22.04 Kernel: 5.4 Compiler: gcc gcc (Ubuntu 11.4.0-1ubuntu1~22.04) 11.4.0 Ubuntu 24.04 Kernel: 5.4 Compiler: gcc gcc (Ubuntu 13.3.0-6ubuntu2~24.04) 13.3.0 To view detailed results, visit: https://lab.dpdk.org/results/dashboard/patchsets/33652/ UNH-IOL DPDK Community Lab To manage your email subscriptions, visit: https://lab.dpdk.org/results/dashboard/preferences/subscriptions/