From mboxrd@z Thu Jan 1 00:00:00 1970 Return-Path: Received: from mails.dpdk.org (mails.dpdk.org [217.70.189.124]) by inbox.dpdk.org (Postfix) with ESMTP id B3C3346B9E for ; Thu, 17 Jul 2025 16:58:32 +0200 (CEST) Received: from mails.dpdk.org (localhost [127.0.0.1]) by mails.dpdk.org (Postfix) with ESMTP id 93EF2400EF; Thu, 17 Jul 2025 16:58:32 +0200 (CEST) Received: from mail-qk1-f228.google.com (mail-qk1-f228.google.com [209.85.222.228]) by mails.dpdk.org (Postfix) with ESMTP id 76EBA400EF for ; Thu, 17 Jul 2025 16:58:31 +0200 (CEST) Received: by mail-qk1-f228.google.com with SMTP id af79cd13be357-7de159778d4so103136185a.1 for ; Thu, 17 Jul 2025 07:58:31 -0700 (PDT) DKIM-Signature: v=1; a=rsa-sha256; c=relaxed/relaxed; d=iol.unh.edu; s=unh-iol; t=1752764311; x=1753369111; darn=dpdk.org; h=references:in-reply-to:cc:to:from:subject:message-id:date:from:to :cc:subject:date:message-id:reply-to; bh=8ZN2BquGzNnor6rfOth7mWP6h3UieZ/YCkFNymYCtu8=; b=e47IPGWwExuB+2YHEh8X/jXJYFW8tRT8A4y3EDJVdZ9t/GCeCLzANzaAamLpSHr30I BOoi+Zq/2jZmhzulsmfBXDaCPXlZIbLDcMkZEef1wkxM6Z7IJyYI50ArnzOs4i14avWF kjKphdWkq/Q/HFe0aBSx0MBH0inphdJFiL1/U= X-Google-DKIM-Signature: v=1; a=rsa-sha256; c=relaxed/relaxed; d=1e100.net; s=20230601; t=1752764311; x=1753369111; h=references:in-reply-to:cc:to:from:subject:message-id:date :x-gm-message-state:from:to:cc:subject:date:message-id:reply-to; bh=8ZN2BquGzNnor6rfOth7mWP6h3UieZ/YCkFNymYCtu8=; b=KIaKuaX5hELlQsOnRI9F/nQaAaYEu/uxVot1cNdbo64Bb8XElBxdaSJTq1JaWG4c+u IBfep1FtDQ+pdN24Kn2oCF6U8isKRcBZzzijsHCMY38hY5LBBcsJJ2tAgQttWJi+veiK MY0GhzK5T4scOWIu3eqhgAvmyuvHFi19u1pQSWAAYAfHXA4Ebotfnijw3zmUBbrbmW+C ek7QowrEL1Ue7yrAxK3s0mJoL+a267uTbFLEReUBni4KeEeDIeXMgijCsotWraKhAZBn LaGkKv/xDMcJUw5rnfecYxLG3o+wNooZZDmhm0y2xI08b21sZWgM6Nsas5xLxYrBMlpi ENiA== X-Gm-Message-State: AOJu0Yz5evPwA3PjIZS2RVDzlc/x6ORRa2yqQi+8Ed3kdmGNUl+r8ulS hyKk5onPTC6y9lMNOgWf/sX9sUslODazCC5Eu3QIa8cXpU25TAeng4JAb+ZJasVMq2HrdSMYPk8 bzWVcL3PuOb4ntomMM11aCNX4z/K0N0+fW4cq0eSZdXqt8hQHLqvH8HAYPZHf X-Gm-Gg: ASbGnctGzSlhI8UT+5fXI6pVODJ7TPCNQlI+be98W2B8MUy8qLIUeP/CNoBvLGDGeP4 NuiD0h/qnSdy0ycdI5YQ/M5bS2xd6h/jS1KVL3nyR4k7ok/pPBTv004cO5YVFiSUyF7J7cZmgyU lm29f9Nyh+cOCTG6P+lJu1xG5yZJLKGwulVODFwfdEWSeflcI5upsLlySmE454d0nqL2k44PQZQ u9uPF1gTFr8HlvffG1TkqYPJ452BYEPbS7ZTUH/kQ/UnPvkJaRN8j6E+y5GtG7c3AyHLve9aZqn hE+ZQn0qXsGmzevkboypXOf2pjIImMFKAWfNHCOxs8stKFQ8Pw== X-Google-Smtp-Source: AGHT+IEUkNofhLCxxXWVtshGflZa4d8MvDpkviQk0pUbMkGq+zOGbPeLk0p0CicfiFjke8Azaw8QdW9OgOzW X-Received: by 2002:a05:620a:7007:b0:7e2:77d0:f34c with SMTP id af79cd13be357-7e3433740b3mr969930485a.13.1752764310563; Thu, 17 Jul 2025 07:58:30 -0700 (PDT) Received: from postal.iol.unh.edu (postal.iol.unh.edu. [2606:4100:3880:1234::84]) by smtp-relay.gmail.com with ESMTPS id af79cd13be357-7e2d61b43acsm31079485a.0.2025.07.17.07.58.30 (version=TLS1_2 cipher=ECDHE-ECDSA-AES128-GCM-SHA256 bits=128/128); Thu, 17 Jul 2025 07:58:30 -0700 (PDT) X-Relaying-Domain: iol.unh.edu Date: Thu, 17 Jul 2025 07:58:30 -0700 (PDT) Message-ID: <68790f96.050a0220.de6a5.fb4aSMTPIN_ADDED_MISSING@mx.google.com> Received: from [172.21.0.5] (unknown [172.18.0.240]) by postal.iol.unh.edu (Postfix) with ESMTP id 05E2C604D420; Thu, 17 Jul 2025 10:58:30 -0400 (EDT) Subject: |SUCCESS| pw155302-155309 [PATCH] [v9,8/8] bus/dpaa: optimize qman e From: dpdklab@iol.unh.edu To: Test Report Cc: dpdk-test-reports@iol.unh.edu In-Reply-To: <20250717094238.899294-9-vanshika.shukla@nxp.com> References: <20250717094238.899294-9-vanshika.shukla@nxp.com> Content-Type: text/plain X-BeenThere: test-report@dpdk.org X-Mailman-Version: 2.1.29 Precedence: list List-Id: automatic DPDK test reports List-Unsubscribe: , List-Archive: List-Post: List-Help: List-Subscribe: , Errors-To: test-report-bounces@dpdk.org Test-Label: iol-compile-arm64-testing Test-Status: SUCCESS http://dpdk.org/patch/155309 _Testing PASS_ Submitter: Vanshika Shukla Date: Thursday, July 17 2025 09:42:38 DPDK git baseline: Repo:dpdk Branch: master CommitID:9fe9c0b231c8da5435bfccb1963121b4277f961c 155302-155309 --> testing pass Upstream job id: Generic-DPDK-Compile-Meson#409454 Test environment and result as below: +------------------------------+--------------------+ | Environment | dpdk_meson_compile | +==============================+====================+ | Fedora Linux 40 | PASS | +------------------------------+--------------------+ | Debian GNU/Linux 12 | PASS | +------------------------------+--------------------+ | Red Hat Enterprise Linux 9.5 | PASS | +------------------------------+--------------------+ | Ubuntu 20.04 | PASS | +------------------------------+--------------------+ | Fedora Linux 41 | PASS | +------------------------------+--------------------+ | Ubuntu 24.04 | PASS | +------------------------------+--------------------+ | CentOS Stream 9 | PASS | +------------------------------+--------------------+ | Ubuntu 22.04 | PASS | +------------------------------+--------------------+ | CentOS Stream 10 | PASS | +------------------------------+--------------------+ Fedora Linux 40 Kernel: 5.4 Compiler: gcc gcc (GCC) 14.2.1 20240912 (Red Hat 14.2.1-3) Debian GNU/Linux 12 Kernel: 5.4 Compiler: gcc gcc (Debian 12.2.0-14+deb12u1) 12.2.0 Red Hat Enterprise Linux 9.5 Kernel: 5.4 Compiler: gcc gcc (GCC) 11.5.0 20240719 (Red Hat 11.5.0-2) Ubuntu 20.04 Kernel: 5.4 Compiler: gcc gcc (Ubuntu 9.4.0-1ubuntu1~20.04.2) 9.4.0 Fedora Linux 41 Kernel: 5.4 Compiler: gcc gcc (GCC) 14.3.1 20250523 (Red Hat 14.3.1-1) Ubuntu 24.04 Kernel: 5.4 Compiler: gcc gcc (Ubuntu 13.3.0-6ubuntu2~24.04) 13.3.0 CentOS Stream 9 Kernel: 5.4 Compiler: gcc gcc (GCC) 11.5.0 20240719 (Red Hat 11.5.0-7) Ubuntu 22.04 Kernel: 5.4 Compiler: gcc gcc (Ubuntu 11.4.0-1ubuntu1~22.04) 11.4.0 CentOS Stream 10 Kernel: 5.4 Compiler: gcc gcc (GCC) 14.2.1 20250110 (Red Hat 14.2.1-8) To view detailed results, visit: https://lab.dpdk.org/results/dashboard/patchsets/33678/ UNH-IOL DPDK Community Lab To manage your email subscriptions, visit: https://lab.dpdk.org/results/dashboard/preferences/subscriptions/