From mboxrd@z Thu Jan 1 00:00:00 1970 Return-Path: Received: from mails.dpdk.org (mails.dpdk.org [217.70.189.124]) by inbox.dpdk.org (Postfix) with ESMTP id A602C46B9F for ; Thu, 17 Jul 2025 19:01:04 +0200 (CEST) Received: from mails.dpdk.org (localhost [127.0.0.1]) by mails.dpdk.org (Postfix) with ESMTP id 7F6F6400EF; Thu, 17 Jul 2025 19:01:04 +0200 (CEST) Received: from mail-qv1-f99.google.com (mail-qv1-f99.google.com [209.85.219.99]) by mails.dpdk.org (Postfix) with ESMTP id 02994400EF for ; Thu, 17 Jul 2025 19:01:03 +0200 (CEST) Received: by mail-qv1-f99.google.com with SMTP id 6a1803df08f44-6facc3b9559so16016596d6.0 for ; Thu, 17 Jul 2025 10:01:02 -0700 (PDT) DKIM-Signature: v=1; a=rsa-sha256; c=relaxed/relaxed; d=iol.unh.edu; s=unh-iol; t=1752771662; x=1753376462; darn=dpdk.org; h=references:in-reply-to:cc:to:from:subject:message-id:date:from:to :cc:subject:date:message-id:reply-to; bh=PQtCYKemyOr3iNpBi/UbJ8eERgBQW0opgSETKFnO6ic=; b=I8ThyMGjJ9P4BzDGrcTWJpowQm40oaAZzm+tL97n/qb1Nah+EqvryHFSJ786JcgZRn EsAs/v/L/t+Rm74pWbar++O+Aqrmku7IKKsknIvxuV0t8vl9/B3ZGts2XZkppqjA+Tdf O86InJhWut2ELmkbmPhCbLk4JchTr1iQn3ZAE= X-Google-DKIM-Signature: v=1; a=rsa-sha256; c=relaxed/relaxed; d=1e100.net; s=20230601; t=1752771662; x=1753376462; h=references:in-reply-to:cc:to:from:subject:message-id:date :x-gm-message-state:from:to:cc:subject:date:message-id:reply-to; bh=PQtCYKemyOr3iNpBi/UbJ8eERgBQW0opgSETKFnO6ic=; b=iiMniwKP0VXeY+YU5LFurH+iBt88mejtBeW8K5t1o+/eir2Blm7EOQjbUArft5IyGG d0Uyri/Dem/g56SBMYN1S+si7nA7s9OCVygElE7325aHzW/6n3ZEAIEu3J7vuu2LwPE0 sls0hvTsqhya1JdqJ2H9eQe6v3DNiXLIjS9imNmuReEkGo/uHEn0LaHbk6mlu1KzVaud aEce56dSuPhTVJpokSh3LK1g3iRD5de25iUkmWFlOI72Dp2Ss+eALToiramchZ8cmYPN QU0feegCaFuTw2Si6wmnQPxRm2rNqHsBtowsLLF31dVK6I7+kgu9WJ0tEiTUfPOsQIAk 1ZYA== X-Gm-Message-State: AOJu0YxsEXRZQriBlMTvUscS7E9ohd8NV9kgnkFdepxTt8Ge1cWjfh+6 dG75ukJvFoFm9NrdK6k87artx6eP1OxPwlO0KZtduoauj10iT4rvvU2kEvzCcc2DqBJpMs8O9E+ zLu/cidQhub9jyGnzRJY2DCW8q3MDDO8cibtprf4XOfwlOpQF+6CIGe9/ktvb X-Gm-Gg: ASbGncsnyWUZXL36OVc7dp2pOWf5oA6NfMzxaOtqd7DaLSFtZ2T37NgS3o4AssV1Db8 JXQw5+VllF9gt7toOtQaHk/fpDsGpxIqziHXbFAMJNQD7xtcAxuLsoJ5Bviqt+/goM3t32vXkCO FMg/+3QDNlazEc7K1WOBnn/oS9pnxmHAtylKuuvALcWMvyMzdoju4nUQ6eCCYM1OZDT8ZK52kiA STi09eD4LNmK3m81RnfiV9Tg7a1QwEHpd6BukdtwE0iriJyXR5tdrn+pxzGCNdyG38oOZjfDJIa HP5twcc2aOZOq3czQXxsFj60ksunkcqDK5SrM74mBe2omVAwXg== X-Google-Smtp-Source: AGHT+IHtSYUNphQfUY2LQOJcVXNVS1bEHI5wvCjUewhbIh9/cEn7pEQBtowHiM6VZjghIESyT4oVIsRgXo5D X-Received: by 2002:ad4:5b87:0:b0:705:15a6:3eef with SMTP id 6a1803df08f44-70515a642bfmr9138896d6.47.1752771662032; Thu, 17 Jul 2025 10:01:02 -0700 (PDT) Received: from postal.iol.unh.edu (postal.iol.unh.edu. [2606:4100:3880:1234::84]) by smtp-relay.gmail.com with ESMTPS id 6a1803df08f44-704979a85acsm8780996d6.17.2025.07.17.10.01.01 (version=TLS1_2 cipher=ECDHE-ECDSA-AES128-GCM-SHA256 bits=128/128); Thu, 17 Jul 2025 10:01:02 -0700 (PDT) X-Relaying-Domain: iol.unh.edu Date: Thu, 17 Jul 2025 10:01:02 -0700 (PDT) Message-ID: <68792c4e.050a0220.388dff.f6d1SMTPIN_ADDED_MISSING@mx.google.com> Received: from [172.21.0.6] (unknown [172.18.0.240]) by postal.iol.unh.edu (Postfix) with ESMTP id BCFFB604D420; Thu, 17 Jul 2025 13:01:01 -0400 (EDT) Subject: |SUCCESS| pw155293-155295 [PATCH] [v7,3/3] doc: revise coding guidel From: dpdklab@iol.unh.edu To: Test Report Cc: dpdk-test-reports@iol.unh.edu In-Reply-To: <20250716205402.64997-3-dmarx@iol.unh.edu> References: <20250716205402.64997-3-dmarx@iol.unh.edu> Content-Type: text/plain X-BeenThere: test-report@dpdk.org X-Mailman-Version: 2.1.29 Precedence: list List-Id: automatic DPDK test reports List-Unsubscribe: , List-Archive: List-Post: List-Help: List-Subscribe: , Errors-To: test-report-bounces@dpdk.org Test-Label: iol-unit-amd64-testing Test-Status: SUCCESS http://dpdk.org/patch/155295 _Testing PASS_ Submitter: Dean Marx Date: Wednesday, July 16 2025 20:54:00 DPDK git baseline: Repo:dpdk Branch: master CommitID:9fe9c0b231c8da5435bfccb1963121b4277f961c 155293-155295 --> testing pass Upstream job id: Generic-VM-Unit-Test-DPDK#29984 Test environment and result as below: +-------------------------------+----------------+ | Environment | dpdk_unit_test | +===============================+================+ | Fedora Linux 40 | PASS | +-------------------------------+----------------+ | CentOS Stream 9 | PASS | +-------------------------------+----------------+ | CentOS Stream 10 | PASS | +-------------------------------+----------------+ | Debian GNU/Linux 12 | PASS | +-------------------------------+----------------+ | Red Hat Enterprise Linux 9.5 | PASS | +-------------------------------+----------------+ | Fedora Linux 41 | PASS | +-------------------------------+----------------+ | Red Hat Enterprise Linux 8.10 | PASS | +-------------------------------+----------------+ | Ubuntu 20.04 | PASS | +-------------------------------+----------------+ | Ubuntu 24.04 | PASS | +-------------------------------+----------------+ | Ubuntu 22.04 | PASS | +-------------------------------+----------------+ | Windows Server 2022 | PASS | +-------------------------------+----------------+ Fedora Linux 40 Kernel: 5.15 Compiler: gcc gcc (GCC) 14.2.1 20240912 (Red Hat 14.2.1-3) CentOS Stream 9 Kernel: 5.15 Compiler: gcc gcc (GCC) 11.5.0 20240719 (Red Hat 11.5.0-7) CentOS Stream 10 Kernel: 5.15 Compiler: gcc gcc (GCC) 14.2.1 20250110 (Red Hat 14.2.1-8) Debian GNU/Linux 12 Kernel: 5.15 Compiler: gcc gcc (Debian 12.2.0-14+deb12u1) 12.2.0 Red Hat Enterprise Linux 9.5 Kernel: 5.15 Compiler: gcc gcc (GCC) 11.5.0 20240719 (Red Hat 11.5.0-2) Fedora Linux 41 Kernel: 5.15 Compiler: clang gcc (GCC) 14.3.1 20250523 (Red Hat 14.3.1-1) Red Hat Enterprise Linux 8.10 Kernel: 5.15 Compiler: gcc gcc (GCC) 8.5.0 20210514 (Red Hat 8.5.0-22) Ubuntu 20.04 Kernel: 5.15 Compiler: gcc gcc (Ubuntu 9.4.0-1ubuntu1~20.04.2) 9.4.0 Ubuntu 24.04 Kernel: 5.15 Compiler: gcc gcc (Ubuntu 13.3.0-6ubuntu2~24.04) 13.3.0 Ubuntu 22.04 Kernel: 5.15 Compiler: gcc gcc (Ubuntu 11.4.0-1ubuntu1~22.04) 11.4.0 Windows Server 2022 Kernel: 10.0.20348.2031 Compiler: clang 15.0.7, gcc 14.1.0 (MinGW), and MSVC VS 19.39.33521 To view detailed results, visit: https://lab.dpdk.org/results/dashboard/patchsets/33674/ UNH-IOL DPDK Community Lab To manage your email subscriptions, visit: https://lab.dpdk.org/results/dashboard/preferences/subscriptions/