From mboxrd@z Thu Jan 1 00:00:00 1970 Return-Path: Received: from mails.dpdk.org (mails.dpdk.org [217.70.189.124]) by inbox.dpdk.org (Postfix) with ESMTP id 9BA7246B9F for ; Thu, 17 Jul 2025 19:01:43 +0200 (CEST) Received: from mails.dpdk.org (localhost [127.0.0.1]) by mails.dpdk.org (Postfix) with ESMTP id 94B82400EF; Thu, 17 Jul 2025 19:01:43 +0200 (CEST) Received: from mail-pl1-f226.google.com (mail-pl1-f226.google.com [209.85.214.226]) by mails.dpdk.org (Postfix) with ESMTP id 022FB400EF for ; Thu, 17 Jul 2025 19:01:42 +0200 (CEST) Received: by mail-pl1-f226.google.com with SMTP id d9443c01a7336-2350fc2591dso13227755ad.1 for ; Thu, 17 Jul 2025 10:01:41 -0700 (PDT) DKIM-Signature: v=1; a=rsa-sha256; c=relaxed/relaxed; d=iol.unh.edu; s=unh-iol; t=1752771701; x=1753376501; darn=dpdk.org; h=references:in-reply-to:cc:to:from:subject:message-id:date:from:to :cc:subject:date:message-id:reply-to; bh=PMhzaxMeTZjEShUKMccVkOTL5prt2Obfvhqn+geq1e8=; b=HFe8viYD5llOmTWhhI/goB47CV438keBvt88m8+NE+k0e1gy9fKvyGchxMYwdoqn21 2Zc1k3AKyPuPnRK75iK/kWhGIU7p3adGYU1jY+v47VwLoPlxXye7QF73n5RqWJgRnmEy AyUUaNx5UNE283BXZIiT7idu5vRdoJmYNVS6g= X-Google-DKIM-Signature: v=1; a=rsa-sha256; c=relaxed/relaxed; d=1e100.net; s=20230601; t=1752771701; x=1753376501; h=references:in-reply-to:cc:to:from:subject:message-id:date :x-gm-message-state:from:to:cc:subject:date:message-id:reply-to; bh=PMhzaxMeTZjEShUKMccVkOTL5prt2Obfvhqn+geq1e8=; b=fzX7azvojCuXUS4qElItuBCLjB+Wo5dDdK7Q0S6R6mHA1HGIXPkcZA3HTR3BKfGS2w gs9AYbT5Dh/+na6oHUwXm3cz9V6ERHImsu/Qo8Iv1llxaui1Uq/kT6Z8XEBvJl4HuVW4 xWTXXCZhMbp4yYn4F5meCNePerKS9HDM860M95Q50qfXRISp+ueq+YXA5twmbILiDGtq poM78MsTTcmchFSlyXc0um5cVQAzu0h4UwMwKwkfcdaQ28o6syPd9ojKZTN1aYa7p0DL zmXziPcWaEW/aiG7MZMccgyHVvi6r+8UhyC4yn1DjzqmObiFYdjJ2py5xPiMDV8W5TdE 45Qw== X-Gm-Message-State: AOJu0Ywtw8h+odMJQ54NUm2HNzBYb0qq6C4OumD8in72NwqVJsDa8uMI hiiitMaQIJoiGURPg+MwimnOwnHNBqYsDUtjYEzkEygIYTYDOyFiFEuP2ScK+q3YUaQHuAGiPms Nq4Z8L7Tq02HSWPw+9x1o0W/TJa0YStUmD+REkwZi8ak75w4HpufBTA5TEE0t X-Gm-Gg: ASbGncvRl+4a//GjE91ItocLA+gwP2PVLcnawnlZiKYDTdHL9ey5UDm5Z//V5d4NKf2 poo286qJsVwChVdGxtIeNgoimOQkEu75pKX+IfO0EmiR1q5BBLnimtCfer6lB4f9pKL+mZ+6Toq dmhHo1LZrQr0KMg0tW3zzxH05iwnRUUOxOlniMybiQBn+ix+Ei5y0U2SJKxlBYfmLVM9FHY6/Pt hqC6oOw82KmaCXjDxgXxElD41nlwbNxVcLdl0U+5d/xYe7hGSPw7plEA0vvQHDudtYt4jeUU5bN 3QM6J0DsMVEioixj54Gm8Y7dasz9tpE6f03cymKw4yZix+tMrQ== X-Google-Smtp-Source: AGHT+IHJWsIdlJuR07+iPU4S10hkj3MXFhj49fi8v4iuriOgBfSPmR4F0tzdv0ZQxfLq1fHnTfhoGVHJWDHs X-Received: by 2002:a17:902:da87:b0:233:d3e7:6fd6 with SMTP id d9443c01a7336-23e38f8ea9bmr7659465ad.19.1752771701083; Thu, 17 Jul 2025 10:01:41 -0700 (PDT) Received: from postal.iol.unh.edu (postal.iol.unh.edu. [2606:4100:3880:1234::84]) by smtp-relay.gmail.com with ESMTPS id d9443c01a7336-23de433d2bcsm9542925ad.111.2025.07.17.10.01.40 (version=TLS1_2 cipher=ECDHE-ECDSA-AES128-GCM-SHA256 bits=128/128); Thu, 17 Jul 2025 10:01:41 -0700 (PDT) X-Relaying-Domain: iol.unh.edu Date: Thu, 17 Jul 2025 10:01:41 -0700 (PDT) Message-ID: <68792c75.170a0220.2a4c33.2192SMTPIN_ADDED_MISSING@mx.google.com> Received: from [172.21.0.6] (unknown [172.18.0.240]) by postal.iol.unh.edu (Postfix) with ESMTP id 4A9F7604D420; Thu, 17 Jul 2025 13:01:40 -0400 (EDT) Subject: |SUCCESS| pw155293-155295 [PATCH] [v7,3/3] doc: revise coding guidel From: dpdklab@iol.unh.edu To: Test Report Cc: dpdk-test-reports@iol.unh.edu In-Reply-To: <20250716205402.64997-3-dmarx@iol.unh.edu> References: <20250716205402.64997-3-dmarx@iol.unh.edu> Content-Type: text/plain X-BeenThere: test-report@dpdk.org X-Mailman-Version: 2.1.29 Precedence: list List-Id: automatic DPDK test reports List-Unsubscribe: , List-Archive: List-Post: List-Help: List-Subscribe: , Errors-To: test-report-bounces@dpdk.org Test-Label: iol-compile-amd64-testing Test-Status: SUCCESS http://dpdk.org/patch/155295 _Testing PASS_ Submitter: Dean Marx Date: Wednesday, July 16 2025 20:54:00 DPDK git baseline: Repo:dpdk Branch: master CommitID:9fe9c0b231c8da5435bfccb1963121b4277f961c 155293-155295 --> testing pass Upstream job id: Windows-Compile-DPDK-Native#29825 Test environment and result as below: +-------------------------------+--------------------+-------------------+------------------+-------------------------+-------------------+----------------------+ | Environment | dpdk_meson_compile | dpdk_compile_spdk | dpdk_compile_ovs | dpdk_llvm_clang_compile | dpdk_msvc_compile | dpdk_mingw64_compile | +===============================+====================+===================+==================+=========================+===================+======================+ | CentOS Stream 9 | PASS | PASS | SKIPPED | SKIPPED | SKIPPED | SKIPPED | +-------------------------------+--------------------+-------------------+------------------+-------------------------+-------------------+----------------------+ | Debian GNU/Linux 12 | PASS | PASS | SKIPPED | SKIPPED | SKIPPED | SKIPPED | +-------------------------------+--------------------+-------------------+------------------+-------------------------+-------------------+----------------------+ | CentOS Stream 10 | PASS | SKIPPED | SKIPPED | SKIPPED | SKIPPED | SKIPPED | +-------------------------------+--------------------+-------------------+------------------+-------------------------+-------------------+----------------------+ | Fedora Linux 41 | PASS | PASS | PASS | SKIPPED | SKIPPED | SKIPPED | +-------------------------------+--------------------+-------------------+------------------+-------------------------+-------------------+----------------------+ | Fedora Linux 40 | PASS | PASS | SKIPPED | SKIPPED | SKIPPED | SKIPPED | +-------------------------------+--------------------+-------------------+------------------+-------------------------+-------------------+----------------------+ | openSUSE Leap 15.6 | PASS | SKIPPED | SKIPPED | SKIPPED | SKIPPED | SKIPPED | +-------------------------------+--------------------+-------------------+------------------+-------------------------+-------------------+----------------------+ | Red Hat Enterprise Linux 9.5 | PASS | SKIPPED | SKIPPED | SKIPPED | SKIPPED | SKIPPED | +-------------------------------+--------------------+-------------------+------------------+-------------------------+-------------------+----------------------+ | Ubuntu 24.04 | PASS | PASS | PASS | SKIPPED | SKIPPED | SKIPPED | +-------------------------------+--------------------+-------------------+------------------+-------------------------+-------------------+----------------------+ | Ubuntu 20.04 | PASS | SKIPPED | SKIPPED | SKIPPED | SKIPPED | SKIPPED | +-------------------------------+--------------------+-------------------+------------------+-------------------------+-------------------+----------------------+ | Ubuntu 22.04 | PASS | PASS | SKIPPED | SKIPPED | SKIPPED | SKIPPED | +-------------------------------+--------------------+-------------------+------------------+-------------------------+-------------------+----------------------+ | Alpine Linux 3.22.0 | PASS | SKIPPED | SKIPPED | SKIPPED | SKIPPED | SKIPPED | +-------------------------------+--------------------+-------------------+------------------+-------------------------+-------------------+----------------------+ | FreeBSD 14.2 | PASS | SKIPPED | SKIPPED | SKIPPED | SKIPPED | SKIPPED | +-------------------------------+--------------------+-------------------+------------------+-------------------------+-------------------+----------------------+ | Red Hat Enterprise Linux 8.10 | PASS | SKIPPED | SKIPPED | SKIPPED | SKIPPED | SKIPPED | +-------------------------------+--------------------+-------------------+------------------+-------------------------+-------------------+----------------------+ | Windows Server 2022 | SKIPPED | SKIPPED | SKIPPED | PASS | PASS | PASS | +-------------------------------+--------------------+-------------------+------------------+-------------------------+-------------------+----------------------+ CentOS Stream 9 Kernel: 5.15 Compiler: gcc gcc (GCC) 11.5.0 20240719 (Red Hat 11.5.0-7) Debian GNU/Linux 12 Kernel: 5.15 Compiler: gcc gcc (Debian 12.2.0-14+deb12u1) 12.2.0 CentOS Stream 10 Kernel: 5.15 Compiler: gcc gcc (GCC) 14.2.1 20250110 (Red Hat 14.2.1-8) Fedora Linux 41 Kernel: 5.15 Compiler: clang gcc (GCC) 14.3.1 20250523 (Red Hat 14.3.1-1) Fedora Linux 40 Kernel: 5.15 Compiler: clang gcc (GCC) 14.2.1 20240912 (Red Hat 14.2.1-3) openSUSE Leap 15.6 Kernel: 5.15 Compiler: gcc gcc (SUSE Linux) 7.5.0 Red Hat Enterprise Linux 9.5 Kernel: 5.15 Compiler: gcc gcc (GCC) 11.5.0 20240719 (Red Hat 11.5.0-2) Ubuntu 24.04 Kernel: 5.15 Compiler: gcc gcc (Ubuntu 13.3.0-6ubuntu2~24.04) 13.3.0 Ubuntu 20.04 Kernel: 5.15 Compiler: gcc gcc (Ubuntu 9.4.0-1ubuntu1~20.04.2) 9.4.0 Ubuntu 22.04 Kernel: 5.15 Compiler: gcc gcc (Ubuntu 11.4.0-1ubuntu1~22.04) 11.4.0 Alpine Linux 3.22.0 Kernel: 5.15 Compiler: gcc gcc (Alpine 14.2.0) 14.2.0 FreeBSD 14.2 Kernel: 14.2-RELEASE Compiler: clang 18.1.6 Red Hat Enterprise Linux 8.10 Kernel: 5.15 Compiler: gcc gcc (GCC) 8.5.0 20210514 (Red Hat 8.5.0-22) Windows Server 2022 Kernel: 10.0.20348.2031 Compiler: clang 15.0.7, gcc 14.1.0 (MinGW), and MSVC VS 19.39.33521 To view detailed results, visit: https://lab.dpdk.org/results/dashboard/patchsets/33674/ UNH-IOL DPDK Community Lab To manage your email subscriptions, visit: https://lab.dpdk.org/results/dashboard/preferences/subscriptions/