From mboxrd@z Thu Jan 1 00:00:00 1970 Return-Path: Received: from mails.dpdk.org (mails.dpdk.org [217.70.189.124]) by inbox.dpdk.org (Postfix) with ESMTP id 53C7C46B9F for ; Thu, 17 Jul 2025 19:08:48 +0200 (CEST) Received: from mails.dpdk.org (localhost [127.0.0.1]) by mails.dpdk.org (Postfix) with ESMTP id 34211400EF; Thu, 17 Jul 2025 19:08:48 +0200 (CEST) Received: from mail-qt1-f228.google.com (mail-qt1-f228.google.com [209.85.160.228]) by mails.dpdk.org (Postfix) with ESMTP id 3046C400EF for ; Thu, 17 Jul 2025 19:08:47 +0200 (CEST) Received: by mail-qt1-f228.google.com with SMTP id d75a77b69052e-4ab6416496dso14829591cf.1 for ; Thu, 17 Jul 2025 10:08:47 -0700 (PDT) DKIM-Signature: v=1; a=rsa-sha256; c=relaxed/relaxed; d=iol.unh.edu; s=unh-iol; t=1752772126; x=1753376926; darn=dpdk.org; h=references:in-reply-to:cc:to:from:subject:message-id:date:from:to :cc:subject:date:message-id:reply-to; bh=wxf/OXG9R90PPLNEEsFWE2dH1JDSDtJgtz6ukxJuzEs=; b=EYpeHUGY7Jo6Dh8oKrCQNRABxrwEvb1hzPqK4ojOE+ixwP8pCEmJV1ptO6I/66lUmI ZXAc2JS8PCZ39S8gtcOOmj4OHuzr7TeZJsvy4bnfTpNdLPuYeXw6CB+kg1Efm/+wV755 7GlnsDBEM48ZD9FUyZsAQVGlzcK9kZ4Xmoszo= X-Google-DKIM-Signature: v=1; a=rsa-sha256; c=relaxed/relaxed; d=1e100.net; s=20230601; t=1752772126; x=1753376926; h=references:in-reply-to:cc:to:from:subject:message-id:date :x-gm-message-state:from:to:cc:subject:date:message-id:reply-to; bh=wxf/OXG9R90PPLNEEsFWE2dH1JDSDtJgtz6ukxJuzEs=; b=WwhG1aMNKGW8TEhOz6o77rz0hzq7PnQzgUxAUajDpQ/fs/f3rOhwnmqwldvfAy4xDH 6EhsBjQmCrXiqpT81x4ruqRAI+n2ehlEoaxc74bBQdwIMk+dCx2G83NWXZzQcCbAsuPV ZaWhy5I4gb0wLJoAIyi2Jj8urMW4wz6qCN8x+ZA7WfPuBW0H1ueaLodr2cNsmz2XZzEb EdjxIsYBBhB4q8poLFPF3njNUgsX7BkOeRqr02Q6RPBSkNRJ39bpZ8ixP52c/O4ZrJQP Y0Dkj5+OV0PUTbkWL+H0XMJ8aYSS8gVkrDMiMxHJoyz0YvwZfifphfnTDIenCkcAEioI 01Dg== X-Gm-Message-State: AOJu0Yzcs1Wa+b/ehmZAAJuWKqGE4tXzTznZfNwkJ9+bIflC2e79/GKG Xa9o7Qu/ji1YBUePAl74dzjSzNcLUV+q2Hym00gqLlbLgeEZEDuPSoXRCMr7cmIsMCrICVxz2pI YmomDJhZ4a52ktYhlohw8nR2a6oe/1PQmMoi3gM9s3CNAPm1vpkiT92aWxuNb X-Gm-Gg: ASbGncuXa7vbgREFYiwa9gOGn6YKpTBIoyMnJrLqvApcVz6DMIU1DGzNuL11DCPhweF rgNGvRzH6JCwxr7h4Chnr8ULyuWHDY6zvL6OYd3k623Tj3xXMK/a/k9yHa6AYYF61VHHrPM9nSs PKvBNcDasBKNeqb1BUclIhIF6hTBv3f1+RlV/rvtvuSpmGAPH1Nj6Rxmd5SEgLGGf2j5vXff9LI hom93onG6HddQUUKKfBjmay78bU/rCuzziIXOupuE3OoEWk/Ns3rr5oFlYBriQC9Jnchqa8+LZu IWQjD2HpPZipfZ27oZZnfzILDG2ljLghmMHBLiiBBvfadp373Q== X-Google-Smtp-Source: AGHT+IEvM23FsS7zm+TobIKuDIcSAfuiS9p8AsD+oY8aDaPjvQlRIwvRZPhiXS4eqgoTIlzpM0rhPB+4zbNR X-Received: by 2002:a05:622a:750a:b0:4ab:9335:7af4 with SMTP id d75a77b69052e-4ab93357e1cmr94696471cf.2.1752772126427; Thu, 17 Jul 2025 10:08:46 -0700 (PDT) Received: from postal.iol.unh.edu (postal.iol.unh.edu. [2606:4100:3880:1234::84]) by smtp-relay.gmail.com with ESMTPS id d75a77b69052e-4ab9d9ab8cdsm1536601cf.1.2025.07.17.10.08.46 (version=TLS1_2 cipher=ECDHE-ECDSA-AES128-GCM-SHA256 bits=128/128); Thu, 17 Jul 2025 10:08:46 -0700 (PDT) X-Relaying-Domain: iol.unh.edu Date: Thu, 17 Jul 2025 10:08:46 -0700 (PDT) Message-ID: <68792e1e.c80a0220.2e78c4.7750SMTPIN_ADDED_MISSING@mx.google.com> Received: from [172.21.0.5] (unknown [172.18.0.240]) by postal.iol.unh.edu (Postfix) with ESMTP id 242266051830; Thu, 17 Jul 2025 13:08:46 -0400 (EDT) Subject: |SUCCESS| pw155207 [PATCH] [v1] mailmap: add new email to DPDK From: dpdklab@iol.unh.edu To: Test Report Cc: dpdk-test-reports@iol.unh.edu In-Reply-To: <20250714191141.1243467-1-pravin.pathak@intel.com> References: <20250714191141.1243467-1-pravin.pathak@intel.com> Content-Type: text/plain X-BeenThere: test-report@dpdk.org X-Mailman-Version: 2.1.29 Precedence: list List-Id: automatic DPDK test reports List-Unsubscribe: , List-Archive: List-Post: List-Help: List-Subscribe: , Errors-To: test-report-bounces@dpdk.org Test-Label: iol-compile-arm64-testing Test-Status: SUCCESS http://dpdk.org/patch/155207 _Testing PASS RETEST #1_ Submitter: Pravin Pathak Date: Monday, July 14 2025 19:11:41 DPDK git baseline: Repo:dpdk Branch: master CommitID:9fe9c0b231c8da5435bfccb1963121b4277f961c 155207 --> testing pass Upstream job id: Generic-DPDK-Compile-Meson#409505 Test environment and result as below: +------------------------------+--------------------+ | Environment | dpdk_meson_compile | +==============================+====================+ | Red Hat Enterprise Linux 9.5 | PASS | +------------------------------+--------------------+ | Ubuntu 20.04 | PASS | +------------------------------+--------------------+ | Fedora Linux 40 | PASS | +------------------------------+--------------------+ | Debian GNU/Linux 12 | PASS | +------------------------------+--------------------+ | Fedora Linux 41 | PASS | +------------------------------+--------------------+ | Ubuntu 24.04 | PASS | +------------------------------+--------------------+ | CentOS Stream 9 | PASS | +------------------------------+--------------------+ | Ubuntu 22.04 | PASS | +------------------------------+--------------------+ | CentOS Stream 10 | PASS | +------------------------------+--------------------+ Red Hat Enterprise Linux 9.5 Kernel: 5.4 Compiler: gcc gcc (GCC) 11.5.0 20240719 (Red Hat 11.5.0-2) Ubuntu 20.04 Kernel: 5.15 Compiler: aarch64-linux-gnu-gcc gcc (Ubuntu 9.4.0-1ubuntu1~20.04.2) 9.4.0 Fedora Linux 40 Kernel: 5.4 Compiler: gcc gcc (GCC) 14.2.1 20240912 (Red Hat 14.2.1-3) Debian GNU/Linux 12 Kernel: 5.4 Compiler: gcc gcc (Debian 12.2.0-14+deb12u1) 12.2.0 Fedora Linux 41 Kernel: 5.4 Compiler: gcc gcc (GCC) 14.3.1 20250523 (Red Hat 14.3.1-1) Ubuntu 24.04 Kernel: 5.4 Compiler: gcc gcc (Ubuntu 13.3.0-6ubuntu2~24.04) 13.3.0 CentOS Stream 9 Kernel: 5.4 Compiler: gcc gcc (GCC) 11.5.0 20240719 (Red Hat 11.5.0-7) Ubuntu 22.04 Kernel: 5.4 Compiler: gcc gcc (Ubuntu 11.4.0-1ubuntu1~22.04) 11.4.0 CentOS Stream 10 Kernel: 5.4 Compiler: gcc gcc (GCC) 14.2.1 20250110 (Red Hat 14.2.1-8) To view detailed results, visit: https://lab.dpdk.org/results/dashboard/patchsets/33652/ UNH-IOL DPDK Community Lab To manage your email subscriptions, visit: https://lab.dpdk.org/results/dashboard/preferences/subscriptions/