From mboxrd@z Thu Jan 1 00:00:00 1970 Return-Path: Received: from mails.dpdk.org (mails.dpdk.org [217.70.189.124]) by inbox.dpdk.org (Postfix) with ESMTP id 0B8A146B9F for ; Thu, 17 Jul 2025 19:16:49 +0200 (CEST) Received: from mails.dpdk.org (localhost [127.0.0.1]) by mails.dpdk.org (Postfix) with ESMTP id DBE9E400EF; Thu, 17 Jul 2025 19:16:48 +0200 (CEST) Received: from mail-yb1-f228.google.com (mail-yb1-f228.google.com [209.85.219.228]) by mails.dpdk.org (Postfix) with ESMTP id 0282A400EF for ; Thu, 17 Jul 2025 19:16:47 +0200 (CEST) Received: by mail-yb1-f228.google.com with SMTP id 3f1490d57ef6-e8bc571ce7aso1258846276.0 for ; Thu, 17 Jul 2025 10:16:46 -0700 (PDT) DKIM-Signature: v=1; a=rsa-sha256; c=relaxed/relaxed; d=iol.unh.edu; s=unh-iol; t=1752772606; x=1753377406; darn=dpdk.org; h=references:in-reply-to:cc:to:from:subject:message-id:date:from:to :cc:subject:date:message-id:reply-to; bh=9VCnqj/bv2jR9hQP63PcueCGm53F1+zFUBBz0ZEt+Tk=; b=ASPv67BddUQ0/5Z+SmP2bhIxukJwRMwXYOYefkHItu7kwBmM5z0CzGuGXmi+u/qqaf sBLcgp5pKour385Keyjan674hWdILInbrly8MME4LGm7e72DzbxuRbX2LwEEAcu6gxoS b7m8whDJti+InZ4OSfn87et6cOlwcOl1aIDZM= X-Google-DKIM-Signature: v=1; a=rsa-sha256; c=relaxed/relaxed; d=1e100.net; s=20230601; t=1752772606; x=1753377406; h=references:in-reply-to:cc:to:from:subject:message-id:date :x-gm-message-state:from:to:cc:subject:date:message-id:reply-to; bh=9VCnqj/bv2jR9hQP63PcueCGm53F1+zFUBBz0ZEt+Tk=; b=e50y2cSrNcPgPakG2xI8Rl12Dx7/6y3F83nBdznjFaT/uiZbc5QB+IeKMtor58uNu7 lttglkpWmndniUgcwxK3PmexCiiRVxp8Wllyu5B0VvvjKKE3xPjPZYwtzZj/TCODmHHe M66FywS33A5Aw2ZRffnPvheNbc3k79GqNtQXn93eP+c1BtOUJw4sTYzOOlRo8fi7VlGl LGDoGrfZie4td5mqywmGAcEUoD9dC/ns5rcDnwQclAS6c7jX04IRWfSGiNgVhYD3VDgT 1PFHGdm4ycZB5+muBpYlV6dx9c8GUvMRG5SDdetWBZnAFq2UcU/hwH3syDiRtO08YsWp BRtw== X-Gm-Message-State: AOJu0Yw5ZwucUroNRnIxWh/VqF1jtmVXGUD5ZFU6q1YbpPf+5T7J0hEm KZplk4Iym3k9D5VPbmHZ5w79btQS0ceAllLb0mPvqHcrIlvA3BEqpjCDOXus8oe/cEwky5055NW f/Jdkah41ztK25mxBTwL2o4Pdn3mV3RB6Px1qO9r1L9Km X-Gm-Gg: ASbGncsuTUJ/cS8HBlQ3McJ9jgrV+exR0wvcJwJ4mGuESNql8u6nLOWzWbpHjyWWOn9 tKc8vyon0FUyMHfvnDSQahUtEg5YEnm1SyJ2SlBGOpAjiVBnspyMaxwHCcfWVzmMhYdCXFfJx98 zaGY1xzj40mcnxPlISGegD77ZyXMp+BVHjQ44RDrXxeI93M17/uKYL8jdiFeLhiSHkfTMff5QcQ FzO15z8Jv4GKoid5XkgYbBEneIIRM1nbx2YxDv8fq+GimuLf7VSSE3fvT0xoA4OGZWdvQ+p4A72 QLqSyNK/XAoKS6xlTGoVPKhvzcRhphnmWR9mfzqCVR+iozmXBhWlb9Ux3BedeXmtbalB7QbM X-Google-Smtp-Source: AGHT+IHKmpNNNslpQVhQYt89oVvjUm4o92OQ/RR0XUowKbqpJCRG4sGutYlryVg58uNPh9FXQ3WupvJXVxk0 X-Received: by 2002:a05:6902:1b8b:b0:e84:4341:4151 with SMTP id 3f1490d57ef6-e8bc24c8530mr8125612276.46.1752772606162; Thu, 17 Jul 2025 10:16:46 -0700 (PDT) Received: from postal.iol.unh.edu (postal.iol.unh.edu. [132.177.123.84]) by smtp-relay.gmail.com with ESMTPS id 3f1490d57ef6-e8b7b0fdd9bsm963743276.25.2025.07.17.10.16.46 (version=TLS1_2 cipher=ECDHE-ECDSA-AES128-GCM-SHA256 bits=128/128); Thu, 17 Jul 2025 10:16:46 -0700 (PDT) X-Relaying-Domain: iol.unh.edu Date: Thu, 17 Jul 2025 10:16:46 -0700 (PDT) Message-ID: <68792ffe.250a0220.2ba663.2a52SMTPIN_ADDED_MISSING@mx.google.com> Received: from [172.21.0.5] (unknown [172.18.0.240]) by postal.iol.unh.edu (Postfix) with ESMTP id D06D5604D420; Thu, 17 Jul 2025 13:16:45 -0400 (EDT) Subject: |SUCCESS| pw155293-155295 [PATCH] [v7,3/3] doc: revise coding guidel From: dpdklab@iol.unh.edu To: Test Report Cc: dpdk-test-reports@iol.unh.edu In-Reply-To: <20250716205402.64997-3-dmarx@iol.unh.edu> References: <20250716205402.64997-3-dmarx@iol.unh.edu> Content-Type: text/plain X-BeenThere: test-report@dpdk.org X-Mailman-Version: 2.1.29 Precedence: list List-Id: automatic DPDK test reports List-Unsubscribe: , List-Archive: List-Post: List-Help: List-Subscribe: , Errors-To: test-report-bounces@dpdk.org Test-Label: iol-unit-amd64-testing Test-Status: SUCCESS http://dpdk.org/patch/155295 _Testing PASS_ Submitter: Dean Marx Date: Wednesday, July 16 2025 20:54:00 DPDK git baseline: Repo:dpdk Branch: master CommitID:9fe9c0b231c8da5435bfccb1963121b4277f961c 155293-155295 --> testing pass Upstream job id: Generic-VM-Unit-Test-DPDK#29985 Test environment and result as below: +-------------------------------+----------------+ | Environment | dpdk_unit_test | +===============================+================+ | Fedora Linux 40 | PASS | +-------------------------------+----------------+ | CentOS Stream 9 | PASS | +-------------------------------+----------------+ | CentOS Stream 10 | PASS | +-------------------------------+----------------+ | Debian GNU/Linux 12 | PASS | +-------------------------------+----------------+ | Red Hat Enterprise Linux 9.5 | PASS | +-------------------------------+----------------+ | Fedora Linux 41 | PASS | +-------------------------------+----------------+ | Red Hat Enterprise Linux 8.10 | PASS | +-------------------------------+----------------+ | Ubuntu 20.04 | PASS | +-------------------------------+----------------+ | Ubuntu 24.04 | PASS | +-------------------------------+----------------+ | Ubuntu 22.04 | PASS | +-------------------------------+----------------+ | Windows Server 2022 | PASS | +-------------------------------+----------------+ Fedora Linux 40 Kernel: 5.15 Compiler: gcc gcc (GCC) 14.2.1 20240912 (Red Hat 14.2.1-3) CentOS Stream 9 Kernel: 5.15 Compiler: gcc gcc (GCC) 11.5.0 20240719 (Red Hat 11.5.0-7) CentOS Stream 10 Kernel: 5.15 Compiler: gcc gcc (GCC) 14.2.1 20250110 (Red Hat 14.2.1-8) Debian GNU/Linux 12 Kernel: 5.15 Compiler: gcc gcc (Debian 12.2.0-14+deb12u1) 12.2.0 Red Hat Enterprise Linux 9.5 Kernel: 5.15 Compiler: gcc gcc (GCC) 11.5.0 20240719 (Red Hat 11.5.0-2) Fedora Linux 41 Kernel: 5.15 Compiler: clang gcc (GCC) 14.3.1 20250523 (Red Hat 14.3.1-1) Red Hat Enterprise Linux 8.10 Kernel: 5.15 Compiler: gcc gcc (GCC) 8.5.0 20210514 (Red Hat 8.5.0-22) Ubuntu 20.04 Kernel: 5.15 Compiler: gcc gcc (Ubuntu 9.4.0-1ubuntu1~20.04.2) 9.4.0 Ubuntu 24.04 Kernel: 5.15 Compiler: gcc gcc (Ubuntu 13.3.0-6ubuntu2~24.04) 13.3.0 Ubuntu 22.04 Kernel: 5.15 Compiler: gcc gcc (Ubuntu 11.4.0-1ubuntu1~22.04) 11.4.0 Windows Server 2022 Kernel: 10.0.20348.2031 Compiler: clang 15.0.7, gcc 14.1.0 (MinGW), and MSVC VS 19.39.33521 To view detailed results, visit: https://lab.dpdk.org/results/dashboard/patchsets/33674/ UNH-IOL DPDK Community Lab To manage your email subscriptions, visit: https://lab.dpdk.org/results/dashboard/preferences/subscriptions/