From mboxrd@z Thu Jan 1 00:00:00 1970 Return-Path: Received: from mails.dpdk.org (mails.dpdk.org [217.70.189.124]) by inbox.dpdk.org (Postfix) with ESMTP id A3F3046B9F for ; Thu, 17 Jul 2025 19:24:04 +0200 (CEST) Received: from mails.dpdk.org (localhost [127.0.0.1]) by mails.dpdk.org (Postfix) with ESMTP id 8297F400EF; Thu, 17 Jul 2025 19:24:04 +0200 (CEST) Received: from mail-pf1-f227.google.com (mail-pf1-f227.google.com [209.85.210.227]) by mails.dpdk.org (Postfix) with ESMTP id 7C7D9400EF for ; Thu, 17 Jul 2025 19:24:03 +0200 (CEST) Received: by mail-pf1-f227.google.com with SMTP id d2e1a72fcca58-749248d06faso1149853b3a.2 for ; Thu, 17 Jul 2025 10:24:03 -0700 (PDT) DKIM-Signature: v=1; a=rsa-sha256; c=relaxed/relaxed; d=iol.unh.edu; s=unh-iol; t=1752773042; x=1753377842; darn=dpdk.org; h=references:in-reply-to:cc:to:from:subject:message-id:date:from:to :cc:subject:date:message-id:reply-to; bh=CC65UPQn4q2X/Z/qBY/CzX1qilMbhdsnlU7qqRTOehY=; b=RWbJV/Ri191fCzYgb5i1lo7MRWk6rTSfgvpTELiUJ808+K7oKyLZMjSvMIJ6P6yVjx EetQ6JEjV4ez/Xz5bC1aTER5RBO6NQ5pFTzrLpIT69MK662htuGyOucw5qoIjZbdS/HH 4aSKXKGmHyla4mOWW0KAkBMRvfDZAyeN25ZD4= X-Google-DKIM-Signature: v=1; a=rsa-sha256; c=relaxed/relaxed; d=1e100.net; s=20230601; t=1752773042; x=1753377842; h=references:in-reply-to:cc:to:from:subject:message-id:date :x-gm-message-state:from:to:cc:subject:date:message-id:reply-to; bh=CC65UPQn4q2X/Z/qBY/CzX1qilMbhdsnlU7qqRTOehY=; b=YTDwIMLJ8AffdpJEOVRzf/HEAOERU2SiDAs+7I0wOTt/A3e/HbSw2pwPzqAm4Xf7lg A7eg+sYYVh69hl4cD4lkEaiLHo3X8e1wjknKeBL+CKigNz+hbz+EyUUekiVW2kn6A55q KMUuN/R5u4IanH/SL2n1HRcEKg8VP1SPAkDtBX/gKTWYn7KWyYXNLUcfGfoXE/vSHfmQ a53E3Rj9J340wk7pbL7AMsBOfses8WIFPcYWVA+XGqmA7b6X9Ni94nuXjueVWQetN/1z CfwuabHACw0RxfqaURs8Z1BAZZt+0tRmLFhs49x1012fVqgAondLwe8rnmyu1jg8DCyh 4ewg== X-Gm-Message-State: AOJu0Yx5YYRJRnTIEVcVwnhba6LcghMi8QUNC0/BLB72jSbn+h4iC+Zv mpbhgit7nOL6aTf1207p5pup7mq+sNuDbCwaz1kao0slGb4Fa8rF/mzZdGS/t7HF81aKZ6/VInT 33UqYuiMqoP5DJYsgelIIW0SFXXrdN37iWEu7CriZloF0 X-Gm-Gg: ASbGnctKY3gRVnWP4k/CNXnQAmryOfmhCA1OAUHrlNfSHRbqo6OuJ0lo7wkvlxW+KPN b4xDt9vECBdpucFsQ+eR7C48hB3rto15eIHrK70QKjQMbonR51MN+lEQQ9lWEyP0fyXXrEXeK1A WSn4wLNHVaQamTX8tVM+jk8Qx3ksxuCPpb89F4oDXHCfHNEGdMMQ6qKrJBSxIlBSt2+opj12o2S 9x81RmABRlq30lyY7sAzUPF3OMwqdtVMDcY1FSjfXJZYy0UQyj7Ns7ZDl+m6egZZVoJtaNZdXds CCiFChzzyF3duLazZalkVrTUmhb7bXNJ+oz4d7QT4Dp+l8JEpiERAQIhAbL3BMGxUxuU8i1R X-Google-Smtp-Source: AGHT+IF2WTp+ufHBQX+yTShFlkYrEd2Z0iSmGw8tlvFQLGH/gruehU/4uT6BsbBfpyDfgzwXiR6eH3KzGHry X-Received: by 2002:a05:6a21:10d:b0:234:7ad1:8d64 with SMTP id adf61e73a8af0-2390dc704c6mr5425304637.39.1752773042466; Thu, 17 Jul 2025 10:24:02 -0700 (PDT) Received: from postal.iol.unh.edu (postal.iol.unh.edu. [132.177.123.84]) by smtp-relay.gmail.com with ESMTPS id d2e1a72fcca58-75065d50885sm787459b3a.20.2025.07.17.10.24.02 (version=TLS1_2 cipher=ECDHE-ECDSA-AES128-GCM-SHA256 bits=128/128); Thu, 17 Jul 2025 10:24:02 -0700 (PDT) X-Relaying-Domain: iol.unh.edu Date: Thu, 17 Jul 2025 10:24:02 -0700 (PDT) Message-ID: <687931b2.a70a0220.1aa1b7.94ebSMTPIN_ADDED_MISSING@mx.google.com> Received: from [172.21.0.5] (unknown [172.18.0.240]) by postal.iol.unh.edu (Postfix) with ESMTP id 93632604D420; Thu, 17 Jul 2025 13:24:01 -0400 (EDT) Subject: |SUCCESS| pw155310 [PATCH] eal: add description of service corelist From: dpdklab@iol.unh.edu To: Test Report Cc: dpdk-test-reports@iol.unh.edu In-Reply-To: <20250717094232.2184783-1-david.marchand@redhat.com> References: <20250717094232.2184783-1-david.marchand@redhat.com> Content-Type: text/plain X-BeenThere: test-report@dpdk.org X-Mailman-Version: 2.1.29 Precedence: list List-Id: automatic DPDK test reports List-Unsubscribe: , List-Archive: List-Post: List-Help: List-Subscribe: , Errors-To: test-report-bounces@dpdk.org Test-Label: iol-compile-amd64-testing Test-Status: SUCCESS http://dpdk.org/patch/155310 _Testing PASS_ Submitter: David Marchand Date: Thursday, July 17 2025 09:42:32 DPDK git baseline: Repo:dpdk Branch: master CommitID:9fe9c0b231c8da5435bfccb1963121b4277f961c 155310 --> testing pass Upstream job id: Windows-Compile-DPDK-VS#6380 Test environment and result as below: +-------------------------------+--------------------+-------------------+------------------+-------------------+ | Environment | dpdk_meson_compile | dpdk_compile_spdk | dpdk_compile_ovs | dpdk_msvc_compile | +===============================+====================+===================+==================+===================+ | CentOS Stream 9 | PASS | PASS | SKIPPED | SKIPPED | +-------------------------------+--------------------+-------------------+------------------+-------------------+ | Fedora Linux 40 | PASS | PASS | SKIPPED | SKIPPED | +-------------------------------+--------------------+-------------------+------------------+-------------------+ | Debian GNU/Linux 12 | PASS | PASS | SKIPPED | SKIPPED | +-------------------------------+--------------------+-------------------+------------------+-------------------+ | CentOS Stream 10 | PASS | SKIPPED | SKIPPED | SKIPPED | +-------------------------------+--------------------+-------------------+------------------+-------------------+ | openSUSE Leap 15.6 | PASS | SKIPPED | SKIPPED | SKIPPED | +-------------------------------+--------------------+-------------------+------------------+-------------------+ | Red Hat Enterprise Linux 9.5 | PASS | SKIPPED | SKIPPED | SKIPPED | +-------------------------------+--------------------+-------------------+------------------+-------------------+ | Red Hat Enterprise Linux 8.10 | PASS | SKIPPED | SKIPPED | SKIPPED | +-------------------------------+--------------------+-------------------+------------------+-------------------+ | Fedora Linux 41 | PASS | PASS | PASS | SKIPPED | +-------------------------------+--------------------+-------------------+------------------+-------------------+ | Ubuntu 20.04 | PASS | SKIPPED | SKIPPED | SKIPPED | +-------------------------------+--------------------+-------------------+------------------+-------------------+ | Ubuntu 22.04 | PASS | PASS | SKIPPED | SKIPPED | +-------------------------------+--------------------+-------------------+------------------+-------------------+ | Ubuntu 24.04 | PASS | PASS | PASS | SKIPPED | +-------------------------------+--------------------+-------------------+------------------+-------------------+ | Alpine Linux 3.22.0 | PASS | SKIPPED | SKIPPED | SKIPPED | +-------------------------------+--------------------+-------------------+------------------+-------------------+ | FreeBSD 14.2 | PASS | SKIPPED | SKIPPED | SKIPPED | +-------------------------------+--------------------+-------------------+------------------+-------------------+ | Windows Server 2022 | SKIPPED | SKIPPED | SKIPPED | PASS | +-------------------------------+--------------------+-------------------+------------------+-------------------+ CentOS Stream 9 Kernel: 5.15 Compiler: gcc gcc (GCC) 11.5.0 20240719 (Red Hat 11.5.0-7) Fedora Linux 40 Kernel: 5.15 Compiler: gcc gcc (GCC) 14.2.1 20240912 (Red Hat 14.2.1-3) Debian GNU/Linux 12 Kernel: 5.15 Compiler: gcc gcc (Debian 12.2.0-14+deb12u1) 12.2.0 CentOS Stream 10 Kernel: 5.15 Compiler: gcc gcc (GCC) 14.2.1 20250110 (Red Hat 14.2.1-8) openSUSE Leap 15.6 Kernel: 5.15 Compiler: gcc gcc (SUSE Linux) 7.5.0 Red Hat Enterprise Linux 9.5 Kernel: 5.15 Compiler: gcc gcc (GCC) 11.5.0 20240719 (Red Hat 11.5.0-2) Red Hat Enterprise Linux 8.10 Kernel: 5.15 Compiler: gcc gcc (GCC) 8.5.0 20210514 (Red Hat 8.5.0-22) Fedora Linux 41 Kernel: 5.15 Compiler: gcc gcc (GCC) 14.3.1 20250523 (Red Hat 14.3.1-1) Ubuntu 20.04 Kernel: 5.15 Compiler: gcc gcc (Ubuntu 9.4.0-1ubuntu1~20.04.2) 9.4.0 Ubuntu 22.04 Kernel: 5.15 Compiler: gcc gcc (Ubuntu 11.4.0-1ubuntu1~22.04) 11.4.0 Ubuntu 24.04 Kernel: 5.15 Compiler: gcc gcc (Ubuntu 13.3.0-6ubuntu2~24.04) 13.3.0 Alpine Linux 3.22.0 Kernel: 5.15 Compiler: gcc gcc (Alpine 14.2.0) 14.2.0 FreeBSD 14.2 Kernel: 14.2-RELEASE Compiler: clang 18.1.6 Windows Server 2022 Kernel: 10.0.20348.2031 Compiler: clang 15.0.7, gcc 14.1.0 (MinGW), and MSVC VS 19.39.33521 To view detailed results, visit: https://lab.dpdk.org/results/dashboard/patchsets/33679/ UNH-IOL DPDK Community Lab To manage your email subscriptions, visit: https://lab.dpdk.org/results/dashboard/preferences/subscriptions/