From mboxrd@z Thu Jan 1 00:00:00 1970 Return-Path: Received: from mails.dpdk.org (mails.dpdk.org [217.70.189.124]) by inbox.dpdk.org (Postfix) with ESMTP id ED22846B9F for ; Thu, 17 Jul 2025 19:39:21 +0200 (CEST) Received: from mails.dpdk.org (localhost [127.0.0.1]) by mails.dpdk.org (Postfix) with ESMTP id C66BC400EF; Thu, 17 Jul 2025 19:39:21 +0200 (CEST) Received: from mail-yb1-f228.google.com (mail-yb1-f228.google.com [209.85.219.228]) by mails.dpdk.org (Postfix) with ESMTP id 886FC400EF for ; Thu, 17 Jul 2025 19:39:20 +0200 (CEST) Received: by mail-yb1-f228.google.com with SMTP id 3f1490d57ef6-e897c8ca777so1223554276.2 for ; Thu, 17 Jul 2025 10:39:20 -0700 (PDT) DKIM-Signature: v=1; a=rsa-sha256; c=relaxed/relaxed; d=iol.unh.edu; s=unh-iol; t=1752773959; x=1753378759; darn=dpdk.org; h=references:in-reply-to:cc:to:from:subject:message-id:date:from:to :cc:subject:date:message-id:reply-to; bh=6g62sYLZ/zFH15QqSME3hzJpSE0nvVh7JoGmqixbPJ8=; b=Mw1OALWtrfyqu1KcFwzCzrkuJHq4+wFcVePWjFytdh6NTE/0X/YAnA6T2La047MdJj W7QvHB6jrIa2uVSQN4VWOnI2HrZjrSY2/ZdrBLmSVn+ocW92Yu1z/MbUvSEG+5VY/gBH 0Cd0Elw2rs/QGifUV0Nr8xFe+pGeQdHjcRv2g= X-Google-DKIM-Signature: v=1; a=rsa-sha256; c=relaxed/relaxed; d=1e100.net; s=20230601; t=1752773959; x=1753378759; h=references:in-reply-to:cc:to:from:subject:message-id:date :x-gm-message-state:from:to:cc:subject:date:message-id:reply-to; bh=6g62sYLZ/zFH15QqSME3hzJpSE0nvVh7JoGmqixbPJ8=; b=r5XFBgTxdpW8OB3N18nOPcVCx1msyYNMRDziQf+GSdZTX7XuwGEtgoxYDZjdsoQ1r0 ZBiNjtPX/G0aoWa9iHkYg8Q2nFXB+tANgNFY3TQeCvbxab+3Fv4ANzJ23zQEYBLY9r99 LBxzO3RhGnY75yfCEzxzkc0XvRA73dFfK1cu/wgCydeIzdyNfBBhGrQBuBxoORQx3kIz O/6YyasVKMFh6LQMABkhyM8MIHkbkANXBPVeHk5bNhKlwxU/Wqzxh/wxX0h766PHyxYX dwqgYwNzp0ensytaao6Ux7ct/HVNcyzQcTj5MNZT8RLvHonQ2Swur8TtdUnO986e8Y3h UMJg== X-Gm-Message-State: AOJu0YwaSNMRwXbEd8N30240ofestVSDTyEcIDH5PLk9DA6gsBAwKEcM GqcffxS/1vxbGOzVqVg/7tX0blJyEqTYIPOJNK1MNd5t8QxUNEvStUBhXtqTINeos/j4gNSuvD1 9W/8UxsV1Ccaa6JkDJSCyw49LGFnEOMH3fCPSyerMQTZG X-Gm-Gg: ASbGnctSsdHWOt8oSlV9UvPfEEaFALWNDRCD7YIla/GaN6WR6lLjLEnXv83jtOOUiRi uyWskSTxXuCtK6M3UfHitnXy4cO+wIGMucOOV36A47EAcPrIZMjFBqcUxKOBrf2b1/Wu1T4jLUQ 28nOEIw5tFFJynESZF+cTQELsPo9betDXuJkvwqiITNt+hxrkzw+sGkgsI7vXYka635PJ/TYZ7O PGBjrlbJBUt+ySC6Y6W13/JCNaVl6+NteCKXYC91mu/Mra7sJeT8/KAS/nQNvrNOrqEGcrqXFmA I+kf5OLK/1kdfuaqzhN+ftQH6Qs9x6I4s3gPZuTDuN+EexW7efBsj7J1vheKRyvWLt+FOkLx X-Google-Smtp-Source: AGHT+IG8Pr1K8AbCLultM1hu3YlVINnWFz7v6jmceYlUopjoM4UbpD5xaldfxvGQ3QXaMTx07hP77rOdy/7B X-Received: by 2002:a05:690c:9993:b0:710:f46d:ced5 with SMTP id 00721157ae682-71835179b92mr119955267b3.33.1752773959661; Thu, 17 Jul 2025 10:39:19 -0700 (PDT) Received: from postal.iol.unh.edu (postal.iol.unh.edu. [132.177.123.84]) by smtp-relay.gmail.com with ESMTPS id 00721157ae682-717c6258f9bsm6021737b3.62.2025.07.17.10.39.19 (version=TLS1_2 cipher=ECDHE-ECDSA-AES128-GCM-SHA256 bits=128/128); Thu, 17 Jul 2025 10:39:19 -0700 (PDT) X-Relaying-Domain: iol.unh.edu Date: Thu, 17 Jul 2025 10:39:19 -0700 (PDT) Message-ID: <68793547.050a0220.6d630.ffb3SMTPIN_ADDED_MISSING@mx.google.com> Received: from [172.21.0.5] (unknown [172.18.0.240]) by postal.iol.unh.edu (Postfix) with ESMTP id 4F245604D420; Thu, 17 Jul 2025 13:39:19 -0400 (EDT) Subject: |SUCCESS| pw155302-155309 [PATCH] [v9,8/8] bus/dpaa: optimize qman e From: dpdklab@iol.unh.edu To: Test Report Cc: dpdk-test-reports@iol.unh.edu In-Reply-To: <20250717094238.899294-9-vanshika.shukla@nxp.com> References: <20250717094238.899294-9-vanshika.shukla@nxp.com> Content-Type: text/plain X-BeenThere: test-report@dpdk.org X-Mailman-Version: 2.1.29 Precedence: list List-Id: automatic DPDK test reports List-Unsubscribe: , List-Archive: List-Post: List-Help: List-Subscribe: , Errors-To: test-report-bounces@dpdk.org Test-Label: iol-compile-amd64-testing Test-Status: SUCCESS http://dpdk.org/patch/155309 _Testing PASS_ Submitter: Vanshika Shukla Date: Thursday, July 17 2025 09:42:38 DPDK git baseline: Repo:dpdk Branch: master CommitID:9fe9c0b231c8da5435bfccb1963121b4277f961c 155302-155309 --> testing pass Upstream job id: Windows-Compile-DPDK-VS#6381 Test environment and result as below: +-------------------------------+--------------------+-------------------+------------------+-------------------+ | Environment | dpdk_meson_compile | dpdk_compile_spdk | dpdk_compile_ovs | dpdk_msvc_compile | +===============================+====================+===================+==================+===================+ | CentOS Stream 10 | PASS | SKIPPED | SKIPPED | SKIPPED | +-------------------------------+--------------------+-------------------+------------------+-------------------+ | CentOS Stream 9 | PASS | PASS | SKIPPED | SKIPPED | +-------------------------------+--------------------+-------------------+------------------+-------------------+ | Fedora Linux 40 | PASS | PASS | SKIPPED | SKIPPED | +-------------------------------+--------------------+-------------------+------------------+-------------------+ | Fedora Linux 41 | PASS | PASS | PASS | SKIPPED | +-------------------------------+--------------------+-------------------+------------------+-------------------+ | Debian GNU/Linux 12 | PASS | PASS | SKIPPED | SKIPPED | +-------------------------------+--------------------+-------------------+------------------+-------------------+ | Red Hat Enterprise Linux 9.5 | PASS | SKIPPED | SKIPPED | SKIPPED | +-------------------------------+--------------------+-------------------+------------------+-------------------+ | openSUSE Leap 15.6 | PASS | SKIPPED | SKIPPED | SKIPPED | +-------------------------------+--------------------+-------------------+------------------+-------------------+ | Red Hat Enterprise Linux 8.10 | PASS | SKIPPED | SKIPPED | SKIPPED | +-------------------------------+--------------------+-------------------+------------------+-------------------+ | Ubuntu 20.04 | PASS | SKIPPED | SKIPPED | SKIPPED | +-------------------------------+--------------------+-------------------+------------------+-------------------+ | Ubuntu 22.04 | PASS | PASS | SKIPPED | SKIPPED | +-------------------------------+--------------------+-------------------+------------------+-------------------+ | Ubuntu 24.04 | PASS | PASS | PASS | SKIPPED | +-------------------------------+--------------------+-------------------+------------------+-------------------+ | Alpine Linux 3.22.0 | PASS | SKIPPED | SKIPPED | SKIPPED | +-------------------------------+--------------------+-------------------+------------------+-------------------+ | FreeBSD 14.2 | PASS | SKIPPED | SKIPPED | SKIPPED | +-------------------------------+--------------------+-------------------+------------------+-------------------+ | Windows Server 2022 | SKIPPED | SKIPPED | SKIPPED | PASS | +-------------------------------+--------------------+-------------------+------------------+-------------------+ CentOS Stream 10 Kernel: 5.15 Compiler: gcc gcc (GCC) 14.2.1 20250110 (Red Hat 14.2.1-8) CentOS Stream 9 Kernel: 5.15 Compiler: gcc gcc (GCC) 11.5.0 20240719 (Red Hat 11.5.0-7) Fedora Linux 40 Kernel: 5.15 Compiler: gcc gcc (GCC) 14.2.1 20240912 (Red Hat 14.2.1-3) Fedora Linux 41 Kernel: 5.15 Compiler: clang gcc (GCC) 14.3.1 20250523 (Red Hat 14.3.1-1) Debian GNU/Linux 12 Kernel: 5.15 Compiler: gcc gcc (Debian 12.2.0-14+deb12u1) 12.2.0 Red Hat Enterprise Linux 9.5 Kernel: 5.15 Compiler: gcc gcc (GCC) 11.5.0 20240719 (Red Hat 11.5.0-2) openSUSE Leap 15.6 Kernel: 5.15 Compiler: gcc gcc (SUSE Linux) 7.5.0 Red Hat Enterprise Linux 8.10 Kernel: 5.15 Compiler: gcc gcc (GCC) 8.5.0 20210514 (Red Hat 8.5.0-22) Ubuntu 20.04 Kernel: 5.15 Compiler: gcc gcc (Ubuntu 9.4.0-1ubuntu1~20.04.2) 9.4.0 Ubuntu 22.04 Kernel: 5.15 Compiler: gcc gcc (Ubuntu 11.4.0-1ubuntu1~22.04) 11.4.0 Ubuntu 24.04 Kernel: 5.15 Compiler: gcc gcc (Ubuntu 13.3.0-6ubuntu2~24.04) 13.3.0 Alpine Linux 3.22.0 Kernel: 5.15 Compiler: gcc gcc (Alpine 14.2.0) 14.2.0 FreeBSD 14.2 Kernel: 14.2-RELEASE Compiler: clang 18.1.6 Windows Server 2022 Kernel: 10.0.20348.2031 Compiler: clang 15.0.7, gcc 14.1.0 (MinGW), and MSVC VS 19.39.33521 To view detailed results, visit: https://lab.dpdk.org/results/dashboard/patchsets/33678/ UNH-IOL DPDK Community Lab To manage your email subscriptions, visit: https://lab.dpdk.org/results/dashboard/preferences/subscriptions/