From mboxrd@z Thu Jan 1 00:00:00 1970 Return-Path: Received: from mails.dpdk.org (mails.dpdk.org [217.70.189.124]) by inbox.dpdk.org (Postfix) with ESMTP id 2C78946B9F for ; Thu, 17 Jul 2025 19:55:27 +0200 (CEST) Received: from mails.dpdk.org (localhost [127.0.0.1]) by mails.dpdk.org (Postfix) with ESMTP id 04F49400EF; Thu, 17 Jul 2025 19:55:27 +0200 (CEST) Received: from mail-yw1-f227.google.com (mail-yw1-f227.google.com [209.85.128.227]) by mails.dpdk.org (Postfix) with ESMTP id 6E4B2400EF for ; Thu, 17 Jul 2025 19:55:25 +0200 (CEST) Received: by mail-yw1-f227.google.com with SMTP id 00721157ae682-7180bb37846so10968267b3.3 for ; Thu, 17 Jul 2025 10:55:25 -0700 (PDT) DKIM-Signature: v=1; a=rsa-sha256; c=relaxed/relaxed; d=iol.unh.edu; s=unh-iol; t=1752774925; x=1753379725; darn=dpdk.org; h=references:in-reply-to:cc:to:from:subject:message-id:date:from:to :cc:subject:date:message-id:reply-to; bh=nqs1jGv450hn4G4zwxm5PlOTlvWDe54ajUYvLdkyZQk=; b=cpUJhtuDkQI+8/vWlRleXOtgvZWXcopWHFrst3j59LwUG78QClFfS4u4QN9xVNVddg OiHtTcbdc4ui3siSvKZe4KqF6xeRGZMeXlQF9Tgu/9ir0QIdoFqiqTrqHb9JOT6/V1Gs kcmiEa2nHoX6SFD/0FdLCdUjFooh/w5rbpLhQ= X-Google-DKIM-Signature: v=1; a=rsa-sha256; c=relaxed/relaxed; d=1e100.net; s=20230601; t=1752774925; x=1753379725; h=references:in-reply-to:cc:to:from:subject:message-id:date :x-gm-message-state:from:to:cc:subject:date:message-id:reply-to; bh=nqs1jGv450hn4G4zwxm5PlOTlvWDe54ajUYvLdkyZQk=; b=dgdFN5IRgvfDYSoz9h1bPOPaWbZjDfjVyTYQQSMFppf1VcYaE+L0ImhicLmsd3ThEC nprYo1Nzcay71W6sfQcaj7DXEqei5HQeICkYzXn14DksDHS959hdAPjH4a+JCS906xuu /q9g5+fyNYKWGTUtNKTLX22jeYvkOh2idgtWj2N2PoM6PLfhJORynG3xpLhZGWqu6SxJ STKB8J+4WcQbEbhQ72FQKnrcIHyxTxdkUroHCZoymhN/KTiPhms/UX+nxo0Q87euKFjd 8iKdayogMUSP5N8MeWS7s/ta+zV7aMCqKd9hT1mmUczaQVjsMCetnnposFKtlOvOtQKU 0pVg== X-Gm-Message-State: AOJu0YxvQDhFfU6WJX6xNdy+hAk1YHf4aBTh7nUg6NFAPSp+Rev+GXlv r/3nhJJBg1SXZqAA0nxJ6+yFHCO253N1Vk1s9Leb08CqozfsIErex/2Gv0XZmE2gcV4UNMXq69H ySWFpKRe/6mTI6Mp8dzlr7aEheZMnfXA+Hv/wiTbNT8MF9mULvC26WqYvtTPT X-Gm-Gg: ASbGncs4wRO3zGMjMEIdVOhQC8z5b/tM52MW9L2x5A4hOPg+TYOeNe0oLCO8R/Y4ff8 RFFRNXw/vgvJVrtxnwYjnA0Rag0H4i6odt3iUpIGACnoQr7VWeMwBesGNGQU/o+q4szKhtVNMsH 0ektZhB9EmBkJhOkrgW36kVPgu+2/u0D1K+TX7QwdEZhkIvXXpejxxTc78SAJEPZiSP99yxBbVd iycKyoPOUtMWIts9M5j5TW+JiFfmKeEoEBs70sd6ZmcvNX65fa5+PLk+aUAnXzip12Rr7EFDkH4 WhDm11SqGPTLGWeZuhvSt70fttAzH0KRscfZ8QkDU+ILqX/Y/w== X-Google-Smtp-Source: AGHT+IFfU7x+Tx6+EEZ+M1EgNO2jHmDrFqt35o0PQIQPf8PHQNRt5aEW+hqEMsvM2lmxSWC7SUNdJG8jkBhM X-Received: by 2002:a05:690c:6e0a:b0:711:af14:3981 with SMTP id 00721157ae682-71837472eb1mr110691497b3.31.1752774924558; Thu, 17 Jul 2025 10:55:24 -0700 (PDT) Received: from postal.iol.unh.edu (postal.iol.unh.edu. [2606:4100:3880:1234::84]) by smtp-relay.gmail.com with ESMTPS id 00721157ae682-7194c91c5e8sm188177b3.19.2025.07.17.10.55.24 (version=TLS1_2 cipher=ECDHE-ECDSA-AES128-GCM-SHA256 bits=128/128); Thu, 17 Jul 2025 10:55:24 -0700 (PDT) X-Relaying-Domain: iol.unh.edu Date: Thu, 17 Jul 2025 10:55:24 -0700 (PDT) Message-ID: <6879390c.050a0220.2655f3.0c7aSMTPIN_ADDED_MISSING@mx.google.com> Received: from [172.21.0.5] (unknown [172.18.0.240]) by postal.iol.unh.edu (Postfix) with ESMTP id 4B57E604D420; Thu, 17 Jul 2025 13:55:24 -0400 (EDT) Subject: |SUCCESS| pw155207 [PATCH] [v1] mailmap: add new email to DPDK From: dpdklab@iol.unh.edu To: Test Report Cc: dpdk-test-reports@iol.unh.edu In-Reply-To: <20250714191141.1243467-1-pravin.pathak@intel.com> References: <20250714191141.1243467-1-pravin.pathak@intel.com> Content-Type: text/plain X-BeenThere: test-report@dpdk.org X-Mailman-Version: 2.1.29 Precedence: list List-Id: automatic DPDK test reports List-Unsubscribe: , List-Archive: List-Post: List-Help: List-Subscribe: , Errors-To: test-report-bounces@dpdk.org Test-Label: iol-compile-amd64-testing Test-Status: SUCCESS http://dpdk.org/patch/155207 _Testing PASS RETEST #1_ Submitter: Pravin Pathak Date: Monday, July 14 2025 19:11:41 DPDK git baseline: Repo:dpdk Branch: master CommitID:9fe9c0b231c8da5435bfccb1963121b4277f961c 155207 --> testing pass Upstream job id: Windows-Compile-DPDK-VS#6382 Test environment and result as below: +-------------------------------+--------------------+-------------------+------------------+-------------------+ | Environment | dpdk_meson_compile | dpdk_compile_spdk | dpdk_compile_ovs | dpdk_msvc_compile | +===============================+====================+===================+==================+===================+ | CentOS Stream 9 | PASS | PASS | SKIPPED | SKIPPED | +-------------------------------+--------------------+-------------------+------------------+-------------------+ | CentOS Stream 10 | PASS | SKIPPED | SKIPPED | SKIPPED | +-------------------------------+--------------------+-------------------+------------------+-------------------+ | Fedora Linux 40 | PASS | PASS | SKIPPED | SKIPPED | +-------------------------------+--------------------+-------------------+------------------+-------------------+ | Debian GNU/Linux 12 | PASS | PASS | SKIPPED | SKIPPED | +-------------------------------+--------------------+-------------------+------------------+-------------------+ | Fedora Linux 41 | PASS | PASS | PASS | SKIPPED | +-------------------------------+--------------------+-------------------+------------------+-------------------+ | Ubuntu 20.04 | PASS | SKIPPED | SKIPPED | SKIPPED | +-------------------------------+--------------------+-------------------+------------------+-------------------+ | openSUSE Leap 15.6 | PASS | SKIPPED | SKIPPED | SKIPPED | +-------------------------------+--------------------+-------------------+------------------+-------------------+ | Red Hat Enterprise Linux 8.10 | PASS | SKIPPED | SKIPPED | SKIPPED | +-------------------------------+--------------------+-------------------+------------------+-------------------+ | Red Hat Enterprise Linux 9.5 | PASS | SKIPPED | SKIPPED | SKIPPED | +-------------------------------+--------------------+-------------------+------------------+-------------------+ | Ubuntu 24.04 | PASS | PASS | PASS | SKIPPED | +-------------------------------+--------------------+-------------------+------------------+-------------------+ | Alpine Linux 3.22.0 | PASS | SKIPPED | SKIPPED | SKIPPED | +-------------------------------+--------------------+-------------------+------------------+-------------------+ | FreeBSD 14.2 | PASS | SKIPPED | SKIPPED | SKIPPED | +-------------------------------+--------------------+-------------------+------------------+-------------------+ | Ubuntu 22.04 | PASS | PASS | SKIPPED | SKIPPED | +-------------------------------+--------------------+-------------------+------------------+-------------------+ | Windows Server 2022 | SKIPPED | SKIPPED | SKIPPED | PASS | +-------------------------------+--------------------+-------------------+------------------+-------------------+ CentOS Stream 9 Kernel: 5.15 Compiler: gcc gcc (GCC) 11.5.0 20240719 (Red Hat 11.5.0-7) CentOS Stream 10 Kernel: 5.15 Compiler: gcc gcc (GCC) 14.2.1 20250110 (Red Hat 14.2.1-8) Fedora Linux 40 Kernel: 5.15 Compiler: clang gcc (GCC) 14.2.1 20240912 (Red Hat 14.2.1-3) Debian GNU/Linux 12 Kernel: 5.15 Compiler: gcc gcc (Debian 12.2.0-14+deb12u1) 12.2.0 Fedora Linux 41 Kernel: 5.15 Compiler: gcc gcc (GCC) 14.3.1 20250523 (Red Hat 14.3.1-1) Ubuntu 20.04 Kernel: 5.15 Compiler: gcc gcc (Ubuntu 9.4.0-1ubuntu1~20.04.2) 9.4.0 openSUSE Leap 15.6 Kernel: 5.15 Compiler: gcc gcc (SUSE Linux) 7.5.0 Red Hat Enterprise Linux 8.10 Kernel: 5.15 Compiler: gcc gcc (GCC) 8.5.0 20210514 (Red Hat 8.5.0-22) Red Hat Enterprise Linux 9.5 Kernel: 5.15 Compiler: gcc gcc (GCC) 11.5.0 20240719 (Red Hat 11.5.0-2) Ubuntu 24.04 Kernel: 5.15 Compiler: gcc gcc (Ubuntu 13.3.0-6ubuntu2~24.04) 13.3.0 Alpine Linux 3.22.0 Kernel: 5.15 Compiler: gcc gcc (Alpine 14.2.0) 14.2.0 FreeBSD 14.2 Kernel: 14.2-RELEASE Compiler: clang 18.1.6 Ubuntu 22.04 Kernel: 5.15 Compiler: gcc gcc (Ubuntu 11.4.0-1ubuntu1~22.04) 11.4.0 Windows Server 2022 Kernel: 10.0.20348.2031 Compiler: clang 15.0.7, gcc 14.1.0 (MinGW), and MSVC VS 19.39.33521 To view detailed results, visit: https://lab.dpdk.org/results/dashboard/patchsets/33652/ UNH-IOL DPDK Community Lab To manage your email subscriptions, visit: https://lab.dpdk.org/results/dashboard/preferences/subscriptions/