From mboxrd@z Thu Jan 1 00:00:00 1970 Return-Path: Received: from mails.dpdk.org (mails.dpdk.org [217.70.189.124]) by inbox.dpdk.org (Postfix) with ESMTP id D462846BA0 for ; Thu, 17 Jul 2025 20:02:51 +0200 (CEST) Received: from mails.dpdk.org (localhost [127.0.0.1]) by mails.dpdk.org (Postfix) with ESMTP id A768A400EF; Thu, 17 Jul 2025 20:02:51 +0200 (CEST) Received: from mail-pl1-f225.google.com (mail-pl1-f225.google.com [209.85.214.225]) by mails.dpdk.org (Postfix) with ESMTP id 72CDE400EF for ; Thu, 17 Jul 2025 20:02:50 +0200 (CEST) Received: by mail-pl1-f225.google.com with SMTP id d9443c01a7336-236470b2dceso11030125ad.0 for ; Thu, 17 Jul 2025 11:02:50 -0700 (PDT) DKIM-Signature: v=1; a=rsa-sha256; c=relaxed/relaxed; d=iol.unh.edu; s=unh-iol; t=1752775369; x=1753380169; darn=dpdk.org; h=references:in-reply-to:cc:to:from:subject:message-id:date:from:to :cc:subject:date:message-id:reply-to; bh=mcma9yqbLi3jsZY4+AFkCa2JchdDoYo7ogXlI5ym9kU=; b=hcFkGEYJeKxXGTR4lL3lEHyTtHqh/o0CV/shiXQGDRFiinp4N1KRNWniM3yHrqqqFQ hgvSOmo2tesvZZqZT6QdFDL7qtWxK0XmU3i9WUwwyaxCAm7g9aU7UUeYVFUd2RTiNLtn D1mtRZbVVfhbq1daMdHrxetRkgBKqrZyFfpdk= X-Google-DKIM-Signature: v=1; a=rsa-sha256; c=relaxed/relaxed; d=1e100.net; s=20230601; t=1752775369; x=1753380169; h=references:in-reply-to:cc:to:from:subject:message-id:date :x-gm-message-state:from:to:cc:subject:date:message-id:reply-to; bh=mcma9yqbLi3jsZY4+AFkCa2JchdDoYo7ogXlI5ym9kU=; b=GMo5j9L7dThBqpC0yfb6CuOIGgsFieptG/QDy2d+S9c1DaXI2/z4fEs9qqbhvg81Qs NPldUt9wZIPDOFdzdundQIrnl8yrJomvRaB2ldtnQEz2QzJ/zUm7McIMy84YW1Xe6ihm Fq5nsZMQdfTzj2gq6rHC+kqM5pEueFQmtuf5b5xCucYkZVJWxFV6xv7pGkqqaJPzem7w nr3Ngo8q2I6+TG1a8ZNdud2ynGKR6cO3fnA0+N8ZfPWSL6sYteMwUBpfKcqzThB+EDWP 3lBE7pa1CdQH/EbudKejZL5SSFK45/0ZuIIYclaUzts2XPE4/U1GT1KqdLESe+7OnEds lnkA== X-Gm-Message-State: AOJu0Yye8ih/yqtz59KzrzCwvzNVKcpmnnW3EcW8q861ygNmhV9fyUHd A3L6d1X/d2NiX5sal5vTi2rw2wKltKa2yP/9Jt7vk14EjpnXVwvzk0gXzq0s9NYt5wTr4PuEY22 XX3hpR5DZhc8OP0aHb/4K2w2+RgIuhyQ6IVvb5qGLhQWY X-Gm-Gg: ASbGncu2x5IUMKvRbt9L6FgdB6buiP/8lny+6paYGIx91HyQRaP7AaYSDARxPdk7n+x mnd9vnkttl/J8AQxjIQJ13K6hvg+qEaNR5tokGE8xXDniUNBd3L6EbzUUXI/nnSQadArQy2rR2g 4M1Y6Q/RM2kcLcAg6wM45h2YEtqalXKGUHkRSOgSrwQ16XjQXtn2gC98PLqOZTvR/2oBI5KQtpH mBH1gUSqQW9bucpOrAHo2QdWc+d/wBFNcVkgwBel/b5Q3LRJQbkC1vI2Q4R+4DvdOnHrJMN8LlA yHsHABMfKQPSszlP2Pzi0utXZ/c4bVoL4qpf2Tfk6vqFwi8wZf8NjZ5NdUdlHROZeB3aOp1U X-Google-Smtp-Source: AGHT+IHFANhKckjKhBUhZFA5bH2MlQ1Hsmmdi/fjKsoVMghEs0VclfShbcy3ZIR2ER1WnzaU3oGBP3dDKzBl X-Received: by 2002:a17:902:d48f:b0:234:a734:4ab1 with SMTP id d9443c01a7336-23e2566b004mr105953145ad.3.1752775369466; Thu, 17 Jul 2025 11:02:49 -0700 (PDT) Received: from postal.iol.unh.edu (postal.iol.unh.edu. [132.177.123.84]) by smtp-relay.gmail.com with ESMTPS id d9443c01a7336-23de42a0d15sm9690975ad.38.2025.07.17.11.02.49 (version=TLS1_2 cipher=ECDHE-ECDSA-AES128-GCM-SHA256 bits=128/128); Thu, 17 Jul 2025 11:02:49 -0700 (PDT) X-Relaying-Domain: iol.unh.edu Date: Thu, 17 Jul 2025 11:02:49 -0700 (PDT) Message-ID: <68793ac9.170a0220.2c2f0d.2b11SMTPIN_ADDED_MISSING@mx.google.com> Received: from [172.21.0.5] (unknown [172.18.0.240]) by postal.iol.unh.edu (Postfix) with ESMTP id E50D5604D420; Thu, 17 Jul 2025 14:02:48 -0400 (EDT) Subject: |SUCCESS| pw155310 [PATCH] eal: add description of service corelist From: dpdklab@iol.unh.edu To: Test Report Cc: dpdk-test-reports@iol.unh.edu In-Reply-To: <20250717094232.2184783-1-david.marchand@redhat.com> References: <20250717094232.2184783-1-david.marchand@redhat.com> Content-Type: text/plain X-BeenThere: test-report@dpdk.org X-Mailman-Version: 2.1.29 Precedence: list List-Id: automatic DPDK test reports List-Unsubscribe: , List-Archive: List-Post: List-Help: List-Subscribe: , Errors-To: test-report-bounces@dpdk.org Test-Label: iol-compile-amd64-testing Test-Status: SUCCESS http://dpdk.org/patch/155310 _Testing PASS_ Submitter: David Marchand Date: Thursday, July 17 2025 09:42:32 DPDK git baseline: Repo:dpdk Branch: master CommitID:9fe9c0b231c8da5435bfccb1963121b4277f961c 155310 --> testing pass Upstream job id: Windows-Compile-DPDK-Native#29832 Test environment and result as below: +-------------------------------+--------------------+-------------------+------------------+-------------------+-------------------------+ | Environment | dpdk_meson_compile | dpdk_compile_spdk | dpdk_compile_ovs | dpdk_msvc_compile | dpdk_llvm_clang_compile | +===============================+====================+===================+==================+===================+=========================+ | CentOS Stream 9 | PASS | PASS | SKIPPED | SKIPPED | SKIPPED | +-------------------------------+--------------------+-------------------+------------------+-------------------+-------------------------+ | Fedora Linux 40 | PASS | PASS | SKIPPED | SKIPPED | SKIPPED | +-------------------------------+--------------------+-------------------+------------------+-------------------+-------------------------+ | Debian GNU/Linux 12 | PASS | PASS | SKIPPED | SKIPPED | SKIPPED | +-------------------------------+--------------------+-------------------+------------------+-------------------+-------------------------+ | CentOS Stream 10 | PASS | SKIPPED | SKIPPED | SKIPPED | SKIPPED | +-------------------------------+--------------------+-------------------+------------------+-------------------+-------------------------+ | openSUSE Leap 15.6 | PASS | SKIPPED | SKIPPED | SKIPPED | SKIPPED | +-------------------------------+--------------------+-------------------+------------------+-------------------+-------------------------+ | Red Hat Enterprise Linux 9.5 | PASS | SKIPPED | SKIPPED | SKIPPED | SKIPPED | +-------------------------------+--------------------+-------------------+------------------+-------------------+-------------------------+ | Red Hat Enterprise Linux 8.10 | PASS | SKIPPED | SKIPPED | SKIPPED | SKIPPED | +-------------------------------+--------------------+-------------------+------------------+-------------------+-------------------------+ | Fedora Linux 41 | PASS | PASS | PASS | SKIPPED | SKIPPED | +-------------------------------+--------------------+-------------------+------------------+-------------------+-------------------------+ | Ubuntu 20.04 | PASS | SKIPPED | SKIPPED | SKIPPED | SKIPPED | +-------------------------------+--------------------+-------------------+------------------+-------------------+-------------------------+ | Ubuntu 22.04 | PASS | PASS | SKIPPED | SKIPPED | SKIPPED | +-------------------------------+--------------------+-------------------+------------------+-------------------+-------------------------+ | Ubuntu 24.04 | PASS | PASS | PASS | SKIPPED | SKIPPED | +-------------------------------+--------------------+-------------------+------------------+-------------------+-------------------------+ | Alpine Linux 3.22.0 | PASS | SKIPPED | SKIPPED | SKIPPED | SKIPPED | +-------------------------------+--------------------+-------------------+------------------+-------------------+-------------------------+ | FreeBSD 14.2 | PASS | SKIPPED | SKIPPED | SKIPPED | SKIPPED | +-------------------------------+--------------------+-------------------+------------------+-------------------+-------------------------+ | Windows Server 2022 | SKIPPED | SKIPPED | SKIPPED | PASS | PASS | +-------------------------------+--------------------+-------------------+------------------+-------------------+-------------------------+ CentOS Stream 9 Kernel: 5.15 Compiler: gcc gcc (GCC) 11.5.0 20240719 (Red Hat 11.5.0-7) Fedora Linux 40 Kernel: 5.15 Compiler: gcc gcc (GCC) 14.2.1 20240912 (Red Hat 14.2.1-3) Debian GNU/Linux 12 Kernel: 5.15 Compiler: gcc gcc (Debian 12.2.0-14+deb12u1) 12.2.0 CentOS Stream 10 Kernel: 5.15 Compiler: gcc gcc (GCC) 14.2.1 20250110 (Red Hat 14.2.1-8) openSUSE Leap 15.6 Kernel: 5.15 Compiler: gcc gcc (SUSE Linux) 7.5.0 Red Hat Enterprise Linux 9.5 Kernel: 5.15 Compiler: gcc gcc (GCC) 11.5.0 20240719 (Red Hat 11.5.0-2) Red Hat Enterprise Linux 8.10 Kernel: 5.15 Compiler: gcc gcc (GCC) 8.5.0 20210514 (Red Hat 8.5.0-22) Fedora Linux 41 Kernel: 5.15 Compiler: gcc gcc (GCC) 14.3.1 20250523 (Red Hat 14.3.1-1) Ubuntu 20.04 Kernel: 5.15 Compiler: gcc gcc (Ubuntu 9.4.0-1ubuntu1~20.04.2) 9.4.0 Ubuntu 22.04 Kernel: 5.15 Compiler: gcc gcc (Ubuntu 11.4.0-1ubuntu1~22.04) 11.4.0 Ubuntu 24.04 Kernel: 5.15 Compiler: gcc gcc (Ubuntu 13.3.0-6ubuntu2~24.04) 13.3.0 Alpine Linux 3.22.0 Kernel: 5.15 Compiler: gcc gcc (Alpine 14.2.0) 14.2.0 FreeBSD 14.2 Kernel: 14.2-RELEASE Compiler: clang 18.1.6 Windows Server 2022 Kernel: 10.0.20348.2031 Compiler: clang 15.0.7, gcc 14.1.0 (MinGW), and MSVC VS 19.39.33521 To view detailed results, visit: https://lab.dpdk.org/results/dashboard/patchsets/33679/ UNH-IOL DPDK Community Lab To manage your email subscriptions, visit: https://lab.dpdk.org/results/dashboard/preferences/subscriptions/