From mboxrd@z Thu Jan 1 00:00:00 1970 Return-Path: Received: from mails.dpdk.org (mails.dpdk.org [217.70.189.124]) by inbox.dpdk.org (Postfix) with ESMTP id A8EAB46BA0 for ; Thu, 17 Jul 2025 20:09:06 +0200 (CEST) Received: from mails.dpdk.org (localhost [127.0.0.1]) by mails.dpdk.org (Postfix) with ESMTP id 9CF4E400EF; Thu, 17 Jul 2025 20:09:06 +0200 (CEST) Received: from mail-il1-f226.google.com (mail-il1-f226.google.com [209.85.166.226]) by mails.dpdk.org (Postfix) with ESMTP id B53BF400EF for ; Thu, 17 Jul 2025 20:09:05 +0200 (CEST) Received: by mail-il1-f226.google.com with SMTP id e9e14a558f8ab-3e28bf4a350so6931695ab.1 for ; Thu, 17 Jul 2025 11:09:05 -0700 (PDT) DKIM-Signature: v=1; a=rsa-sha256; c=relaxed/relaxed; d=iol.unh.edu; s=unh-iol; t=1752775745; x=1753380545; darn=dpdk.org; h=references:in-reply-to:cc:to:from:subject:message-id:date:from:to :cc:subject:date:message-id:reply-to; bh=MmQBAbDOf7JYD9dGvzG1nbLljT5wMcmHo3diX5Usx9M=; b=YyKL8xJCl4PIWsk1D8aSA1jzDL3LjkAxFPuGRADA0H+cS/sgK1hBSlix4Xb0bX9PIk 6HnW7fCWB+TLvErGouiUleyL2iMvOuWMPSfYH4CjTwnpnTjrVUgqoPDr5fL75ovSPS92 yM8uhFreEoYCldEysGRwtvJiS0isBObJQWWy8= X-Google-DKIM-Signature: v=1; a=rsa-sha256; c=relaxed/relaxed; d=1e100.net; s=20230601; t=1752775745; x=1753380545; h=references:in-reply-to:cc:to:from:subject:message-id:date :x-gm-message-state:from:to:cc:subject:date:message-id:reply-to; bh=MmQBAbDOf7JYD9dGvzG1nbLljT5wMcmHo3diX5Usx9M=; b=oADcOu/SvhkneJSTs8SmRDxjNpnVE9JGTY0+DQcxgBeorS8yK/M+G2i5P2iOvzfjrK k411GgT3Z8ua17fWxaD2jSPA0FQ2fOw3hVPrYa45NSZyEp2gyovSmXSPbdTGa71LPkBR SDQ7V+08REQk1f52htx8UFRdvAc2q5rSaWg5a/zsKUvBXO4mZkOOcWCMFyJWdWzPHRcr Q0/YuoyjsdJb+bqvizYczy3sXqw3LQl0ryUWMhjWrC4eiZZaWvfFw0eo8TCP85c1uS4B 9Q45nWSG/dDceKGL9zn5GcFowLPjSdaDIrZMiSJf0q1+khe7u+E0W8Uh6TUv+Jmdl7rc kN5w== X-Gm-Message-State: AOJu0YykJMVjTLtRJcZM9Wq0GJRF3pAduErCcqFApunbrqMYlLGGiNgp 652b1TC88kQg2V26R8oaAQj+fMpSuyth/39OAJDonDsz/lukJ9NuMk6Rex18pQ+2lE+G/itB0Ny Fst8DTchwVqqyrsvWBqb7g7mTTpUcsKXnzSzLqXlccQvc X-Gm-Gg: ASbGncvVGf52YizDo/DLXMnZ5s3NDeRKpGp8No2j3yC4o8wvVTZZIl+7OezpOTppDuq WhczJMp2kVMgfDrDHSzfXaBMVWfycHJemv92uqHrlIFIc7PpbwoScZn+xSVlGzCeUEGfeMRf7Qi +MKLUfJVp/2TKnXw6N5AR7Yr8Yx/S8VJdXYe1UAS7Y1g8DEt+S5yU+pFhhogicP7HfkBzPOMuMF kfUP9GAzCHvuVs9hkVh9j/RXk5gMqX1MHXbzsm/dS0Ml8uuV6sFkvuS0zoUt3U74PP/tc/Gr0vL NDB4ZUNrZpzSkUDq7kGCOLO1q4WJS0V9kWO8QDbdLq3eqnIyNwQp1kKFFwkZSetCm1NCyTkK X-Google-Smtp-Source: AGHT+IFyRRzjZpWxYT0zjocFX5fc7e0CvgWYGIUdMaNOe4speYBgEW+zxlf2EyAK8roXZzaHHhQWOCqswh8W X-Received: by 2002:a05:6e02:19cc:b0:3dd:792d:ce42 with SMTP id e9e14a558f8ab-3e2821e9b4bmr71203315ab.0.1752775744918; Thu, 17 Jul 2025 11:09:04 -0700 (PDT) Received: from postal.iol.unh.edu (postal.iol.unh.edu. [132.177.123.84]) by smtp-relay.gmail.com with ESMTPS id e9e14a558f8ab-3e295e4aeedsm227175ab.20.2025.07.17.11.09.04 (version=TLS1_2 cipher=ECDHE-ECDSA-AES128-GCM-SHA256 bits=128/128); Thu, 17 Jul 2025 11:09:04 -0700 (PDT) X-Relaying-Domain: iol.unh.edu Date: Thu, 17 Jul 2025 11:09:04 -0700 (PDT) Message-ID: <68793c40.050a0220.11bd89.0fedSMTPIN_ADDED_MISSING@mx.google.com> Received: from [172.21.0.5] (unknown [172.18.0.240]) by postal.iol.unh.edu (Postfix) with ESMTP id 5E2876051830; Thu, 17 Jul 2025 14:09:04 -0400 (EDT) Subject: |SUCCESS| pw155310 [PATCH] eal: add description of service corelist From: dpdklab@iol.unh.edu To: Test Report Cc: dpdk-test-reports@iol.unh.edu In-Reply-To: <20250717094232.2184783-1-david.marchand@redhat.com> References: <20250717094232.2184783-1-david.marchand@redhat.com> Content-Type: text/plain X-BeenThere: test-report@dpdk.org X-Mailman-Version: 2.1.29 Precedence: list List-Id: automatic DPDK test reports List-Unsubscribe: , List-Archive: List-Post: List-Help: List-Subscribe: , Errors-To: test-report-bounces@dpdk.org Test-Label: iol-unit-amd64-testing Test-Status: SUCCESS http://dpdk.org/patch/155310 _Testing PASS_ Submitter: David Marchand Date: Thursday, July 17 2025 09:42:32 DPDK git baseline: Repo:dpdk Branch: master CommitID:9fe9c0b231c8da5435bfccb1963121b4277f961c 155310 --> testing pass Upstream job id: Generic-VM-Unit-Test-DPDK#29992 Test environment and result as below: +-------------------------------+----------------+ | Environment | dpdk_unit_test | +===============================+================+ | CentOS Stream 9 | PASS | +-------------------------------+----------------+ | CentOS Stream 10 | PASS | +-------------------------------+----------------+ | Debian GNU/Linux 12 | PASS | +-------------------------------+----------------+ | Fedora Linux 40 | PASS | +-------------------------------+----------------+ | Fedora Linux 41 | PASS | +-------------------------------+----------------+ | Red Hat Enterprise Linux 8.10 | PASS | +-------------------------------+----------------+ | Red Hat Enterprise Linux 9.5 | PASS | +-------------------------------+----------------+ | Ubuntu 20.04 | PASS | +-------------------------------+----------------+ | Ubuntu 22.04 | PASS | +-------------------------------+----------------+ | Ubuntu 24.04 | PASS | +-------------------------------+----------------+ | Windows Server 2022 | PASS | +-------------------------------+----------------+ CentOS Stream 9 Kernel: 5.15 Compiler: gcc gcc (GCC) 11.5.0 20240719 (Red Hat 11.5.0-7) CentOS Stream 10 Kernel: 5.15 Compiler: gcc gcc (GCC) 14.2.1 20250110 (Red Hat 14.2.1-8) Debian GNU/Linux 12 Kernel: 5.15 Compiler: gcc gcc (Debian 12.2.0-14+deb12u1) 12.2.0 Fedora Linux 40 Kernel: 5.15 Compiler: gcc gcc (GCC) 14.2.1 20240912 (Red Hat 14.2.1-3) Fedora Linux 41 Kernel: 5.15 Compiler: gcc gcc (GCC) 14.3.1 20250523 (Red Hat 14.3.1-1) Red Hat Enterprise Linux 8.10 Kernel: 5.15 Compiler: gcc gcc (GCC) 8.5.0 20210514 (Red Hat 8.5.0-22) Red Hat Enterprise Linux 9.5 Kernel: 5.15 Compiler: gcc gcc (GCC) 11.5.0 20240719 (Red Hat 11.5.0-2) Ubuntu 20.04 Kernel: 5.15 Compiler: gcc gcc (Ubuntu 9.4.0-1ubuntu1~20.04.2) 9.4.0 Ubuntu 22.04 Kernel: 5.15 Compiler: gcc gcc (Ubuntu 11.4.0-1ubuntu1~22.04) 11.4.0 Ubuntu 24.04 Kernel: 5.15 Compiler: gcc gcc (Ubuntu 13.3.0-6ubuntu2~24.04) 13.3.0 Windows Server 2022 Kernel: 10.0.20348.2031 Compiler: clang 15.0.7, gcc 14.1.0 (MinGW), and MSVC VS 19.39.33521 To view detailed results, visit: https://lab.dpdk.org/results/dashboard/patchsets/33679/ UNH-IOL DPDK Community Lab To manage your email subscriptions, visit: https://lab.dpdk.org/results/dashboard/preferences/subscriptions/