From mboxrd@z Thu Jan 1 00:00:00 1970 Return-Path: Received: from mails.dpdk.org (mails.dpdk.org [217.70.189.124]) by inbox.dpdk.org (Postfix) with ESMTP id C59A946BA0 for ; Thu, 17 Jul 2025 20:10:19 +0200 (CEST) Received: from mails.dpdk.org (localhost [127.0.0.1]) by mails.dpdk.org (Postfix) with ESMTP id BB836400EF; Thu, 17 Jul 2025 20:10:19 +0200 (CEST) Received: from mail-pf1-f226.google.com (mail-pf1-f226.google.com [209.85.210.226]) by mails.dpdk.org (Postfix) with ESMTP id A8F5E400EF for ; Thu, 17 Jul 2025 20:10:18 +0200 (CEST) Received: by mail-pf1-f226.google.com with SMTP id d2e1a72fcca58-749068b9b63so999426b3a.0 for ; Thu, 17 Jul 2025 11:10:18 -0700 (PDT) DKIM-Signature: v=1; a=rsa-sha256; c=relaxed/relaxed; d=iol.unh.edu; s=unh-iol; t=1752775818; x=1753380618; darn=dpdk.org; h=references:in-reply-to:cc:to:from:subject:message-id:date:from:to :cc:subject:date:message-id:reply-to; bh=77zhdu9TIDX5es9eHVSLRZqd2+PAjzdrGERfDDNT/Pw=; b=WSCRC/hmNO43382jwI681oue+p4MFXqCAw9Wb9mrSEBMMxSJSJQEaXxt5eceJwQi3i NXuhPRcmIvEfRC5w16ZXpve4dqS2OawomoIxlyGYnY6kYHv1vuOjteKPvFz505rLxGQU uoPKQeO2P8iWM3/cW0tuAwYh9r5SZRESdgPQw= X-Google-DKIM-Signature: v=1; a=rsa-sha256; c=relaxed/relaxed; d=1e100.net; s=20230601; t=1752775818; x=1753380618; h=references:in-reply-to:cc:to:from:subject:message-id:date :x-gm-message-state:from:to:cc:subject:date:message-id:reply-to; bh=77zhdu9TIDX5es9eHVSLRZqd2+PAjzdrGERfDDNT/Pw=; b=GItvkVuvRlYjLRj7mzK0f22uE32JdQg7Y8ME93Xkmuc0g493djq2VBOfO9U+FQGjzg uadJKOKje9serys3SvS3lh9A9S+LeTH/ZEQzPux6kLTfQAoIAq+0RVKHWgGMiDeSrYnO 2I0NXHOdT/Z8d0vMJAoCv6NJqukkYi/7vtsI8jHyIfoQlRs4FONU8tjdlDO71BPqpKTN JbJ8vFOObqQpSRKvBjpeHMs3xU2E6/oKCqpIVvElKJkBnisaIISix3dPmqOw/TD0PshV hkd1CdhrW7xZBBokuU7tsvU3Cu98r+lz1IY4/8Ka/FMvEMg/PxWt6cT1rx0B1PVsdcse roHw== X-Gm-Message-State: AOJu0YyBg08Z6g4ndohYikC5Ikf28dMoosXEiAZk6gpaukUl8crhVnEt MRAO7Xz20WP30Cs90b91a9+z3QfHqjNhbAUFLchs7Ur09InuplZrQsfvDEZTqH8d7Qm+1+/Sax3 UQzkZ5Yy5nPLeldI9Ws+FGHGKat8O2iFxIY5t7uDohw5FMvwtb814Wla9+RRU X-Gm-Gg: ASbGncvqbC6cTSf2uuLlUe4p1j/dhtm0h08m2TynmMpiInazu2anySQqI4+f72DPNMJ KS4ePzBK4/T9+TF6Wif3rLO6tW7yIhPfDsKTv/MEYVmwAjZvl6NWdSgTW+d/wt90stplBVr9c3Q ZighpCm9pPruSnntoF5dTZeAw7d5hZyxGSpQFIVoW/DmKUeotaLOmdcqDI6CDiTtrTF7U1y3c87 f8OPL+M0euEL44qOEyB4KG+9V4yAqwYFxCnh20RNlQJXQMyeQNHGuYcIssssX+7j+FUGq1EBgyn Rsopr/+k2aGJmlwgrnLPN0hipz/XWR122yFAfXrSRhUjT2CS7A== X-Google-Smtp-Source: AGHT+IHSMBNp6Z03pqAXuWoSXt8A1qeRx/mQglJZz3rYV18jasifkOFna910BEoq1VYTJD03ZI6lQa1wzA2e X-Received: by 2002:a05:6a00:21cb:b0:74e:ab26:aa81 with SMTP id d2e1a72fcca58-756e99fd67dmr11711903b3a.13.1752775817792; Thu, 17 Jul 2025 11:10:17 -0700 (PDT) Received: from postal.iol.unh.edu (postal.iol.unh.edu. [2606:4100:3880:1234::84]) by smtp-relay.gmail.com with ESMTPS id d2e1a72fcca58-74eb9f24119sm1070603b3a.15.2025.07.17.11.10.17 (version=TLS1_2 cipher=ECDHE-ECDSA-AES128-GCM-SHA256 bits=128/128); Thu, 17 Jul 2025 11:10:17 -0700 (PDT) X-Relaying-Domain: iol.unh.edu Date: Thu, 17 Jul 2025 11:10:17 -0700 (PDT) Message-ID: <68793c89.050a0220.3bb7ba.82c4SMTPIN_ADDED_MISSING@mx.google.com> Received: from [172.21.0.5] (unknown [172.18.0.240]) by postal.iol.unh.edu (Postfix) with ESMTP id E56736050A61; Thu, 17 Jul 2025 14:10:16 -0400 (EDT) Subject: |SUCCESS| pw155310 [PATCH] eal: add description of service corelist From: dpdklab@iol.unh.edu To: Test Report Cc: dpdk-test-reports@iol.unh.edu In-Reply-To: <20250717094232.2184783-1-david.marchand@redhat.com> References: <20250717094232.2184783-1-david.marchand@redhat.com> Content-Type: text/plain X-BeenThere: test-report@dpdk.org X-Mailman-Version: 2.1.29 Precedence: list List-Id: automatic DPDK test reports List-Unsubscribe: , List-Archive: List-Post: List-Help: List-Subscribe: , Errors-To: test-report-bounces@dpdk.org Test-Label: iol-compile-amd64-testing Test-Status: SUCCESS http://dpdk.org/patch/155310 _Testing PASS_ Submitter: David Marchand Date: Thursday, July 17 2025 09:42:32 DPDK git baseline: Repo:dpdk Branch: master CommitID:9fe9c0b231c8da5435bfccb1963121b4277f961c 155310 --> testing pass Upstream job id: Windows-Compile-DPDK-Native#29833 Test environment and result as below: +-------------------------------+--------------------+-------------------+------------------+-------------------+-------------------------+----------------------+ | Environment | dpdk_meson_compile | dpdk_compile_spdk | dpdk_compile_ovs | dpdk_msvc_compile | dpdk_llvm_clang_compile | dpdk_mingw64_compile | +===============================+====================+===================+==================+===================+=========================+======================+ | CentOS Stream 9 | PASS | PASS | SKIPPED | SKIPPED | SKIPPED | SKIPPED | +-------------------------------+--------------------+-------------------+------------------+-------------------+-------------------------+----------------------+ | Fedora Linux 40 | PASS | PASS | SKIPPED | SKIPPED | SKIPPED | SKIPPED | +-------------------------------+--------------------+-------------------+------------------+-------------------+-------------------------+----------------------+ | Debian GNU/Linux 12 | PASS | PASS | SKIPPED | SKIPPED | SKIPPED | SKIPPED | +-------------------------------+--------------------+-------------------+------------------+-------------------+-------------------------+----------------------+ | CentOS Stream 10 | PASS | SKIPPED | SKIPPED | SKIPPED | SKIPPED | SKIPPED | +-------------------------------+--------------------+-------------------+------------------+-------------------+-------------------------+----------------------+ | openSUSE Leap 15.6 | PASS | SKIPPED | SKIPPED | SKIPPED | SKIPPED | SKIPPED | +-------------------------------+--------------------+-------------------+------------------+-------------------+-------------------------+----------------------+ | Red Hat Enterprise Linux 9.5 | PASS | SKIPPED | SKIPPED | SKIPPED | SKIPPED | SKIPPED | +-------------------------------+--------------------+-------------------+------------------+-------------------+-------------------------+----------------------+ | Red Hat Enterprise Linux 8.10 | PASS | SKIPPED | SKIPPED | SKIPPED | SKIPPED | SKIPPED | +-------------------------------+--------------------+-------------------+------------------+-------------------+-------------------------+----------------------+ | Fedora Linux 41 | PASS | PASS | PASS | SKIPPED | SKIPPED | SKIPPED | +-------------------------------+--------------------+-------------------+------------------+-------------------+-------------------------+----------------------+ | Ubuntu 20.04 | PASS | SKIPPED | SKIPPED | SKIPPED | SKIPPED | SKIPPED | +-------------------------------+--------------------+-------------------+------------------+-------------------+-------------------------+----------------------+ | Ubuntu 22.04 | PASS | PASS | SKIPPED | SKIPPED | SKIPPED | SKIPPED | +-------------------------------+--------------------+-------------------+------------------+-------------------+-------------------------+----------------------+ | Ubuntu 24.04 | PASS | PASS | PASS | SKIPPED | SKIPPED | SKIPPED | +-------------------------------+--------------------+-------------------+------------------+-------------------+-------------------------+----------------------+ | Alpine Linux 3.22.0 | PASS | SKIPPED | SKIPPED | SKIPPED | SKIPPED | SKIPPED | +-------------------------------+--------------------+-------------------+------------------+-------------------+-------------------------+----------------------+ | FreeBSD 14.2 | PASS | SKIPPED | SKIPPED | SKIPPED | SKIPPED | SKIPPED | +-------------------------------+--------------------+-------------------+------------------+-------------------+-------------------------+----------------------+ | Windows Server 2022 | SKIPPED | SKIPPED | SKIPPED | PASS | PASS | PASS | +-------------------------------+--------------------+-------------------+------------------+-------------------+-------------------------+----------------------+ CentOS Stream 9 Kernel: 5.15 Compiler: gcc gcc (GCC) 11.5.0 20240719 (Red Hat 11.5.0-7) Fedora Linux 40 Kernel: 5.15 Compiler: gcc gcc (GCC) 14.2.1 20240912 (Red Hat 14.2.1-3) Debian GNU/Linux 12 Kernel: 5.15 Compiler: gcc gcc (Debian 12.2.0-14+deb12u1) 12.2.0 CentOS Stream 10 Kernel: 5.15 Compiler: gcc gcc (GCC) 14.2.1 20250110 (Red Hat 14.2.1-8) openSUSE Leap 15.6 Kernel: 5.15 Compiler: gcc gcc (SUSE Linux) 7.5.0 Red Hat Enterprise Linux 9.5 Kernel: 5.15 Compiler: gcc gcc (GCC) 11.5.0 20240719 (Red Hat 11.5.0-2) Red Hat Enterprise Linux 8.10 Kernel: 5.15 Compiler: gcc gcc (GCC) 8.5.0 20210514 (Red Hat 8.5.0-22) Fedora Linux 41 Kernel: 5.15 Compiler: gcc gcc (GCC) 14.3.1 20250523 (Red Hat 14.3.1-1) Ubuntu 20.04 Kernel: 5.15 Compiler: gcc gcc (Ubuntu 9.4.0-1ubuntu1~20.04.2) 9.4.0 Ubuntu 22.04 Kernel: 5.15 Compiler: gcc gcc (Ubuntu 11.4.0-1ubuntu1~22.04) 11.4.0 Ubuntu 24.04 Kernel: 5.15 Compiler: gcc gcc (Ubuntu 13.3.0-6ubuntu2~24.04) 13.3.0 Alpine Linux 3.22.0 Kernel: 5.15 Compiler: gcc gcc (Alpine 14.2.0) 14.2.0 FreeBSD 14.2 Kernel: 14.2-RELEASE Compiler: clang 18.1.6 Windows Server 2022 Kernel: 10.0.20348.2031 Compiler: clang 15.0.7, gcc 14.1.0 (MinGW), and MSVC VS 19.39.33521 To view detailed results, visit: https://lab.dpdk.org/results/dashboard/patchsets/33679/ UNH-IOL DPDK Community Lab To manage your email subscriptions, visit: https://lab.dpdk.org/results/dashboard/preferences/subscriptions/