From mboxrd@z Thu Jan 1 00:00:00 1970 Return-Path: Received: from mails.dpdk.org (mails.dpdk.org [217.70.189.124]) by inbox.dpdk.org (Postfix) with ESMTP id 4046D46BA0 for ; Thu, 17 Jul 2025 20:14:31 +0200 (CEST) Received: from mails.dpdk.org (localhost [127.0.0.1]) by mails.dpdk.org (Postfix) with ESMTP id 3114F400EF; Thu, 17 Jul 2025 20:14:31 +0200 (CEST) Received: from mail-qt1-f225.google.com (mail-qt1-f225.google.com [209.85.160.225]) by mails.dpdk.org (Postfix) with ESMTP id 0CB68400EF for ; Thu, 17 Jul 2025 20:14:30 +0200 (CEST) Received: by mail-qt1-f225.google.com with SMTP id d75a77b69052e-4ab9ba884c6so14920421cf.0 for ; Thu, 17 Jul 2025 11:14:30 -0700 (PDT) DKIM-Signature: v=1; a=rsa-sha256; c=relaxed/relaxed; d=iol.unh.edu; s=unh-iol; t=1752776069; x=1753380869; darn=dpdk.org; h=references:in-reply-to:cc:to:from:subject:message-id:date:from:to :cc:subject:date:message-id:reply-to; bh=eLTINcxHSx7dcd2weuEftkbbFCmSNFfWu4FFLF+hkqw=; b=GzolldJvb3sHmfqdAmCPyyL6/qMysm08xWmokwgYHl7BxhibqmwUO5QxQ7o8sYkKK0 TGT2xx1tgEEg6pVvT+fFJZOCAaUFzXy/4C8ZoiF1eaywuGr5DkLxpsp9WiSA+YMr73pv mSLWiztwK3WOewWS4DFBKaoxO+KqfFjZuiK2g= X-Google-DKIM-Signature: v=1; a=rsa-sha256; c=relaxed/relaxed; d=1e100.net; s=20230601; t=1752776069; x=1753380869; h=references:in-reply-to:cc:to:from:subject:message-id:date :x-gm-message-state:from:to:cc:subject:date:message-id:reply-to; bh=eLTINcxHSx7dcd2weuEftkbbFCmSNFfWu4FFLF+hkqw=; b=aY6FL4fM8pxEkq8LPA0xqns05M9Lby0QS62+bZ9rUiqJNLrC4pAgquW6hgrH3inWHX u1Y+vrL9cWaP0VLMCmzhmz2aEVmmmoYKSGw02Uv5seDCyQ4eh+xXOU2adfX2Bknz6hyQ INz9UW29f4TrddbMJNcmp0xjVAnWoAwXYhbIiQ26gMth+0qXg57KB8wZ/bsdDefxvgi8 P4SkjmwFiejpHx45nVM6DPp2r3fFJ1JL/JYBPkTLOdaxhtzQk28GrMK5wgCBrrlNOiSu klpn4MHsOUIX1SCeGpNKp6hZLf2+V1uDTr2pY68sXeuLsp/ChHYSmxbWVy6Ka+MoE36K TG8w== X-Gm-Message-State: AOJu0YyrzohWtPl1MXbxa8/jPsEUjcv447wTSjhsS9lYjc1Ab7GvK8j9 T78XGe70cWfocD5gULTt6M22HnzEMgCznqTpfjP38APGEaKtXwlYJzx20pzrUQpMRlQS490t1pF AQ4zm0HdmxBqu/xUvF0I7UmrC31JWtMA3m5MYdJBJd4lNP3iRwge4c5R0cL13 X-Gm-Gg: ASbGncvP9M4A/lOsiO1hH3NJGUWOHKyDD/LqKBdwcR9lIy3aPDmcGhD8z7VCmpNTFNW qKJF70Tb2wbkN617DBAMHLmbtaxXMryCsoKa4YMrd47eEYdIG+ajzYeAPtp/oqlyzldLpu+jC2o ynY8bHOdtEZfWslC0RVVS0QYGPe67XBg42MN2w0R2zLkuDBuO42vmrlESul6Vl00DoLHJotRuWI MPF9NapmsMsAHXRL2iEYYlu6MlnwRk7wVyjq2jqCjs9H3ojnR3CM8Ec7h4NFFuxp6Nl+4/bgz9u v0tnI/pdWC0WiBIQ5FT/whmyCsw4t05ShPPYY0JWVNgRysZLSw== X-Google-Smtp-Source: AGHT+IEiNvgojoP92J70JaoOAqpxzL+Fj3zmWBMPhUXoDFECgShx5d4o8ks7rzLdDSgoAnZCMvWwftXppTag X-Received: by 2002:a05:622a:4acb:b0:4ab:41a7:18da with SMTP id d75a77b69052e-4abb0901f50mr16729241cf.26.1752776069297; Thu, 17 Jul 2025 11:14:29 -0700 (PDT) Received: from postal.iol.unh.edu (postal.iol.unh.edu. [2606:4100:3880:1234::84]) by smtp-relay.gmail.com with ESMTPS id 6a1803df08f44-7049798d220sm9000986d6.8.2025.07.17.11.14.29 (version=TLS1_2 cipher=ECDHE-ECDSA-AES128-GCM-SHA256 bits=128/128); Thu, 17 Jul 2025 11:14:29 -0700 (PDT) X-Relaying-Domain: iol.unh.edu Date: Thu, 17 Jul 2025 11:14:29 -0700 (PDT) Message-ID: <68793d85.d40a0220.3382fc.fa22SMTPIN_ADDED_MISSING@mx.google.com> Received: from [172.21.0.6] (unknown [172.18.0.240]) by postal.iol.unh.edu (Postfix) with ESMTP id EE9D26050A61; Thu, 17 Jul 2025 14:14:28 -0400 (EDT) Subject: |SUCCESS| pw155302-155309 [PATCH] [v9,8/8] bus/dpaa: optimize qman e From: dpdklab@iol.unh.edu To: Test Report Cc: dpdk-test-reports@iol.unh.edu In-Reply-To: <20250717094238.899294-9-vanshika.shukla@nxp.com> References: <20250717094238.899294-9-vanshika.shukla@nxp.com> Content-Type: text/plain X-BeenThere: test-report@dpdk.org X-Mailman-Version: 2.1.29 Precedence: list List-Id: automatic DPDK test reports List-Unsubscribe: , List-Archive: List-Post: List-Help: List-Subscribe: , Errors-To: test-report-bounces@dpdk.org Test-Label: iol-compile-amd64-testing Test-Status: SUCCESS http://dpdk.org/patch/155309 _Testing PASS_ Submitter: Vanshika Shukla Date: Thursday, July 17 2025 09:42:38 DPDK git baseline: Repo:dpdk Branch: master CommitID:9fe9c0b231c8da5435bfccb1963121b4277f961c 155302-155309 --> testing pass Upstream job id: Windows-Compile-DPDK-Native#29834 Test environment and result as below: +-------------------------------+--------------------+-------------------+------------------+-------------------+-------------------------+ | Environment | dpdk_meson_compile | dpdk_compile_spdk | dpdk_compile_ovs | dpdk_msvc_compile | dpdk_llvm_clang_compile | +===============================+====================+===================+==================+===================+=========================+ | CentOS Stream 10 | PASS | SKIPPED | SKIPPED | SKIPPED | SKIPPED | +-------------------------------+--------------------+-------------------+------------------+-------------------+-------------------------+ | CentOS Stream 9 | PASS | PASS | SKIPPED | SKIPPED | SKIPPED | +-------------------------------+--------------------+-------------------+------------------+-------------------+-------------------------+ | Fedora Linux 40 | PASS | PASS | SKIPPED | SKIPPED | SKIPPED | +-------------------------------+--------------------+-------------------+------------------+-------------------+-------------------------+ | Fedora Linux 41 | PASS | PASS | PASS | SKIPPED | SKIPPED | +-------------------------------+--------------------+-------------------+------------------+-------------------+-------------------------+ | Debian GNU/Linux 12 | PASS | PASS | SKIPPED | SKIPPED | SKIPPED | +-------------------------------+--------------------+-------------------+------------------+-------------------+-------------------------+ | Red Hat Enterprise Linux 9.5 | PASS | SKIPPED | SKIPPED | SKIPPED | SKIPPED | +-------------------------------+--------------------+-------------------+------------------+-------------------+-------------------------+ | openSUSE Leap 15.6 | PASS | SKIPPED | SKIPPED | SKIPPED | SKIPPED | +-------------------------------+--------------------+-------------------+------------------+-------------------+-------------------------+ | Red Hat Enterprise Linux 8.10 | PASS | SKIPPED | SKIPPED | SKIPPED | SKIPPED | +-------------------------------+--------------------+-------------------+------------------+-------------------+-------------------------+ | Ubuntu 20.04 | PASS | SKIPPED | SKIPPED | SKIPPED | SKIPPED | +-------------------------------+--------------------+-------------------+------------------+-------------------+-------------------------+ | Ubuntu 22.04 | PASS | PASS | SKIPPED | SKIPPED | SKIPPED | +-------------------------------+--------------------+-------------------+------------------+-------------------+-------------------------+ | Ubuntu 24.04 | PASS | PASS | PASS | SKIPPED | SKIPPED | +-------------------------------+--------------------+-------------------+------------------+-------------------+-------------------------+ | Alpine Linux 3.22.0 | PASS | SKIPPED | SKIPPED | SKIPPED | SKIPPED | +-------------------------------+--------------------+-------------------+------------------+-------------------+-------------------------+ | FreeBSD 14.2 | PASS | SKIPPED | SKIPPED | SKIPPED | SKIPPED | +-------------------------------+--------------------+-------------------+------------------+-------------------+-------------------------+ | Windows Server 2022 | SKIPPED | SKIPPED | SKIPPED | PASS | PASS | +-------------------------------+--------------------+-------------------+------------------+-------------------+-------------------------+ CentOS Stream 10 Kernel: 5.15 Compiler: gcc gcc (GCC) 14.2.1 20250110 (Red Hat 14.2.1-8) CentOS Stream 9 Kernel: 5.15 Compiler: gcc gcc (GCC) 11.5.0 20240719 (Red Hat 11.5.0-7) Fedora Linux 40 Kernel: 5.15 Compiler: gcc gcc (GCC) 14.2.1 20240912 (Red Hat 14.2.1-3) Fedora Linux 41 Kernel: 5.15 Compiler: clang gcc (GCC) 14.3.1 20250523 (Red Hat 14.3.1-1) Debian GNU/Linux 12 Kernel: 5.15 Compiler: gcc gcc (Debian 12.2.0-14+deb12u1) 12.2.0 Red Hat Enterprise Linux 9.5 Kernel: 5.15 Compiler: gcc gcc (GCC) 11.5.0 20240719 (Red Hat 11.5.0-2) openSUSE Leap 15.6 Kernel: 5.15 Compiler: gcc gcc (SUSE Linux) 7.5.0 Red Hat Enterprise Linux 8.10 Kernel: 5.15 Compiler: gcc gcc (GCC) 8.5.0 20210514 (Red Hat 8.5.0-22) Ubuntu 20.04 Kernel: 5.15 Compiler: gcc gcc (Ubuntu 9.4.0-1ubuntu1~20.04.2) 9.4.0 Ubuntu 22.04 Kernel: 5.15 Compiler: gcc gcc (Ubuntu 11.4.0-1ubuntu1~22.04) 11.4.0 Ubuntu 24.04 Kernel: 5.15 Compiler: gcc gcc (Ubuntu 13.3.0-6ubuntu2~24.04) 13.3.0 Alpine Linux 3.22.0 Kernel: 5.15 Compiler: gcc gcc (Alpine 14.2.0) 14.2.0 FreeBSD 14.2 Kernel: 14.2-RELEASE Compiler: clang 18.1.6 Windows Server 2022 Kernel: 10.0.20348.2031 Compiler: clang 15.0.7, gcc 14.1.0 (MinGW), and MSVC VS 19.39.33521 To view detailed results, visit: https://lab.dpdk.org/results/dashboard/patchsets/33678/ UNH-IOL DPDK Community Lab To manage your email subscriptions, visit: https://lab.dpdk.org/results/dashboard/preferences/subscriptions/