From mboxrd@z Thu Jan 1 00:00:00 1970 Return-Path: Received: from mails.dpdk.org (mails.dpdk.org [217.70.189.124]) by inbox.dpdk.org (Postfix) with ESMTP id 5951846BA0 for ; Thu, 17 Jul 2025 20:15:17 +0200 (CEST) Received: from mails.dpdk.org (localhost [127.0.0.1]) by mails.dpdk.org (Postfix) with ESMTP id 51972400EF; Thu, 17 Jul 2025 20:15:17 +0200 (CEST) Received: from mail-pl1-f228.google.com (mail-pl1-f228.google.com [209.85.214.228]) by mails.dpdk.org (Postfix) with ESMTP id 740AD400EF for ; Thu, 17 Jul 2025 20:15:16 +0200 (CEST) Received: by mail-pl1-f228.google.com with SMTP id d9443c01a7336-23694cec0feso12959415ad.2 for ; Thu, 17 Jul 2025 11:15:16 -0700 (PDT) DKIM-Signature: v=1; a=rsa-sha256; c=relaxed/relaxed; d=iol.unh.edu; s=unh-iol; t=1752776115; x=1753380915; darn=dpdk.org; h=references:in-reply-to:cc:to:from:subject:message-id:date:from:to :cc:subject:date:message-id:reply-to; bh=gwpw4S6JycqQ+VnJnLGIsYzCooOLaVco3Pzkl5IKJGE=; b=QvywMH9zicffgj9fJ/lKUscaUQFuBAZDslD5LKSAFd6hG0LLdvI+TAhFntjVQ4bJgZ eYLBRCKL+ivrfCvqJSMD2Gw/XS8+ZvhrixQU6aRX2KfL8JfgHiJej0uP43bi3/WkZDD5 6OomNssnqzIjhkt86TkN3XYD1NzaSTI7u+SHY= X-Google-DKIM-Signature: v=1; a=rsa-sha256; c=relaxed/relaxed; d=1e100.net; s=20230601; t=1752776115; x=1753380915; h=references:in-reply-to:cc:to:from:subject:message-id:date :x-gm-message-state:from:to:cc:subject:date:message-id:reply-to; bh=gwpw4S6JycqQ+VnJnLGIsYzCooOLaVco3Pzkl5IKJGE=; b=ejK8KUn8Vq2GpFTWxddWyiD9eP44NHKZNkvIeyTc1FlPyjNNCR5nmLv6OnCf1mI/Aq qZvWVou7St0hS6nNOWOR6Pp9X2p2Iuy+uymJJSxA9yACncUkqAKW8WbwAfqfqTGJnmAC 3iLfWUPCBAztTeqo2Ob7xml1A/VBFD7toUNR1J0U1P+KxGGG0vQL64pkdFtpV9albqYA S/vLeUyxxQjH89JqCESypLpYsgI/b/I+NnT+uCpx7dU76/m0L0dS7RyMHSHbX5KGNh6r SG3n0NmNdqmoQMCgcghLe1MgYoXnvHwhnWRhT9CFuodUWXfdQ1TX4S7HRqJR5snNXfHu Oa6Q== X-Gm-Message-State: AOJu0YxKNOjaWiTsJFzMHvKvftZb3rxrWHzVdPhO1ax/I1CL9awyhxfh 66jA2Cyf3R+g2K82/VW51nhzVAC59sM6sxDudvVTkvP8cntEZtb0yZnXnKMZwsID6oGux8WChfp nHAaee8wDB4eoYP0q8pAgkpVTFQXNrBT4psc8yO0uP1G/ X-Gm-Gg: ASbGncvBXLro4XiFMgnoZwI7o6trOInHn2uAVW623iigAWZ8xihleoN0+XrvB4glowL nP/H/L8xWeycPL4DbbZSaFGnEpfVlqAz7bFhj8dVUITaKXBAk81iQaCLSgKZjXeZ4q73Jd0mKKt fbTrxeEAgOtU/KrxzwyGu/XppfH8bzVnOP8S9KVCKfAg2r9gs8HUPLJTR5+qhozwklFwSkiBsve Okg3aDL3PBChpI6i4nE9CyadiN82ou51fACd+mvyhsUi8lewHGK4Pikz1tBmG87bVjFBIxb7hZI i+ughzUirNr5rfhCxhkFyvCqvVf8/crvrH69qmIwXT10LwzA1TS2CXTvl7H7z+cZaSl84BAB X-Google-Smtp-Source: AGHT+IGiB6iuS2S24VNv4/TnU1ynPDXW8Z+9GFV0c/Z4q2JMglg8m56V66QouPvt909p0Vc05qNbgUzgT2zH X-Received: by 2002:a17:903:2b0f:b0:236:8df7:b30a with SMTP id d9443c01a7336-23e24ec70c4mr120127135ad.1.1752776115517; Thu, 17 Jul 2025 11:15:15 -0700 (PDT) Received: from postal.iol.unh.edu (postal.iol.unh.edu. [132.177.123.84]) by smtp-relay.gmail.com with ESMTPS id 41be03b00d2f7-b3bbe6cabf6sm954965a12.23.2025.07.17.11.15.15 (version=TLS1_2 cipher=ECDHE-ECDSA-AES128-GCM-SHA256 bits=128/128); Thu, 17 Jul 2025 11:15:15 -0700 (PDT) X-Relaying-Domain: iol.unh.edu Date: Thu, 17 Jul 2025 11:15:15 -0700 (PDT) Message-ID: <68793db3.630a0220.1b2eb0.0f16SMTPIN_ADDED_MISSING@mx.google.com> Received: from [172.21.0.5] (unknown [172.18.0.240]) by postal.iol.unh.edu (Postfix) with ESMTP id A135C6050A61; Thu, 17 Jul 2025 14:15:14 -0400 (EDT) Subject: |SUCCESS| pw155310 [PATCH] eal: add description of service corelist From: dpdklab@iol.unh.edu To: Test Report Cc: dpdk-test-reports@iol.unh.edu In-Reply-To: <20250717094232.2184783-1-david.marchand@redhat.com> References: <20250717094232.2184783-1-david.marchand@redhat.com> Content-Type: text/plain X-BeenThere: test-report@dpdk.org X-Mailman-Version: 2.1.29 Precedence: list List-Id: automatic DPDK test reports List-Unsubscribe: , List-Archive: List-Post: List-Help: List-Subscribe: , Errors-To: test-report-bounces@dpdk.org Test-Label: iol-unit-amd64-testing Test-Status: SUCCESS http://dpdk.org/patch/155310 _Testing PASS_ Submitter: David Marchand Date: Thursday, July 17 2025 09:42:32 DPDK git baseline: Repo:dpdk Branch: master CommitID:9fe9c0b231c8da5435bfccb1963121b4277f961c 155310 --> testing pass Upstream job id: Generic-VM-Unit-Test-DPDK#29993 Test environment and result as below: +-------------------------------+----------------+ | Environment | dpdk_unit_test | +===============================+================+ | CentOS Stream 9 | PASS | +-------------------------------+----------------+ | CentOS Stream 10 | PASS | +-------------------------------+----------------+ | Debian GNU/Linux 12 | PASS | +-------------------------------+----------------+ | Fedora Linux 40 | PASS | +-------------------------------+----------------+ | Fedora Linux 41 | PASS | +-------------------------------+----------------+ | Red Hat Enterprise Linux 8.10 | PASS | +-------------------------------+----------------+ | Red Hat Enterprise Linux 9.5 | PASS | +-------------------------------+----------------+ | Ubuntu 20.04 | PASS | +-------------------------------+----------------+ | Ubuntu 22.04 | PASS | +-------------------------------+----------------+ | Ubuntu 24.04 | PASS | +-------------------------------+----------------+ | Windows Server 2022 | PASS | +-------------------------------+----------------+ CentOS Stream 9 Kernel: 5.15 Compiler: gcc gcc (GCC) 11.5.0 20240719 (Red Hat 11.5.0-7) CentOS Stream 10 Kernel: 5.15 Compiler: gcc gcc (GCC) 14.2.1 20250110 (Red Hat 14.2.1-8) Debian GNU/Linux 12 Kernel: 5.15 Compiler: gcc gcc (Debian 12.2.0-14+deb12u1) 12.2.0 Fedora Linux 40 Kernel: 5.15 Compiler: gcc gcc (GCC) 14.2.1 20240912 (Red Hat 14.2.1-3) Fedora Linux 41 Kernel: 5.15 Compiler: gcc gcc (GCC) 14.3.1 20250523 (Red Hat 14.3.1-1) Red Hat Enterprise Linux 8.10 Kernel: 5.15 Compiler: gcc gcc (GCC) 8.5.0 20210514 (Red Hat 8.5.0-22) Red Hat Enterprise Linux 9.5 Kernel: 5.15 Compiler: gcc gcc (GCC) 11.5.0 20240719 (Red Hat 11.5.0-2) Ubuntu 20.04 Kernel: 5.15 Compiler: gcc gcc (Ubuntu 9.4.0-1ubuntu1~20.04.2) 9.4.0 Ubuntu 22.04 Kernel: 5.15 Compiler: gcc gcc (Ubuntu 11.4.0-1ubuntu1~22.04) 11.4.0 Ubuntu 24.04 Kernel: 5.15 Compiler: gcc gcc (Ubuntu 13.3.0-6ubuntu2~24.04) 13.3.0 Windows Server 2022 Kernel: 10.0.20348.2031 Compiler: clang 15.0.7, gcc 14.1.0 (MinGW), and MSVC VS 19.39.33521 To view detailed results, visit: https://lab.dpdk.org/results/dashboard/patchsets/33679/ UNH-IOL DPDK Community Lab To manage your email subscriptions, visit: https://lab.dpdk.org/results/dashboard/preferences/subscriptions/