From mboxrd@z Thu Jan 1 00:00:00 1970 Return-Path: Received: from mails.dpdk.org (mails.dpdk.org [217.70.189.124]) by inbox.dpdk.org (Postfix) with ESMTP id 1090746BA0 for ; Thu, 17 Jul 2025 20:20:04 +0200 (CEST) Received: from mails.dpdk.org (localhost [127.0.0.1]) by mails.dpdk.org (Postfix) with ESMTP id DD4BC400EF; Thu, 17 Jul 2025 20:20:03 +0200 (CEST) Received: from mail-yw1-f228.google.com (mail-yw1-f228.google.com [209.85.128.228]) by mails.dpdk.org (Postfix) with ESMTP id 8F15C400EF for ; Thu, 17 Jul 2025 20:20:02 +0200 (CEST) Received: by mail-yw1-f228.google.com with SMTP id 00721157ae682-7184015180fso14670377b3.2 for ; Thu, 17 Jul 2025 11:20:02 -0700 (PDT) DKIM-Signature: v=1; a=rsa-sha256; c=relaxed/relaxed; d=iol.unh.edu; s=unh-iol; t=1752776402; x=1753381202; darn=dpdk.org; h=references:in-reply-to:cc:to:from:subject:message-id:date:from:to :cc:subject:date:message-id:reply-to; bh=iESmszXZwN0BmIgnsQBeBhKIY3ze3beLQOkFZaS3TvA=; b=Q39DGi7Co7FZ7mpUEy+1GAm5FbUQIcB4oN2+jyXWTg9eGGi+T4O/J0mAuqR76Sl5hI G55vS3Ra398BajF6/HCw7kYEVwLzCeVsC8RgqpuGYKmmpiSt1oF+XBZfn3pM5fCbXKcI ffAarXcLTz4sx4NJzY74DXHmDTVxDUKA/XLC8= X-Google-DKIM-Signature: v=1; a=rsa-sha256; c=relaxed/relaxed; d=1e100.net; s=20230601; t=1752776402; x=1753381202; h=references:in-reply-to:cc:to:from:subject:message-id:date :x-gm-message-state:from:to:cc:subject:date:message-id:reply-to; bh=iESmszXZwN0BmIgnsQBeBhKIY3ze3beLQOkFZaS3TvA=; b=JDOoOdl4cf28zW3B/KGJJfrVphmFFDVaJ62kj8KJHvEwXpmN1YkFXQmuLt+JTcGPrS MzCOv/eEukQJW5vnTCjS/n1LjCh7+Qn6zPVECUkOouM0FJLtGQQwM0ee+IchkABsvumJ 734gx3wDm0uKn2sNNsl+ZflpwXVBKuzoKHIBHPWWVorH8UnbziNdpx1oqP3ffjQNbCqa m3ZLgFVVYItyE7yl6mu2uqTStnOAZMIxViPn4YVXUTSWccMQXY80SrAHYxOapfoMsyts /pgNpPwX6cvGGT87eKJ4YAQb0TjA2i+RKY+Ovsb7mBkuZnw+DTEyipAzJUxk7y6WPOrF c7qw== X-Gm-Message-State: AOJu0Yw5upa5/fm9kIblrPF7lvis0y2QrpJpKKqabgkY0Tc27f1dkAqb ZupQGYqZq9C/TQkqpwSXHAG13a01WWozqGHWCLgIzAMfN+iNMZTK5nzAz7a8TPyPa1/4+v99sw4 VCngTAFrEIUjhq2Cm0NOdFMQI4Dv+f7KCvnkNY1WKfOib X-Gm-Gg: ASbGncs7P/ZqcQ3vgkPWeAY4xXrZZH+nJhoB20g7NJsLYhiRmjxxIG2yXEVJlx80tFv /Iicgh5y+nrCcrjHZSCAaMLzZtlkXAZzln9XeZfEcuukXf5P2XZ9OxKes8n2IKzLq19c8OvjrgN Y4hd009niU0m368tPdtQxVjnwxvai+J1UGoA18Po5IEdSeTgYeDfllOinj7zvOHNCMfiEtvlGWm mmmfBSIbiMcFoU+pV6fyXUP+JfjqBWnLvMBpwP6QZ1wlA/oSs77DMXKVa1oAZvPuvQgHI+8KQZN d9Q5xPgtnOdhAKKb5hUlq2weq3QjmsrqFQen03L9YW1JxtEnNIK0b7EQQ34zispiAOwerJEI X-Google-Smtp-Source: AGHT+IExwaW9sG+3z5x1FupWjAaxAx7Ghe2vOidDFa7OWqUCTj+72WVwlZHMnlQ5LHlp0KSiNoWcrisH9QrU X-Received: by 2002:a05:690c:7303:b0:712:d473:b802 with SMTP id 00721157ae682-718374f0352mr89942157b3.18.1752776401753; Thu, 17 Jul 2025 11:20:01 -0700 (PDT) Received: from postal.iol.unh.edu (postal.iol.unh.edu. [132.177.123.84]) by smtp-relay.gmail.com with ESMTPS id 00721157ae682-717c625960asm6022647b3.63.2025.07.17.11.20.01 (version=TLS1_2 cipher=ECDHE-ECDSA-AES128-GCM-SHA256 bits=128/128); Thu, 17 Jul 2025 11:20:01 -0700 (PDT) X-Relaying-Domain: iol.unh.edu Date: Thu, 17 Jul 2025 11:20:01 -0700 (PDT) Message-ID: <68793ed1.810a0220.1016b2.fbdaSMTPIN_ADDED_MISSING@mx.google.com> Received: from [172.21.0.5] (unknown [172.18.0.240]) by postal.iol.unh.edu (Postfix) with ESMTP id 7807B604D420; Thu, 17 Jul 2025 14:20:01 -0400 (EDT) Subject: |SUCCESS| pw155207 [PATCH] [v1] mailmap: add new email to DPDK From: dpdklab@iol.unh.edu To: Test Report Cc: dpdk-test-reports@iol.unh.edu In-Reply-To: <20250714191141.1243467-1-pravin.pathak@intel.com> References: <20250714191141.1243467-1-pravin.pathak@intel.com> Content-Type: text/plain X-BeenThere: test-report@dpdk.org X-Mailman-Version: 2.1.29 Precedence: list List-Id: automatic DPDK test reports List-Unsubscribe: , List-Archive: List-Post: List-Help: List-Subscribe: , Errors-To: test-report-bounces@dpdk.org Test-Label: iol-compile-amd64-testing Test-Status: SUCCESS http://dpdk.org/patch/155207 _Testing PASS RETEST #1_ Submitter: Pravin Pathak Date: Monday, July 14 2025 19:11:41 DPDK git baseline: Repo:dpdk Branch: master CommitID:9fe9c0b231c8da5435bfccb1963121b4277f961c 155207 --> testing pass Upstream job id: Windows-Compile-DPDK-Native#29836 Test environment and result as below: +-------------------------------+--------------------+-------------------+------------------+-------------------+-------------------------+ | Environment | dpdk_meson_compile | dpdk_compile_spdk | dpdk_compile_ovs | dpdk_msvc_compile | dpdk_llvm_clang_compile | +===============================+====================+===================+==================+===================+=========================+ | CentOS Stream 9 | PASS | PASS | SKIPPED | SKIPPED | SKIPPED | +-------------------------------+--------------------+-------------------+------------------+-------------------+-------------------------+ | CentOS Stream 10 | PASS | SKIPPED | SKIPPED | SKIPPED | SKIPPED | +-------------------------------+--------------------+-------------------+------------------+-------------------+-------------------------+ | Fedora Linux 40 | PASS | PASS | SKIPPED | SKIPPED | SKIPPED | +-------------------------------+--------------------+-------------------+------------------+-------------------+-------------------------+ | Debian GNU/Linux 12 | PASS | PASS | SKIPPED | SKIPPED | SKIPPED | +-------------------------------+--------------------+-------------------+------------------+-------------------+-------------------------+ | Fedora Linux 41 | PASS | PASS | PASS | SKIPPED | SKIPPED | +-------------------------------+--------------------+-------------------+------------------+-------------------+-------------------------+ | Ubuntu 20.04 | PASS | SKIPPED | SKIPPED | SKIPPED | SKIPPED | +-------------------------------+--------------------+-------------------+------------------+-------------------+-------------------------+ | openSUSE Leap 15.6 | PASS | SKIPPED | SKIPPED | SKIPPED | SKIPPED | +-------------------------------+--------------------+-------------------+------------------+-------------------+-------------------------+ | Red Hat Enterprise Linux 8.10 | PASS | SKIPPED | SKIPPED | SKIPPED | SKIPPED | +-------------------------------+--------------------+-------------------+------------------+-------------------+-------------------------+ | Red Hat Enterprise Linux 9.5 | PASS | SKIPPED | SKIPPED | SKIPPED | SKIPPED | +-------------------------------+--------------------+-------------------+------------------+-------------------+-------------------------+ | Ubuntu 24.04 | PASS | PASS | PASS | SKIPPED | SKIPPED | +-------------------------------+--------------------+-------------------+------------------+-------------------+-------------------------+ | Alpine Linux 3.22.0 | PASS | SKIPPED | SKIPPED | SKIPPED | SKIPPED | +-------------------------------+--------------------+-------------------+------------------+-------------------+-------------------------+ | FreeBSD 14.2 | PASS | SKIPPED | SKIPPED | SKIPPED | SKIPPED | +-------------------------------+--------------------+-------------------+------------------+-------------------+-------------------------+ | Ubuntu 22.04 | PASS | PASS | SKIPPED | SKIPPED | SKIPPED | +-------------------------------+--------------------+-------------------+------------------+-------------------+-------------------------+ | Windows Server 2022 | SKIPPED | SKIPPED | SKIPPED | PASS | PASS | +-------------------------------+--------------------+-------------------+------------------+-------------------+-------------------------+ CentOS Stream 9 Kernel: 5.15 Compiler: gcc gcc (GCC) 11.5.0 20240719 (Red Hat 11.5.0-7) CentOS Stream 10 Kernel: 5.15 Compiler: gcc gcc (GCC) 14.2.1 20250110 (Red Hat 14.2.1-8) Fedora Linux 40 Kernel: 5.15 Compiler: clang gcc (GCC) 14.2.1 20240912 (Red Hat 14.2.1-3) Debian GNU/Linux 12 Kernel: 5.15 Compiler: gcc gcc (Debian 12.2.0-14+deb12u1) 12.2.0 Fedora Linux 41 Kernel: 5.15 Compiler: gcc gcc (GCC) 14.3.1 20250523 (Red Hat 14.3.1-1) Ubuntu 20.04 Kernel: 5.15 Compiler: gcc gcc (Ubuntu 9.4.0-1ubuntu1~20.04.2) 9.4.0 openSUSE Leap 15.6 Kernel: 5.15 Compiler: gcc gcc (SUSE Linux) 7.5.0 Red Hat Enterprise Linux 8.10 Kernel: 5.15 Compiler: gcc gcc (GCC) 8.5.0 20210514 (Red Hat 8.5.0-22) Red Hat Enterprise Linux 9.5 Kernel: 5.15 Compiler: gcc gcc (GCC) 11.5.0 20240719 (Red Hat 11.5.0-2) Ubuntu 24.04 Kernel: 5.15 Compiler: gcc gcc (Ubuntu 13.3.0-6ubuntu2~24.04) 13.3.0 Alpine Linux 3.22.0 Kernel: 5.15 Compiler: gcc gcc (Alpine 14.2.0) 14.2.0 FreeBSD 14.2 Kernel: 14.2-RELEASE Compiler: clang 18.1.6 Ubuntu 22.04 Kernel: 5.15 Compiler: gcc gcc (Ubuntu 11.4.0-1ubuntu1~22.04) 11.4.0 Windows Server 2022 Kernel: 10.0.20348.2031 Compiler: clang 15.0.7, gcc 14.1.0 (MinGW), and MSVC VS 19.39.33521 To view detailed results, visit: https://lab.dpdk.org/results/dashboard/patchsets/33652/ UNH-IOL DPDK Community Lab To manage your email subscriptions, visit: https://lab.dpdk.org/results/dashboard/preferences/subscriptions/