From mboxrd@z Thu Jan 1 00:00:00 1970 Return-Path: Received: from mails.dpdk.org (mails.dpdk.org [217.70.189.124]) by inbox.dpdk.org (Postfix) with ESMTP id A137546BA0 for ; Thu, 17 Jul 2025 20:27:12 +0200 (CEST) Received: from mails.dpdk.org (localhost [127.0.0.1]) by mails.dpdk.org (Postfix) with ESMTP id 78E68400EF; Thu, 17 Jul 2025 20:27:12 +0200 (CEST) Received: from mail-pf1-f225.google.com (mail-pf1-f225.google.com [209.85.210.225]) by mails.dpdk.org (Postfix) with ESMTP id 8C4A5400EF for ; Thu, 17 Jul 2025 20:27:11 +0200 (CEST) Received: by mail-pf1-f225.google.com with SMTP id d2e1a72fcca58-74264d1832eso1860228b3a.0 for ; Thu, 17 Jul 2025 11:27:11 -0700 (PDT) DKIM-Signature: v=1; a=rsa-sha256; c=relaxed/relaxed; d=iol.unh.edu; s=unh-iol; t=1752776831; x=1753381631; darn=dpdk.org; h=references:in-reply-to:cc:to:from:subject:message-id:date:from:to :cc:subject:date:message-id:reply-to; bh=YvRQUy9iwPe1skOej+9HiDeTaNMeCpUAo81oqbsaSIU=; b=RdrAddsm9FuhxKdzaK8RF9reMs3azMHKmuE8t+8661xa3D5/Kk6PMXV4msiGteMTWj 6RoiuKoiPUpGeAP6W4sva+7c6CLs18JlqnXP/vT3I2kJad+jq1ap4vFtNyUFcHLSSUYQ wRXCx4m6Nxl0aVut4vZxzpIH/6i2YY+K084ek= X-Google-DKIM-Signature: v=1; a=rsa-sha256; c=relaxed/relaxed; d=1e100.net; s=20230601; t=1752776831; x=1753381631; h=references:in-reply-to:cc:to:from:subject:message-id:date :x-gm-message-state:from:to:cc:subject:date:message-id:reply-to; bh=YvRQUy9iwPe1skOej+9HiDeTaNMeCpUAo81oqbsaSIU=; b=nKma45CaZLPRaEDr2dzuyuW2gsg7ksd6sVQChNtVBSVem15EY+f566Y9WSPWQg/NLz iR9ObOucVKG/w4y36BDCGLrzd0QMo3oHhdlXZd8BmJtby3lboU8B8uq1bI8mNWCeHpj2 UqN66LYIkl8sHZxN9GxXcBwW1citxPO0PorWu8yh3iHv2cc3RoApBKS8jphfJP+lvffe nH9K6va+vX0igJzAgqxEs06gM5tDhhVPx6jpc0GG4Fl09S8mQP13+eKZZuPW7woXqTc/ Oyjj/SIGIJPdtEX/I0/uWjJYMB2jaDzl4M0ZrWZnVGio+XqRDz31lw72W+VsBgkX8BAS vBmg== X-Gm-Message-State: AOJu0YxPLvET9swCs+Y8pDIeqxXcC3j5qwXooRhoUQguzheelVWzJ6zH /R3H9Rs0UsBhEbmw75ImoMwjLjK0L80kAQ9lnnWwTR0ESZGGZrAz5PJeZtgDdKyF6cX3F1XZ2Ck mtEzAhzMmEEdS+5mLVSkoFFTOQHJS6LKDhn1eXfzu7q0cScEsRtx/jBIy+DpB X-Gm-Gg: ASbGncv+2954/dGnKK3YgJOADZDUPc//c5N7bUi9fyThmfUJdWyCebBplKcm9TZxxxq Ny1IqaGXZVOQyoNuC8fkuRNg1e8v/NW+NPfm3fsZ4ZadXkHR00Gm5nWiRsbEWddWJTi/YWz4fcW Gn8ebjlbyzRE9jLQETGmWVhpMYfCczENAfIzOuvaUD9SkuPY/4135kad5r+pvoZjEO5BTGTu97r Mgq2D9XIugX5wCD0jP0Drgziqos6pQDD3D42MtX/85iK2Nc75pu2sSmmW0qFEy6plM4BFLjtsSz Of5Ex192Ng2MZbKbPH38HRJhclbjNOt/Z7kqHrnyZAUcm7grDQ== X-Google-Smtp-Source: AGHT+IHvb+rW1qoNxXJH/RurRNwHMT81FeG7O1vrFHVBp7i5scsUthfEutPv+WHgR4pIkujsZULINhic2g5g X-Received: by 2002:a05:6a00:846:b0:736:a8db:93b4 with SMTP id d2e1a72fcca58-75723161895mr10287102b3a.2.1752776830683; Thu, 17 Jul 2025 11:27:10 -0700 (PDT) Received: from postal.iol.unh.edu (postal.iol.unh.edu. [2606:4100:3880:1234::84]) by smtp-relay.gmail.com with ESMTPS id d2e1a72fcca58-74eb9f901e4sm1134647b3a.21.2025.07.17.11.27.10 (version=TLS1_2 cipher=ECDHE-ECDSA-AES128-GCM-SHA256 bits=128/128); Thu, 17 Jul 2025 11:27:10 -0700 (PDT) X-Relaying-Domain: iol.unh.edu Date: Thu, 17 Jul 2025 11:27:10 -0700 (PDT) Message-ID: <6879407e.050a0220.10f8b5.b5a6SMTPIN_ADDED_MISSING@mx.google.com> Received: from [172.21.0.5] (unknown [172.18.0.240]) by postal.iol.unh.edu (Postfix) with ESMTP id 2682A604D420; Thu, 17 Jul 2025 14:27:10 -0400 (EDT) Subject: |SUCCESS| pw155302-155309 [PATCH] [v9,8/8] bus/dpaa: optimize qman e From: dpdklab@iol.unh.edu To: Test Report Cc: dpdk-test-reports@iol.unh.edu In-Reply-To: <20250717094238.899294-9-vanshika.shukla@nxp.com> References: <20250717094238.899294-9-vanshika.shukla@nxp.com> Content-Type: text/plain X-BeenThere: test-report@dpdk.org X-Mailman-Version: 2.1.29 Precedence: list List-Id: automatic DPDK test reports List-Unsubscribe: , List-Archive: List-Post: List-Help: List-Subscribe: , Errors-To: test-report-bounces@dpdk.org Test-Label: iol-unit-amd64-testing Test-Status: SUCCESS http://dpdk.org/patch/155309 _Testing PASS_ Submitter: Vanshika Shukla Date: Thursday, July 17 2025 09:42:38 DPDK git baseline: Repo:dpdk Branch: master CommitID:9fe9c0b231c8da5435bfccb1963121b4277f961c 155302-155309 --> testing pass Upstream job id: Generic-VM-Unit-Test-DPDK#29994 Test environment and result as below: +-------------------------------+----------------+ | Environment | dpdk_unit_test | +===============================+================+ | CentOS Stream 10 | PASS | +-------------------------------+----------------+ | CentOS Stream 9 | PASS | +-------------------------------+----------------+ | Debian GNU/Linux 12 | PASS | +-------------------------------+----------------+ | Fedora Linux 41 | PASS | +-------------------------------+----------------+ | Fedora Linux 40 | PASS | +-------------------------------+----------------+ | Red Hat Enterprise Linux 9.5 | PASS | +-------------------------------+----------------+ | Red Hat Enterprise Linux 8.10 | PASS | +-------------------------------+----------------+ | Ubuntu 22.04 | PASS | +-------------------------------+----------------+ | Ubuntu 20.04 | PASS | +-------------------------------+----------------+ | Ubuntu 24.04 | PASS | +-------------------------------+----------------+ | Windows Server 2022 | PASS | +-------------------------------+----------------+ CentOS Stream 10 Kernel: 5.15 Compiler: gcc gcc (GCC) 14.2.1 20250110 (Red Hat 14.2.1-8) CentOS Stream 9 Kernel: 5.15 Compiler: gcc gcc (GCC) 11.5.0 20240719 (Red Hat 11.5.0-7) Debian GNU/Linux 12 Kernel: 5.15 Compiler: gcc gcc (Debian 12.2.0-14+deb12u1) 12.2.0 Fedora Linux 41 Kernel: 5.15 Compiler: gcc gcc (GCC) 14.3.1 20250523 (Red Hat 14.3.1-1) Fedora Linux 40 Kernel: 5.15 Compiler: gcc gcc (GCC) 14.2.1 20240912 (Red Hat 14.2.1-3) Red Hat Enterprise Linux 9.5 Kernel: 5.15 Compiler: gcc gcc (GCC) 11.5.0 20240719 (Red Hat 11.5.0-2) Red Hat Enterprise Linux 8.10 Kernel: 5.15 Compiler: gcc gcc (GCC) 8.5.0 20210514 (Red Hat 8.5.0-22) Ubuntu 22.04 Kernel: 5.15 Compiler: gcc gcc (Ubuntu 11.4.0-1ubuntu1~22.04) 11.4.0 Ubuntu 20.04 Kernel: 5.15 Compiler: gcc gcc (Ubuntu 9.4.0-1ubuntu1~20.04.2) 9.4.0 Ubuntu 24.04 Kernel: 5.15 Compiler: gcc gcc (Ubuntu 13.3.0-6ubuntu2~24.04) 13.3.0 Windows Server 2022 Kernel: 10.0.20348.2031 Compiler: clang 15.0.7, gcc 14.1.0 (MinGW), and MSVC VS 19.39.33521 To view detailed results, visit: https://lab.dpdk.org/results/dashboard/patchsets/33678/ UNH-IOL DPDK Community Lab To manage your email subscriptions, visit: https://lab.dpdk.org/results/dashboard/preferences/subscriptions/