From mboxrd@z Thu Jan 1 00:00:00 1970 Return-Path: Received: from mails.dpdk.org (mails.dpdk.org [217.70.189.124]) by inbox.dpdk.org (Postfix) with ESMTP id ABDFA46BA0 for ; Thu, 17 Jul 2025 20:28:22 +0200 (CEST) Received: from mails.dpdk.org (localhost [127.0.0.1]) by mails.dpdk.org (Postfix) with ESMTP id 9CB4C400EF; Thu, 17 Jul 2025 20:28:22 +0200 (CEST) Received: from mail-pl1-f228.google.com (mail-pl1-f228.google.com [209.85.214.228]) by mails.dpdk.org (Postfix) with ESMTP id 1D637400EF for ; Thu, 17 Jul 2025 20:28:21 +0200 (CEST) Received: by mail-pl1-f228.google.com with SMTP id d9443c01a7336-23c8a5053c2so12722285ad.1 for ; Thu, 17 Jul 2025 11:28:21 -0700 (PDT) DKIM-Signature: v=1; a=rsa-sha256; c=relaxed/relaxed; d=iol.unh.edu; s=unh-iol; t=1752776900; x=1753381700; darn=dpdk.org; h=references:in-reply-to:cc:to:from:subject:message-id:date:from:to :cc:subject:date:message-id:reply-to; bh=FN1WqebtJBTJGu8ry5fCCGaWmRpZCB2I7st1CVASJ/8=; b=YRjvhOS0JBXs77EME8RA47szL4p5ziCEUVJDTMtsnYCdrOWMJjVAk/wJE6kGdu3SKY nxKxOG2CE5g8zeEO+3Scd9bKFaCCjZtJbf0vCzIPqMiwPbjp0sryZ1CV4gHdDq1Yubn4 i1Y9oVKQ2ImBvmZVeMc8JU3XYVj0t2BewcF4E= X-Google-DKIM-Signature: v=1; a=rsa-sha256; c=relaxed/relaxed; d=1e100.net; s=20230601; t=1752776900; x=1753381700; h=references:in-reply-to:cc:to:from:subject:message-id:date :x-gm-message-state:from:to:cc:subject:date:message-id:reply-to; bh=FN1WqebtJBTJGu8ry5fCCGaWmRpZCB2I7st1CVASJ/8=; b=HOtKHscFG5O2XVA2YKynRiTAZdkL91erTYOhQgUhC1vK0xfdapzfQq6HlY4GrZi6bh v2M7/8+DvYGSw/p4AzYvr3aHCA1eRKnVarpM7RC7tPemBN3WhwtI42pmooDf63NWJMMG GB2mi/1D6zftBxPMgVaC8/WRYAKJdV4Q4or0hf7bmecLYDyHnoq4RKSQQHoud5uBOcmY bsNiPWXkJEHPZXreecf6sXYU9XyKPM738fXCZJztZIOKzAi5GfmBhJ5H3q0V0n+u2cVr rFUv777ifkaq5dTS0hlm4xEKIeOL7tKF4n44IawKA4wQFfxhWsUPa6STszc2O97oatke MEaw== X-Gm-Message-State: AOJu0Yzhsd3f1d48Vr8yIOJsB/goeeQQ4ergX6v4LwwXw5n9cTA5CO8R gR6all76DOxfLlwL7GZ90F4Pjf69qr9SOpBdfZ+vYJstRgGc7vXxAbI1uAHaeR3KXUbwSQhTldO ylA2y17Lx1rtbA1ziLyDGnV//PHv1yq+50F0bwIwcbG8H X-Gm-Gg: ASbGnctSkLDQP5UrDPoyYhbu0rPzJhAVCQ6VKp4WneeMyQh1oe2hjVbXqoUjKykbATQ VVEh80vlUsbEc7hiZjf9SLKbTo21Kva9F6cILABytqPWYtMxxblhiKqZiS+Xf9wDZPf6Tr7gbhr yTPnWpprytJTLMq5POLqEiiiO2313Vyxt3Cfrw09AEe6auxmhzpZpZ7si8ejo9escO9JsF7R0Mi 7iaM455WDSsIWyeq4qh58MtBa6NIpBm8Mc2v3p7Tq6DWnqsSGkH1YmOAEyyENrhGnNSmRJptG76 3CZM2v7b/byyddy97F9jqQtJIHPvnkluSFONLDgw1y/gWQFb1R/MoHpHcDGsyEG6OhvlCact X-Google-Smtp-Source: AGHT+IHYCuZ70UxMG7JeublBJZEt7PJ/i1lc+H0YKka6QZIM/7BAKjKNrZFSYxPC44G39U+3gnS5hcR+shzV X-Received: by 2002:a17:903:2451:b0:231:e331:b7df with SMTP id d9443c01a7336-23e24fbef13mr121702735ad.29.1752776900258; Thu, 17 Jul 2025 11:28:20 -0700 (PDT) Received: from postal.iol.unh.edu (postal.iol.unh.edu. [132.177.123.84]) by smtp-relay.gmail.com with ESMTPS id d9443c01a7336-23de4267b49sm9334735ad.6.2025.07.17.11.28.20 (version=TLS1_2 cipher=ECDHE-ECDSA-AES128-GCM-SHA256 bits=128/128); Thu, 17 Jul 2025 11:28:20 -0700 (PDT) X-Relaying-Domain: iol.unh.edu Date: Thu, 17 Jul 2025 11:28:20 -0700 (PDT) Message-ID: <687940c4.170a0220.143dc.0f79SMTPIN_ADDED_MISSING@mx.google.com> Received: from [172.21.0.5] (unknown [172.18.0.240]) by postal.iol.unh.edu (Postfix) with ESMTP id AE206604D420; Thu, 17 Jul 2025 14:28:19 -0400 (EDT) Subject: |SUCCESS| pw155207 [PATCH] [v1] mailmap: add new email to DPDK From: dpdklab@iol.unh.edu To: Test Report Cc: dpdk-test-reports@iol.unh.edu In-Reply-To: <20250714191141.1243467-1-pravin.pathak@intel.com> References: <20250714191141.1243467-1-pravin.pathak@intel.com> Content-Type: text/plain X-BeenThere: test-report@dpdk.org X-Mailman-Version: 2.1.29 Precedence: list List-Id: automatic DPDK test reports List-Unsubscribe: , List-Archive: List-Post: List-Help: List-Subscribe: , Errors-To: test-report-bounces@dpdk.org Test-Label: iol-compile-amd64-testing Test-Status: SUCCESS http://dpdk.org/patch/155207 _Testing PASS RETEST #1_ Submitter: Pravin Pathak Date: Monday, July 14 2025 19:11:41 DPDK git baseline: Repo:dpdk Branch: master CommitID:9fe9c0b231c8da5435bfccb1963121b4277f961c 155207 --> testing pass Upstream job id: Windows-Compile-DPDK-Native#29837 Test environment and result as below: +-------------------------------+--------------------+-------------------+------------------+-------------------+-------------------------+----------------------+ | Environment | dpdk_meson_compile | dpdk_compile_spdk | dpdk_compile_ovs | dpdk_msvc_compile | dpdk_llvm_clang_compile | dpdk_mingw64_compile | +===============================+====================+===================+==================+===================+=========================+======================+ | CentOS Stream 9 | PASS | PASS | SKIPPED | SKIPPED | SKIPPED | SKIPPED | +-------------------------------+--------------------+-------------------+------------------+-------------------+-------------------------+----------------------+ | CentOS Stream 10 | PASS | SKIPPED | SKIPPED | SKIPPED | SKIPPED | SKIPPED | +-------------------------------+--------------------+-------------------+------------------+-------------------+-------------------------+----------------------+ | Fedora Linux 40 | PASS | PASS | SKIPPED | SKIPPED | SKIPPED | SKIPPED | +-------------------------------+--------------------+-------------------+------------------+-------------------+-------------------------+----------------------+ | Debian GNU/Linux 12 | PASS | PASS | SKIPPED | SKIPPED | SKIPPED | SKIPPED | +-------------------------------+--------------------+-------------------+------------------+-------------------+-------------------------+----------------------+ | Fedora Linux 41 | PASS | PASS | PASS | SKIPPED | SKIPPED | SKIPPED | +-------------------------------+--------------------+-------------------+------------------+-------------------+-------------------------+----------------------+ | Ubuntu 20.04 | PASS | SKIPPED | SKIPPED | SKIPPED | SKIPPED | SKIPPED | +-------------------------------+--------------------+-------------------+------------------+-------------------+-------------------------+----------------------+ | openSUSE Leap 15.6 | PASS | SKIPPED | SKIPPED | SKIPPED | SKIPPED | SKIPPED | +-------------------------------+--------------------+-------------------+------------------+-------------------+-------------------------+----------------------+ | Red Hat Enterprise Linux 8.10 | PASS | SKIPPED | SKIPPED | SKIPPED | SKIPPED | SKIPPED | +-------------------------------+--------------------+-------------------+------------------+-------------------+-------------------------+----------------------+ | Red Hat Enterprise Linux 9.5 | PASS | SKIPPED | SKIPPED | SKIPPED | SKIPPED | SKIPPED | +-------------------------------+--------------------+-------------------+------------------+-------------------+-------------------------+----------------------+ | Ubuntu 24.04 | PASS | PASS | PASS | SKIPPED | SKIPPED | SKIPPED | +-------------------------------+--------------------+-------------------+------------------+-------------------+-------------------------+----------------------+ | Alpine Linux 3.22.0 | PASS | SKIPPED | SKIPPED | SKIPPED | SKIPPED | SKIPPED | +-------------------------------+--------------------+-------------------+------------------+-------------------+-------------------------+----------------------+ | FreeBSD 14.2 | PASS | SKIPPED | SKIPPED | SKIPPED | SKIPPED | SKIPPED | +-------------------------------+--------------------+-------------------+------------------+-------------------+-------------------------+----------------------+ | Ubuntu 22.04 | PASS | PASS | SKIPPED | SKIPPED | SKIPPED | SKIPPED | +-------------------------------+--------------------+-------------------+------------------+-------------------+-------------------------+----------------------+ | Windows Server 2022 | SKIPPED | SKIPPED | SKIPPED | PASS | PASS | PASS | +-------------------------------+--------------------+-------------------+------------------+-------------------+-------------------------+----------------------+ CentOS Stream 9 Kernel: 5.15 Compiler: gcc gcc (GCC) 11.5.0 20240719 (Red Hat 11.5.0-7) CentOS Stream 10 Kernel: 5.15 Compiler: gcc gcc (GCC) 14.2.1 20250110 (Red Hat 14.2.1-8) Fedora Linux 40 Kernel: 5.15 Compiler: clang gcc (GCC) 14.2.1 20240912 (Red Hat 14.2.1-3) Debian GNU/Linux 12 Kernel: 5.15 Compiler: gcc gcc (Debian 12.2.0-14+deb12u1) 12.2.0 Fedora Linux 41 Kernel: 5.15 Compiler: gcc gcc (GCC) 14.3.1 20250523 (Red Hat 14.3.1-1) Ubuntu 20.04 Kernel: 5.15 Compiler: gcc gcc (Ubuntu 9.4.0-1ubuntu1~20.04.2) 9.4.0 openSUSE Leap 15.6 Kernel: 5.15 Compiler: gcc gcc (SUSE Linux) 7.5.0 Red Hat Enterprise Linux 8.10 Kernel: 5.15 Compiler: gcc gcc (GCC) 8.5.0 20210514 (Red Hat 8.5.0-22) Red Hat Enterprise Linux 9.5 Kernel: 5.15 Compiler: gcc gcc (GCC) 11.5.0 20240719 (Red Hat 11.5.0-2) Ubuntu 24.04 Kernel: 5.15 Compiler: gcc gcc (Ubuntu 13.3.0-6ubuntu2~24.04) 13.3.0 Alpine Linux 3.22.0 Kernel: 5.15 Compiler: gcc gcc (Alpine 14.2.0) 14.2.0 FreeBSD 14.2 Kernel: 14.2-RELEASE Compiler: clang 18.1.6 Ubuntu 22.04 Kernel: 5.15 Compiler: gcc gcc (Ubuntu 11.4.0-1ubuntu1~22.04) 11.4.0 Windows Server 2022 Kernel: 10.0.20348.2031 Compiler: clang 15.0.7, gcc 14.1.0 (MinGW), and MSVC VS 19.39.33521 To view detailed results, visit: https://lab.dpdk.org/results/dashboard/patchsets/33652/ UNH-IOL DPDK Community Lab To manage your email subscriptions, visit: https://lab.dpdk.org/results/dashboard/preferences/subscriptions/