From mboxrd@z Thu Jan 1 00:00:00 1970 Return-Path: Received: from mails.dpdk.org (mails.dpdk.org [217.70.189.124]) by inbox.dpdk.org (Postfix) with ESMTP id 37A9046BA0 for ; Thu, 17 Jul 2025 20:32:33 +0200 (CEST) Received: from mails.dpdk.org (localhost [127.0.0.1]) by mails.dpdk.org (Postfix) with ESMTP id 0940B400EF; Thu, 17 Jul 2025 20:32:33 +0200 (CEST) Received: from mail-yw1-f226.google.com (mail-yw1-f226.google.com [209.85.128.226]) by mails.dpdk.org (Postfix) with ESMTP id D8EE8400EF for ; Thu, 17 Jul 2025 20:32:31 +0200 (CEST) Received: by mail-yw1-f226.google.com with SMTP id 00721157ae682-70e3c6b88dbso9375777b3.0 for ; Thu, 17 Jul 2025 11:32:31 -0700 (PDT) DKIM-Signature: v=1; a=rsa-sha256; c=relaxed/relaxed; d=iol.unh.edu; s=unh-iol; t=1752777151; x=1753381951; darn=dpdk.org; h=references:in-reply-to:cc:to:from:subject:message-id:date:from:to :cc:subject:date:message-id:reply-to; bh=fAh8sjlPWX5/miRhffqIKggUnD9IEC7vyfHdi4h7yG8=; b=S9DJ2TuYVdA4QKOy8hX5uFCcZX3q+vVSqUE7ks5lIBk9OhuGq0SK2EJ43oAyd3OR1e jUEVzuKPN5Z8B9DXLs6fP69s1L3dCQw6bIf809DN/eRpsOI4M2cz2jmPGDLo1pU6YpOF UXvNT+d+WgdrfjyFqETClBvyq7V1vkc2hdUWM= X-Google-DKIM-Signature: v=1; a=rsa-sha256; c=relaxed/relaxed; d=1e100.net; s=20230601; t=1752777151; x=1753381951; h=references:in-reply-to:cc:to:from:subject:message-id:date :x-gm-message-state:from:to:cc:subject:date:message-id:reply-to; bh=fAh8sjlPWX5/miRhffqIKggUnD9IEC7vyfHdi4h7yG8=; b=SdogCxDwyLG4TyY4hf5QcdpFP/e6MNcxBc+DGaA55Vt0Px+lphQ489yyfEt+Zg6pcD wBguWPV05I9kn/1AqcvC7MBZlR1hRQbUCQtfuMbTUkGH4UeczVuT6HcccZ5tGbHDo+BR 6cGNJHw+MYl1IApHji7cVl4XK11P+MMcLS+5bGu5H3FLwyYsR54CPwsfZe24Kmo5A673 9+fPgwCYtROYHCy2fbxtrSyYJVItVEhCJzFiHdvxjfMEN0JJrROZhwWnXahZv8+8jwSu 5jyYjSMPeFYNG+Mi97C79nnIrHAFwV7godcZHalCejT70++utzLCDpJqgDX7iUAtOoOO LRkA== X-Gm-Message-State: AOJu0YwAfkNHrAubb0KsvBzAEeVZ0TVmPfbb7q/iEuaFmQI/PnKD+Apt gclz6qcEgvN7jS+PwIzoKUBDX5VxNc6vwLDhOnbOME2UMlv9aN7yeBoZBp0UOv+mb7rWHa3bAZL +D6PopjGkVK3YR5oA9tp64o7AOBuuXsXTs+DAXZWYXTBRgvjjkn+9PC+qde0T X-Gm-Gg: ASbGncuTwE6ZdoF+pI1Bz1KicyrG9iDNgfoSj24/ioMHQ5702maumqPwm1UcFGZzhek KdHPCs4V+I2q3CfHLZLkhb4dpAlnVuQbKT4x9Dq39OyxSMiXeTa69hHXzjRQGjC/m7bdZHvh0Rz dUEwTM55xY9/8NXLQt2qTfvC8B5wjV7uqj1hoTLUykxW/xUVj6+uwnWMOy2nEc2dspYKct1tzCe L8fQjn69c79dBhVV0G2ZjIT7Qh0ZG86GlY2Igy5gJdBdkaihPh0tdGJvjApsF0lW9U7isWwcaND ZZCb8zykqtsDOaz2e1r9yspcj22S9y6fQu64OBmBEDsiOZA3kw== X-Google-Smtp-Source: AGHT+IFdiwiEL8cLTyRAW+F98SCa1ZzypFScDE6oo/fOGvcItBGkTc8kVYm6QIptKqsFo0qNuWNMsK1u5CaY X-Received: by 2002:a05:690c:6482:b0:70e:2d3d:ace6 with SMTP id 00721157ae682-718a33833efmr52915057b3.15.1752777151116; Thu, 17 Jul 2025 11:32:31 -0700 (PDT) Received: from postal.iol.unh.edu (postal.iol.unh.edu. [2606:4100:3880:1234::84]) by smtp-relay.gmail.com with ESMTPS id 00721157ae682-717c6201ee7sm6054397b3.37.2025.07.17.11.32.31 (version=TLS1_2 cipher=ECDHE-ECDSA-AES128-GCM-SHA256 bits=128/128); Thu, 17 Jul 2025 11:32:31 -0700 (PDT) X-Relaying-Domain: iol.unh.edu Date: Thu, 17 Jul 2025 11:32:31 -0700 (PDT) Message-ID: <687941bf.050a0220.73398.13ecSMTPIN_ADDED_MISSING@mx.google.com> Received: from [172.21.0.5] (unknown [172.18.0.240]) by postal.iol.unh.edu (Postfix) with ESMTP id D12A8604D420; Thu, 17 Jul 2025 14:32:30 -0400 (EDT) Subject: |SUCCESS| pw155302-155309 [PATCH] [v9,8/8] bus/dpaa: optimize qman e From: dpdklab@iol.unh.edu To: Test Report Cc: dpdk-test-reports@iol.unh.edu In-Reply-To: <20250717094238.899294-9-vanshika.shukla@nxp.com> References: <20250717094238.899294-9-vanshika.shukla@nxp.com> Content-Type: text/plain X-BeenThere: test-report@dpdk.org X-Mailman-Version: 2.1.29 Precedence: list List-Id: automatic DPDK test reports List-Unsubscribe: , List-Archive: List-Post: List-Help: List-Subscribe: , Errors-To: test-report-bounces@dpdk.org Test-Label: iol-unit-amd64-testing Test-Status: SUCCESS http://dpdk.org/patch/155309 _Testing PASS_ Submitter: Vanshika Shukla Date: Thursday, July 17 2025 09:42:38 DPDK git baseline: Repo:dpdk Branch: master CommitID:9fe9c0b231c8da5435bfccb1963121b4277f961c 155302-155309 --> testing pass Upstream job id: Generic-VM-Unit-Test-DPDK#29995 Test environment and result as below: +-------------------------------+----------------+ | Environment | dpdk_unit_test | +===============================+================+ | CentOS Stream 10 | PASS | +-------------------------------+----------------+ | CentOS Stream 9 | PASS | +-------------------------------+----------------+ | Debian GNU/Linux 12 | PASS | +-------------------------------+----------------+ | Fedora Linux 41 | PASS | +-------------------------------+----------------+ | Fedora Linux 40 | PASS | +-------------------------------+----------------+ | Red Hat Enterprise Linux 9.5 | PASS | +-------------------------------+----------------+ | Red Hat Enterprise Linux 8.10 | PASS | +-------------------------------+----------------+ | Ubuntu 22.04 | PASS | +-------------------------------+----------------+ | Ubuntu 20.04 | PASS | +-------------------------------+----------------+ | Ubuntu 24.04 | PASS | +-------------------------------+----------------+ | Windows Server 2022 | PASS | +-------------------------------+----------------+ CentOS Stream 10 Kernel: 5.15 Compiler: gcc gcc (GCC) 14.2.1 20250110 (Red Hat 14.2.1-8) CentOS Stream 9 Kernel: 5.15 Compiler: gcc gcc (GCC) 11.5.0 20240719 (Red Hat 11.5.0-7) Debian GNU/Linux 12 Kernel: 5.15 Compiler: gcc gcc (Debian 12.2.0-14+deb12u1) 12.2.0 Fedora Linux 41 Kernel: 5.15 Compiler: gcc gcc (GCC) 14.3.1 20250523 (Red Hat 14.3.1-1) Fedora Linux 40 Kernel: 5.15 Compiler: gcc gcc (GCC) 14.2.1 20240912 (Red Hat 14.2.1-3) Red Hat Enterprise Linux 9.5 Kernel: 5.15 Compiler: gcc gcc (GCC) 11.5.0 20240719 (Red Hat 11.5.0-2) Red Hat Enterprise Linux 8.10 Kernel: 5.15 Compiler: gcc gcc (GCC) 8.5.0 20210514 (Red Hat 8.5.0-22) Ubuntu 22.04 Kernel: 5.15 Compiler: gcc gcc (Ubuntu 11.4.0-1ubuntu1~22.04) 11.4.0 Ubuntu 20.04 Kernel: 5.15 Compiler: gcc gcc (Ubuntu 9.4.0-1ubuntu1~20.04.2) 9.4.0 Ubuntu 24.04 Kernel: 5.15 Compiler: gcc gcc (Ubuntu 13.3.0-6ubuntu2~24.04) 13.3.0 Windows Server 2022 Kernel: 10.0.20348.2031 Compiler: clang 15.0.7, gcc 14.1.0 (MinGW), and MSVC VS 19.39.33521 To view detailed results, visit: https://lab.dpdk.org/results/dashboard/patchsets/33678/ UNH-IOL DPDK Community Lab To manage your email subscriptions, visit: https://lab.dpdk.org/results/dashboard/preferences/subscriptions/