From mboxrd@z Thu Jan 1 00:00:00 1970 Return-Path: Received: from mails.dpdk.org (mails.dpdk.org [217.70.189.124]) by inbox.dpdk.org (Postfix) with ESMTP id 091C246BA1 for ; Fri, 18 Jul 2025 00:08:30 +0200 (CEST) Received: from mails.dpdk.org (localhost [127.0.0.1]) by mails.dpdk.org (Postfix) with ESMTP id E02D64014F; Fri, 18 Jul 2025 00:08:29 +0200 (CEST) Received: from mail-io1-f98.google.com (mail-io1-f98.google.com [209.85.166.98]) by mails.dpdk.org (Postfix) with ESMTP id E50044014F for ; Fri, 18 Jul 2025 00:08:28 +0200 (CEST) Received: by mail-io1-f98.google.com with SMTP id ca18e2360f4ac-879c737bcebso77688539f.0 for ; Thu, 17 Jul 2025 15:08:28 -0700 (PDT) DKIM-Signature: v=1; a=rsa-sha256; c=relaxed/relaxed; d=iol.unh.edu; s=unh-iol; t=1752790108; x=1753394908; darn=dpdk.org; h=references:in-reply-to:cc:to:from:subject:message-id:date:from:to :cc:subject:date:message-id:reply-to; bh=AyLO1MtppLwNkghkrmRthCKs3/MnOl2yeZWVkLoCit0=; b=A3qf+gqSCw3dPCtM5FyJT+APbbh1mCazffLjBIwQKyiYAokkuBrY1zn8J3txx9OP65 keq3E3ndV4SnM6kwqEQNCvvsREQUA4TSt24gailUIaBtYzt2IWj00Y6KoYEttN3WqV4m SLSHnGaphJw23s3vQhbYO8/bwkCfNR0ysqU+g= X-Google-DKIM-Signature: v=1; a=rsa-sha256; c=relaxed/relaxed; d=1e100.net; s=20230601; t=1752790108; x=1753394908; h=references:in-reply-to:cc:to:from:subject:message-id:date :x-gm-message-state:from:to:cc:subject:date:message-id:reply-to; bh=AyLO1MtppLwNkghkrmRthCKs3/MnOl2yeZWVkLoCit0=; b=SVtj1B8s9He/Ol+9/nj1ZDMjw6aUKnqZgFm3yKrGl8K8L9ktuslKErim2Yw7BntMAs UH9jW4hqRvCwE8YNd/vT5mg5Ch45rUo7+FDwC/hQP+9Utsl6uXziJ7k/jxgMaaSoPRcY Gl6/T5rTQPeH5RmIBWxUWetv5CN6JFI4nfC5gi7/HHV/tPWewsUWSTux8MHdjAusRnLW xOKTqwJZyP45x4bIYgFovDwHbCrS6vsKei6ZsvXPFYX/shB1cvYnp/cZk3U/Avf0xti4 P/StygwLXcOw5ezWAzEfzOws+uu1EYLlK8zNkuLfyXTkagKJUbk9vBQrA5iNPbwQ1Mv0 qaQQ== X-Gm-Message-State: AOJu0Yx0F1nNdYQ4BITwnsLZ+MRQ6Lxq0Wvw6sPb+HXWXbKi13HkOIee Iw2cqTRc+nAteLI9Q5aZUD9JJEVhIMDbaNcvcBIrp4s4m0dnA1niKe6XKGDCnB3qpZ4OOz/LGJf DF0IZoHFkH9ce1GZBnx19mPkltwSFUV+PqFcUKfw+CEBUk3ZPiI7k3RWajpAp X-Gm-Gg: ASbGncslnyLwSt4KOJfxRrSEKMZkuSYTZarsiooQLkAi9hJKm00rRFnX4DUm2MQ8E7Z wcMBdkuPPMjBL/D0nI5BkmK20qSJg3vTQXmdRL3Hm7NqXMF2IZg7THWIb3e1gMKPFsoSzMZcwn7 zXphpUz4LMQ/AqeQhaZOgcK3wvMiqB00T1qBOha29E7YK6UN52ff0ZFdBFVduNZyw3zbd/uApls sGHQKXKI1/dkIN9afn7xlKpwMM3Z4lr8qVRliNrG/bEOcDRmHoCLRu1pSVYOMVb1onHcLXqA+vX WHwnidG6nh0bmGy+bFEKObVuG18GxrNis5DjsfflSAlXamnSuQ== X-Google-Smtp-Source: AGHT+IEcFd4vla0NDroLw/ILI8HOHjp2TWBIL6ZHHbIZuW4uEFQ74B3O8ud6ErLJiSr2JCwOss3ALnCxMfTs X-Received: by 2002:a05:6602:4c03:b0:867:973:f2cb with SMTP id ca18e2360f4ac-87bbac0e40emr562119839f.7.1752790108140; Thu, 17 Jul 2025 15:08:28 -0700 (PDT) Received: from postal.iol.unh.edu (postal.iol.unh.edu. [2606:4100:3880:1234::84]) by smtp-relay.gmail.com with ESMTPS id ca18e2360f4ac-87c0e77258dsm1806639f.28.2025.07.17.15.08.28 (version=TLS1_2 cipher=ECDHE-ECDSA-AES128-GCM-SHA256 bits=128/128); Thu, 17 Jul 2025 15:08:28 -0700 (PDT) X-Relaying-Domain: iol.unh.edu Date: Thu, 17 Jul 2025 15:08:28 -0700 (PDT) Message-ID: <6879745c.050a0220.5dd7.0d42SMTPIN_ADDED_MISSING@mx.google.com> Received: from [172.21.0.3] (unknown [172.18.0.240]) by postal.iol.unh.edu (Postfix) with ESMTP id A20A56051830; Thu, 17 Jul 2025 18:08:27 -0400 (EDT) Subject: |SUCCESS| pw155313-155314 [PATCH] [v1,2/2] dts: add qinq test suite From: dpdklab@iol.unh.edu To: Test Report Cc: dpdk-test-reports@iol.unh.edu In-Reply-To: <20250717205718.108826-2-dmarx@iol.unh.edu> References: <20250717205718.108826-2-dmarx@iol.unh.edu> Content-Type: text/plain X-BeenThere: test-report@dpdk.org X-Mailman-Version: 2.1.29 Precedence: list List-Id: automatic DPDK test reports List-Unsubscribe: , List-Archive: List-Post: List-Help: List-Subscribe: , Errors-To: test-report-bounces@dpdk.org Test-Label: iol-unit-amd64-testing Test-Status: SUCCESS http://dpdk.org/patch/155314 _Testing PASS_ Submitter: Dean Marx Date: Thursday, July 17 2025 20:57:18 DPDK git baseline: Repo:dpdk Branch: master CommitID:f8fb19d5e2fc20798ed0caa292a1538fbbd98f96 155313-155314 --> testing pass Upstream job id: Generic-VM-Unit-Test-DPDK#29999 Test environment and result as below: +-------------------------------+----------------+ | Environment | dpdk_unit_test | +===============================+================+ | Fedora Linux 40 | PASS | +-------------------------------+----------------+ | CentOS Stream 10 | PASS | +-------------------------------+----------------+ | CentOS Stream 9 | PASS | +-------------------------------+----------------+ | Debian GNU/Linux 12 | PASS | +-------------------------------+----------------+ | Red Hat Enterprise Linux 8.10 | PASS | +-------------------------------+----------------+ | Red Hat Enterprise Linux 9.5 | PASS | +-------------------------------+----------------+ | Fedora Linux 41 | PASS | +-------------------------------+----------------+ | Ubuntu 24.04 | PASS | +-------------------------------+----------------+ | Ubuntu 22.04 | PASS | +-------------------------------+----------------+ | Ubuntu 20.04 | PASS | +-------------------------------+----------------+ | Windows Server 2022 | PASS | +-------------------------------+----------------+ Fedora Linux 40 Kernel: 5.15 Compiler: gcc gcc (GCC) 14.2.1 20240912 (Red Hat 14.2.1-3) CentOS Stream 10 Kernel: 5.15 Compiler: gcc gcc (GCC) 14.2.1 20250110 (Red Hat 14.2.1-8) CentOS Stream 9 Kernel: 5.15 Compiler: gcc gcc (GCC) 11.5.0 20240719 (Red Hat 11.5.0-7) Debian GNU/Linux 12 Kernel: 5.15 Compiler: gcc gcc (Debian 12.2.0-14+deb12u1) 12.2.0 Red Hat Enterprise Linux 8.10 Kernel: 5.15 Compiler: gcc gcc (GCC) 8.5.0 20210514 (Red Hat 8.5.0-22) Red Hat Enterprise Linux 9.5 Kernel: 5.15 Compiler: gcc gcc (GCC) 11.5.0 20240719 (Red Hat 11.5.0-2) Fedora Linux 41 Kernel: 5.15 Compiler: gcc gcc (GCC) 14.3.1 20250523 (Red Hat 14.3.1-1) Ubuntu 24.04 Kernel: 5.15 Compiler: gcc gcc (Ubuntu 13.3.0-6ubuntu2~24.04) 13.3.0 Ubuntu 22.04 Kernel: 5.15 Compiler: gcc gcc (Ubuntu 11.4.0-1ubuntu1~22.04) 11.4.0 Ubuntu 20.04 Kernel: 5.15 Compiler: gcc gcc (Ubuntu 9.4.0-1ubuntu1~20.04.2) 9.4.0 Windows Server 2022 Kernel: 10.0.20348.2031 Compiler: clang 15.0.7, gcc 14.1.0 (MinGW), and MSVC VS 19.39.33521 To view detailed results, visit: https://lab.dpdk.org/results/dashboard/patchsets/33681/ UNH-IOL DPDK Community Lab To manage your email subscriptions, visit: https://lab.dpdk.org/results/dashboard/preferences/subscriptions/