From mboxrd@z Thu Jan 1 00:00:00 1970 Return-Path: Received: from mails.dpdk.org (mails.dpdk.org [217.70.189.124]) by inbox.dpdk.org (Postfix) with ESMTP id 7C98D46BA1 for ; Fri, 18 Jul 2025 00:36:51 +0200 (CEST) Received: from mails.dpdk.org (localhost [127.0.0.1]) by mails.dpdk.org (Postfix) with ESMTP id 4A2064014F; Fri, 18 Jul 2025 00:36:51 +0200 (CEST) Received: from mail-pf1-f228.google.com (mail-pf1-f228.google.com [209.85.210.228]) by mails.dpdk.org (Postfix) with ESMTP id 578E14014F for ; Fri, 18 Jul 2025 00:36:50 +0200 (CEST) Received: by mail-pf1-f228.google.com with SMTP id d2e1a72fcca58-747fba9f962so1632700b3a.0 for ; Thu, 17 Jul 2025 15:36:50 -0700 (PDT) DKIM-Signature: v=1; a=rsa-sha256; c=relaxed/relaxed; d=iol.unh.edu; s=unh-iol; t=1752791809; x=1753396609; darn=dpdk.org; h=references:in-reply-to:cc:to:from:subject:message-id:date:from:to :cc:subject:date:message-id:reply-to; bh=6suS5d01b3o//4A8htyr3C+1F29FCx81mnWmDS502HU=; b=Q0TQaydtjY1ZcXSyScL0XMJ5WVt5ZYsPvM3MssWAu5obHh8W6K2GYffDuB5EqkCNw6 wM1e/3flHcMED5L+ZnNAFxzwBNjNWKW9BokVlv89ZCXgWJZDNuLMc5zCnmEJMbkRIzC7 B0C9muezIUzflNhPGxZc2REfx47dOU+8pi3/c= X-Google-DKIM-Signature: v=1; a=rsa-sha256; c=relaxed/relaxed; d=1e100.net; s=20230601; t=1752791809; x=1753396609; h=references:in-reply-to:cc:to:from:subject:message-id:date :x-gm-message-state:from:to:cc:subject:date:message-id:reply-to; bh=6suS5d01b3o//4A8htyr3C+1F29FCx81mnWmDS502HU=; b=UwwB7R6ZQvQFtrxU2O8V/hFcG+ZGAdWlKs6EJkIRpX0KRaPAlXUEiHxB038EuLBNus kfMm7J1NcQBlQpRkWaJhmRWpdHOS/AwRj/cyTbS8czoe4NrrRAeb4jpbwWPmbFzY906E RYeFrMvtZPOawIhAoHX+rYzmZqOszqJgNHFgzBUjfICkQ27as01dQCB6h1kCxipXELcb idAC+CoOGQzZK6CTHXifepo5ZEPBTlSrI4vy7w2F1uRHSQEfXcFRbkVl0khavDSttfG2 tATunaXcIfttKMnh3KHwh4JSaeFNDHvfqGj1TSIwClb7a4q7r7m5BgkAzT+0IDbuuqT+ T7eg== X-Gm-Message-State: AOJu0YzqRu97lNDUj0rgNRzQT2qEo/mgG97bQ035oDRYSemPsBuWU9pj wivTsW6V1jpbjMbNM4Qq/WsXkWToqNmtYnrwmXTX+Qj7uOgKy0IPVdCKJ+iPj3rOrCW9MrdE5xY GSQEsnaFMrjZY/3fJnid4+9Zh0r6Y1mAb3x9KL4n9y0J4AcSHGpFy9A1KYR/N X-Gm-Gg: ASbGncvgIYnuWpy3RNa7TEuvEgwxXDhUWdZDMJSdwKKPSVySeSwUsSjc5M0hUaKnvx9 RU3Wt5ASC7/87nLprAhU5mfmFfJNLcF5xHJVzU97WM+UCuaQT0U8BURy7hLe9id5bueUgO7xTK3 X2lA6vSpS3XB7f5ozSZa6jzl/Q47lvb5wSa+u5c2+1lxWaSeAyZahlHssNybXqrYQM8BZoK2oBK HERsSeQBtDNd2ve8eh9a7K/WvkUyo7wy/zQze0jbvnlnhbkJAHp2CrThJWCZqWAa3OTfSzTVelN em2787tIAqGc8dGPlD9gAgj9+pZL7wi7V8bnyBBVt95HeXEuYw== X-Google-Smtp-Source: AGHT+IETDK1TRY+WTetvIHKGwYnwTZ0lWe7VKx61hY6KcL3lXx5nWy4iW5Okm8F9bFKprA93D2H3Q/UXOnUd X-Received: by 2002:a05:6a00:9453:b0:742:aed4:3e1 with SMTP id d2e1a72fcca58-7596789a299mr2276098b3a.2.1752791809263; Thu, 17 Jul 2025 15:36:49 -0700 (PDT) Received: from postal.iol.unh.edu (postal.iol.unh.edu. [2606:4100:3880:1234::84]) by smtp-relay.gmail.com with ESMTPS id d2e1a72fcca58-759c84dae39sm6872b3a.1.2025.07.17.15.36.49 (version=TLS1_2 cipher=ECDHE-ECDSA-AES128-GCM-SHA256 bits=128/128); Thu, 17 Jul 2025 15:36:49 -0700 (PDT) X-Relaying-Domain: iol.unh.edu Date: Thu, 17 Jul 2025 15:36:49 -0700 (PDT) Message-ID: <68797b01.050a0220.14cac1.05fcSMTPIN_ADDED_MISSING@mx.google.com> Received: from [172.21.0.2] (unknown [172.18.0.240]) by postal.iol.unh.edu (Postfix) with ESMTP id 66E546051830; Thu, 17 Jul 2025 18:36:48 -0400 (EDT) Subject: |SUCCESS| pw155313-155314 [PATCH] [v1,2/2] dts: add qinq test suite From: dpdklab@iol.unh.edu To: Test Report Cc: dpdk-test-reports@iol.unh.edu In-Reply-To: <20250717205718.108826-2-dmarx@iol.unh.edu> References: <20250717205718.108826-2-dmarx@iol.unh.edu> Content-Type: text/plain X-BeenThere: test-report@dpdk.org X-Mailman-Version: 2.1.29 Precedence: list List-Id: automatic DPDK test reports List-Unsubscribe: , List-Archive: List-Post: List-Help: List-Subscribe: , Errors-To: test-report-bounces@dpdk.org Test-Label: iol-abi-testing Test-Status: SUCCESS http://dpdk.org/patch/155314 _Testing PASS_ Submitter: Dean Marx Date: Thursday, July 17 2025 20:57:18 DPDK git baseline: Repo:dpdk Branch: master CommitID:f8fb19d5e2fc20798ed0caa292a1538fbbd98f96 155313-155314 --> testing pass Upstream job id: Generic-DPDK-Compile-ABI#134680 Test environment and result as below: +-------------------------------+----------+ | Environment | abi_test | +===============================+==========+ | Debian GNU/Linux 12 | PASS | +-------------------------------+----------+ | Fedora Linux 40 | PASS | +-------------------------------+----------+ | Red Hat Enterprise Linux 8.10 | PASS | +-------------------------------+----------+ | Fedora Linux 41 | PASS | +-------------------------------+----------+ | CentOS Stream 9 | PASS | +-------------------------------+----------+ | openSUSE Leap 15.6 | PASS | +-------------------------------+----------+ | CentOS Stream 10 | PASS | +-------------------------------+----------+ | Red Hat Enterprise Linux 9.5 | PASS | +-------------------------------+----------+ | Ubuntu 24.04 | PASS | +-------------------------------+----------+ | Ubuntu 22.04 | PASS | +-------------------------------+----------+ Debian GNU/Linux 12 Kernel: 5.15 Compiler: gcc gcc (Debian 12.2.0-14+deb12u1) 12.2.0 Fedora Linux 40 Kernel: 5.15 Compiler: clang gcc (GCC) 14.2.1 20240912 (Red Hat 14.2.1-3) Red Hat Enterprise Linux 8.10 Kernel: 5.15 Compiler: gcc gcc (GCC) 8.5.0 20210514 (Red Hat 8.5.0-22) Fedora Linux 41 Kernel: 5.15 Compiler: clang gcc (GCC) 14.3.1 20250523 (Red Hat 14.3.1-1) CentOS Stream 9 Kernel: 5.15 Compiler: gcc gcc (GCC) 11.5.0 20240719 (Red Hat 11.5.0-7) openSUSE Leap 15.6 Kernel: 5.15 Compiler: gcc gcc (SUSE Linux) 7.5.0 CentOS Stream 10 Kernel: 5.15 Compiler: gcc gcc (GCC) 14.2.1 20250110 (Red Hat 14.2.1-8) Red Hat Enterprise Linux 9.5 Kernel: 5.15 Compiler: gcc gcc (GCC) 11.5.0 20240719 (Red Hat 11.5.0-2) Ubuntu 24.04 Kernel: 5.15 Compiler: gcc gcc (Ubuntu 13.3.0-6ubuntu2~24.04) 13.3.0 Ubuntu 22.04 Kernel: 5.15 Compiler: gcc gcc (Ubuntu 11.4.0-1ubuntu1~22.04) 11.4.0 To view detailed results, visit: https://lab.dpdk.org/results/dashboard/patchsets/33681/ UNH-IOL DPDK Community Lab To manage your email subscriptions, visit: https://lab.dpdk.org/results/dashboard/preferences/subscriptions/