From mboxrd@z Thu Jan 1 00:00:00 1970 Return-Path: Received: from mails.dpdk.org (mails.dpdk.org [217.70.189.124]) by inbox.dpdk.org (Postfix) with ESMTP id 70C5346BA1 for ; Fri, 18 Jul 2025 00:44:53 +0200 (CEST) Received: from mails.dpdk.org (localhost [127.0.0.1]) by mails.dpdk.org (Postfix) with ESMTP id 527004014F; Fri, 18 Jul 2025 00:44:53 +0200 (CEST) Received: from mail-il1-f227.google.com (mail-il1-f227.google.com [209.85.166.227]) by mails.dpdk.org (Postfix) with ESMTP id AC8E14014F for ; Fri, 18 Jul 2025 00:44:51 +0200 (CEST) Received: by mail-il1-f227.google.com with SMTP id e9e14a558f8ab-3de18fde9cfso6306325ab.3 for ; Thu, 17 Jul 2025 15:44:51 -0700 (PDT) DKIM-Signature: v=1; a=rsa-sha256; c=relaxed/relaxed; d=iol.unh.edu; s=unh-iol; t=1752792291; x=1753397091; darn=dpdk.org; h=references:in-reply-to:cc:to:from:subject:message-id:date:from:to :cc:subject:date:message-id:reply-to; bh=F1i97vW//SWVmujLwFPdZsAsepjnXinYLaxMIG8ldEw=; b=dnnL3RNqJNr9cwqvKMdXkfediEwVrI548iSrX5UBhS5t+WgSxfdkLhRwRGBSo947uo HoHaAIBJOjESWdWygHLUhrgHVwOlaI4TlNlfbuCHMZ6kk7UdCWoq7Edfb/eeOm+Uw+q6 /h6ePGvtU2GIfIaJK/46wOv0SSZfvXcjHjOEc= X-Google-DKIM-Signature: v=1; a=rsa-sha256; c=relaxed/relaxed; d=1e100.net; s=20230601; t=1752792291; x=1753397091; h=references:in-reply-to:cc:to:from:subject:message-id:date :x-gm-message-state:from:to:cc:subject:date:message-id:reply-to; bh=F1i97vW//SWVmujLwFPdZsAsepjnXinYLaxMIG8ldEw=; b=ljVSwlhz/bj7o6PZPEin2vVH01RZck00z5i2Q7p16iX3xDvjvafL1LOliF7HTeUpjn KGk3w/In+VObQUlIn7SppFSDgKBp0vhidUXbw2pywtToXieGaKMH5vzkmRmhd3GIOgDB 4A6uM6FlRZB/hRgDBW/Y+Z1lmr+bkkBEI462M+pvyB+jQmU0Jp77YToNe9zXuumypZos ggvtfydzkqvh/2DAczswketVIwPCPBSfPaL9k91dxpAiCX5tOWMzOXlXmRDNAVypGvgt yR3WdwrIjJOmeC2coTC4Wqo+oeLHUZcpnTtcF+YoW7XdWhhDZTznVc+icDKYjHGeB3Bi wAJg== X-Gm-Message-State: AOJu0YyVFjnk/RxRbn2rwgYGLg6FONQ3i7qA5a9TppVQINft3Zmtz9t+ +FZbWiuQVeCwAQbVIbzaj1u0lP7D+WMc1J5tJnnSfw2MPz0mAV585LdkcaQzaP4ip8RB9CGNkHy UzQVbOZta+SGik8frYxfVG1ehtApaf4/fCiEhM9vZZXLL X-Gm-Gg: ASbGnctsqgPCNGALlQYHbSe23VAvmCkEKUJcWoUZH0YbH8fJKx3VcV977qYqRdPmTMG D2YQRZJYTempkkFcIFvXg6W5ErTKRKIg0nWjqY/7eGwaIsBvzyYhT+Y41bay08R/Vs1mYbcNoYA LIivqIJmmImYZdveIjl2AF2dhoMgxtaUf0VyOOw9Y+XgmM0JPJrLQO0/1tALjU32r+wsr2rZAsW J2wIlvXLeHuD/yG0wt8afFXO0vSiUuol859fcglD6g9ULWC4J7/VkUE2LH0eMMM9jA2xf6stP4S IVL4iZ9mfmVGz8bGJo9E4bYGWjbkdSNI7cLddI36ww6R7E829y4UPdW6lY5Bnlwwgwfpbvvl X-Google-Smtp-Source: AGHT+IHVJquwrFinW2LrMlDSQ3NiPDx+j2SnCq5kWS7+7RdPqBjvZBOifltlaGk+RgOXGbT/NUJCsVpzafyL X-Received: by 2002:a05:6e02:3101:b0:3e2:97d1:6d82 with SMTP id e9e14a558f8ab-3e297d17084mr3694515ab.5.1752792290910; Thu, 17 Jul 2025 15:44:50 -0700 (PDT) Received: from postal.iol.unh.edu (postal.iol.unh.edu. [132.177.123.84]) by smtp-relay.gmail.com with ESMTPS id e9e14a558f8ab-3e298393ed6sm68485ab.63.2025.07.17.15.44.50 (version=TLS1_2 cipher=ECDHE-ECDSA-AES128-GCM-SHA256 bits=128/128); Thu, 17 Jul 2025 15:44:50 -0700 (PDT) X-Relaying-Domain: iol.unh.edu Date: Thu, 17 Jul 2025 15:44:50 -0700 (PDT) Message-ID: <68797ce2.050a0220.3c8ac2.068aSMTPIN_ADDED_MISSING@mx.google.com> Received: from [172.21.0.2] (unknown [172.18.0.240]) by postal.iol.unh.edu (Postfix) with ESMTP id 68A776051830; Thu, 17 Jul 2025 18:44:50 -0400 (EDT) Subject: |SUCCESS| pw155313-155314 [PATCH] [v1,2/2] dts: add qinq test suite From: dpdklab@iol.unh.edu To: Test Report Cc: dpdk-test-reports@iol.unh.edu In-Reply-To: <20250717205718.108826-2-dmarx@iol.unh.edu> References: <20250717205718.108826-2-dmarx@iol.unh.edu> Content-Type: text/plain X-BeenThere: test-report@dpdk.org X-Mailman-Version: 2.1.29 Precedence: list List-Id: automatic DPDK test reports List-Unsubscribe: , List-Archive: List-Post: List-Help: List-Subscribe: , Errors-To: test-report-bounces@dpdk.org Test-Label: iol-compile-amd64-testing Test-Status: SUCCESS http://dpdk.org/patch/155314 _Testing PASS_ Submitter: Dean Marx Date: Thursday, July 17 2025 20:57:18 DPDK git baseline: Repo:dpdk Branch: master CommitID:f8fb19d5e2fc20798ed0caa292a1538fbbd98f96 155313-155314 --> testing pass Upstream job id: Generic-DPDK-Compile-Meson#409527 Test environment and result as below: +-------------------------------+--------------------+-------------------+------------------+-------------------------+-------------------+----------------------+ | Environment | dpdk_meson_compile | dpdk_compile_spdk | dpdk_compile_ovs | dpdk_llvm_clang_compile | dpdk_msvc_compile | dpdk_mingw64_compile | +===============================+====================+===================+==================+=========================+===================+======================+ | Fedora Linux 40 | PASS | PASS | SKIPPED | SKIPPED | SKIPPED | SKIPPED | +-------------------------------+--------------------+-------------------+------------------+-------------------------+-------------------+----------------------+ | FreeBSD 14.2 | PASS | SKIPPED | SKIPPED | SKIPPED | SKIPPED | SKIPPED | +-------------------------------+--------------------+-------------------+------------------+-------------------------+-------------------+----------------------+ | Debian GNU/Linux 12 | PASS | PASS | SKIPPED | SKIPPED | SKIPPED | SKIPPED | +-------------------------------+--------------------+-------------------+------------------+-------------------------+-------------------+----------------------+ | CentOS Stream 9 | PASS | PASS | SKIPPED | SKIPPED | SKIPPED | SKIPPED | +-------------------------------+--------------------+-------------------+------------------+-------------------------+-------------------+----------------------+ | CentOS Stream 10 | PASS | SKIPPED | SKIPPED | SKIPPED | SKIPPED | SKIPPED | +-------------------------------+--------------------+-------------------+------------------+-------------------------+-------------------+----------------------+ | openSUSE Leap 15.6 | PASS | SKIPPED | SKIPPED | SKIPPED | SKIPPED | SKIPPED | +-------------------------------+--------------------+-------------------+------------------+-------------------------+-------------------+----------------------+ | Fedora Linux 41 | PASS | PASS | PASS | SKIPPED | SKIPPED | SKIPPED | +-------------------------------+--------------------+-------------------+------------------+-------------------------+-------------------+----------------------+ | Red Hat Enterprise Linux 8.10 | PASS | SKIPPED | SKIPPED | SKIPPED | SKIPPED | SKIPPED | +-------------------------------+--------------------+-------------------+------------------+-------------------------+-------------------+----------------------+ | Red Hat Enterprise Linux 9.5 | PASS | SKIPPED | SKIPPED | SKIPPED | SKIPPED | SKIPPED | +-------------------------------+--------------------+-------------------+------------------+-------------------------+-------------------+----------------------+ | Ubuntu 20.04 | PASS | SKIPPED | SKIPPED | SKIPPED | SKIPPED | SKIPPED | +-------------------------------+--------------------+-------------------+------------------+-------------------------+-------------------+----------------------+ | Ubuntu 24.04 | PASS | PASS | PASS | SKIPPED | SKIPPED | SKIPPED | +-------------------------------+--------------------+-------------------+------------------+-------------------------+-------------------+----------------------+ | Ubuntu 22.04 | PASS | PASS | SKIPPED | SKIPPED | SKIPPED | SKIPPED | +-------------------------------+--------------------+-------------------+------------------+-------------------------+-------------------+----------------------+ | Alpine Linux 3.22.0 | PASS | SKIPPED | SKIPPED | SKIPPED | SKIPPED | SKIPPED | +-------------------------------+--------------------+-------------------+------------------+-------------------------+-------------------+----------------------+ | Windows Server 2022 | SKIPPED | SKIPPED | SKIPPED | PASS | PASS | PASS | +-------------------------------+--------------------+-------------------+------------------+-------------------------+-------------------+----------------------+ Fedora Linux 40 Kernel: 5.15 Compiler: gcc gcc (GCC) 14.2.1 20240912 (Red Hat 14.2.1-3) FreeBSD 14.2 Kernel: 14.2-RELEASE Compiler: clang 18.1.6 Debian GNU/Linux 12 Kernel: 5.15 Compiler: gcc gcc (Debian 12.2.0-14+deb12u1) 12.2.0 CentOS Stream 9 Kernel: 5.15 Compiler: gcc gcc (GCC) 11.5.0 20240719 (Red Hat 11.5.0-7) CentOS Stream 10 Kernel: 5.15 Compiler: gcc gcc (GCC) 14.2.1 20250110 (Red Hat 14.2.1-8) openSUSE Leap 15.6 Kernel: 5.15 Compiler: gcc gcc (SUSE Linux) 7.5.0 Fedora Linux 41 Kernel: 5.15 Compiler: clang gcc (GCC) 14.3.1 20250523 (Red Hat 14.3.1-1) Red Hat Enterprise Linux 8.10 Kernel: 5.15 Compiler: gcc gcc (GCC) 8.5.0 20210514 (Red Hat 8.5.0-22) Red Hat Enterprise Linux 9.5 Kernel: 5.15 Compiler: gcc gcc (GCC) 11.5.0 20240719 (Red Hat 11.5.0-2) Ubuntu 20.04 Kernel: 5.15 Compiler: gcc gcc (Ubuntu 9.4.0-1ubuntu1~20.04.2) 9.4.0 Ubuntu 24.04 Kernel: 5.15 Compiler: gcc gcc (Ubuntu 13.3.0-6ubuntu2~24.04) 13.3.0 Ubuntu 22.04 Kernel: 5.15 Compiler: gcc gcc (Ubuntu 11.4.0-1ubuntu1~22.04) 11.4.0 Alpine Linux 3.22.0 Kernel: 5.15 Compiler: gcc gcc (Alpine 14.2.0) 14.2.0 Windows Server 2022 Kernel: 10.0.20348.2031 Compiler: clang 15.0.7, gcc 14.1.0 (MinGW), and MSVC VS 19.39.33521 To view detailed results, visit: https://lab.dpdk.org/results/dashboard/patchsets/33681/ UNH-IOL DPDK Community Lab To manage your email subscriptions, visit: https://lab.dpdk.org/results/dashboard/preferences/subscriptions/