From mboxrd@z Thu Jan 1 00:00:00 1970 Return-Path: Received: from mails.dpdk.org (mails.dpdk.org [217.70.189.124]) by inbox.dpdk.org (Postfix) with ESMTP id 85CE646BA1 for ; Fri, 18 Jul 2025 00:46:26 +0200 (CEST) Received: from mails.dpdk.org (localhost [127.0.0.1]) by mails.dpdk.org (Postfix) with ESMTP id 7CD354014F; Fri, 18 Jul 2025 00:46:26 +0200 (CEST) Received: from mail-qt1-f226.google.com (mail-qt1-f226.google.com [209.85.160.226]) by mails.dpdk.org (Postfix) with ESMTP id A8CD74014F for ; Fri, 18 Jul 2025 00:46:24 +0200 (CEST) Received: by mail-qt1-f226.google.com with SMTP id d75a77b69052e-4ab5953f5dcso18326061cf.0 for ; Thu, 17 Jul 2025 15:46:24 -0700 (PDT) DKIM-Signature: v=1; a=rsa-sha256; c=relaxed/relaxed; d=iol.unh.edu; s=unh-iol; t=1752792384; x=1753397184; darn=dpdk.org; h=references:in-reply-to:cc:to:from:subject:message-id:date:from:to :cc:subject:date:message-id:reply-to; bh=CoNWQrdsnm90/o+XTmM4pyJqFVfR4y+6olJW09efPDA=; b=Tt1qhy3JTUrOQl5n50JM4v0ovDakU2W9nO1TueabEdWBXoQainDnIPDRlnMqeUNm+v RDezewPMKfTWseMvTbAdD1hfHWGJ76Xke4rLGVkzonMExk4eFaZYQKE7YP+ae3ROucQA HEhq4lWqUR8aKJn6fSOza8RVhrEB7oncrlojI= X-Google-DKIM-Signature: v=1; a=rsa-sha256; c=relaxed/relaxed; d=1e100.net; s=20230601; t=1752792384; x=1753397184; h=references:in-reply-to:cc:to:from:subject:message-id:date :x-gm-message-state:from:to:cc:subject:date:message-id:reply-to; bh=CoNWQrdsnm90/o+XTmM4pyJqFVfR4y+6olJW09efPDA=; b=DsN4k4B9obs7M0MOoUlHupP8GpInCwsV7mYfmdcSrvzq/MXw9lCG8qljY6VFRONpzI OX5Ut5CFCf24s9Odjyt9HSoRzHxEwMPEOVuBtJKZAkTIhGl/sWq++h4JrggPW1sMpDJm 7wtwV1LRGCSA7idVaLAYbRnWXAwMjqls63OmgqnCJBwYs3VWk4maSg3CxteWb4ruUMq7 QUC3ofzQrvXC7XC22Rl9HgN7uq5zsAVOXSzdPf0vua8Dbdgyv64k9mmcZy+R7Q1vs4cs EoKI8ejIBlTzZrqUdsn2KfoIhYsNVi/lmwcp3xoFnM02e/RV7QVHmVFh+CC24jKPb/Xv YHVg== X-Gm-Message-State: AOJu0YyckuixWvGpoPgZW4x9twvxwkV8NECGmyinfGlIYBHi4suryLbc 8QrlFyJ8+mxtfEhpXD51xlasWROp+4Y4zaX9fd8bbpi5ndE2VNw4GXaM6e5MyBR/IF8llfMGcp/ s2+UmGcdl/uEQkJjX8lgp99ukKcWHg2ja+iCPgy9NgeGT7tj9DvGC5Du1mVNx X-Gm-Gg: ASbGncsDk/cyMMvuQYesv+joAeqjWkKJwe7zX1LcI1ogYzp+AU6TxJRn1K4Y24S+Tjq tZ+f9cvqY5KzI3tBsFrfa4oG8JGIeObf5IhVzdS+K2VM7QH27O0ev/+P0e5Z6ds1uzGUdG46EWa hYmHN58iKztW0fhmAmP5BcscsVGrydRJCojPUYcVUhO1DQilrh54a4ABuuokc/ELhiAhZpgZG2x SfpCoZbuONml7E4grCKferseu3XgshAr6EZQOIuW8evF05B6pHDyFDJZdSm+2z5SCNTRqxgk0jk Ej1BRfEkvBapmnZWmiIX1+pXjXQIzY5MJD+7uwcPtWhKhAEt3A== X-Google-Smtp-Source: AGHT+IHj2LTSRY3eF4Ifha/jC8cNvTShvft6Hx9V7TqFuQfk8t+Da/GaK3X0Zk9KkU2uUFuXFFYtEt/mJQUu X-Received: by 2002:a05:622a:156:b0:4aa:a5c8:8645 with SMTP id d75a77b69052e-4abb39f4090mr7893191cf.22.1752792383800; Thu, 17 Jul 2025 15:46:23 -0700 (PDT) Received: from postal.iol.unh.edu (postal.iol.unh.edu. [2606:4100:3880:1234::84]) by smtp-relay.gmail.com with ESMTPS id d75a77b69052e-4abb4a4000dsm41191cf.17.2025.07.17.15.46.23 (version=TLS1_2 cipher=ECDHE-ECDSA-AES128-GCM-SHA256 bits=128/128); Thu, 17 Jul 2025 15:46:23 -0700 (PDT) X-Relaying-Domain: iol.unh.edu Date: Thu, 17 Jul 2025 15:46:23 -0700 (PDT) Message-ID: <68797d3f.050a0220.3e63f.03afSMTPIN_ADDED_MISSING@mx.google.com> Received: from [172.21.0.2] (unknown [172.18.0.240]) by postal.iol.unh.edu (Postfix) with ESMTP id 7FA2D6051830; Thu, 17 Jul 2025 18:46:23 -0400 (EDT) Subject: |SUCCESS| pw155313-155314 [PATCH] [v1,2/2] dts: add qinq test suite From: dpdklab@iol.unh.edu To: Test Report Cc: dpdk-test-reports@iol.unh.edu In-Reply-To: <20250717205718.108826-2-dmarx@iol.unh.edu> References: <20250717205718.108826-2-dmarx@iol.unh.edu> Content-Type: text/plain X-BeenThere: test-report@dpdk.org X-Mailman-Version: 2.1.29 Precedence: list List-Id: automatic DPDK test reports List-Unsubscribe: , List-Archive: List-Post: List-Help: List-Subscribe: , Errors-To: test-report-bounces@dpdk.org Test-Label: iol-unit-arm64-testing Test-Status: SUCCESS http://dpdk.org/patch/155314 _Testing PASS_ Submitter: Dean Marx Date: Thursday, July 17 2025 20:57:18 DPDK git baseline: Repo:dpdk Branch: master CommitID:f8fb19d5e2fc20798ed0caa292a1538fbbd98f96 155313-155314 --> testing pass Upstream job id: Generic-Unit-Test-DPDK#356046 Test environment and result as below: +------------------------------+----------------+---------------------------+--------------+------------------------------+ | Environment | dpdk_unit_test | cryptodev_sw_zuc_autotest | lpm_autotest | cryptodev_sw_snow3g_autotest | +==============================+================+===========================+==============+==============================+ | Debian GNU/Linux 12 | PASS | SKIPPED | SKIPPED | SKIPPED | +------------------------------+----------------+---------------------------+--------------+------------------------------+ | CentOS Stream 9 | PASS | SKIPPED | SKIPPED | SKIPPED | +------------------------------+----------------+---------------------------+--------------+------------------------------+ | Fedora Linux 40 | PASS | SKIPPED | SKIPPED | SKIPPED | +------------------------------+----------------+---------------------------+--------------+------------------------------+ | Fedora Linux 41 | PASS | SKIPPED | SKIPPED | SKIPPED | +------------------------------+----------------+---------------------------+--------------+------------------------------+ | Ubuntu 22.04 | PASS | SKIPPED | SKIPPED | SKIPPED | +------------------------------+----------------+---------------------------+--------------+------------------------------+ | CentOS Stream 10 | PASS | SKIPPED | SKIPPED | SKIPPED | +------------------------------+----------------+---------------------------+--------------+------------------------------+ | Ubuntu 24.04 | PASS | SKIPPED | SKIPPED | SKIPPED | +------------------------------+----------------+---------------------------+--------------+------------------------------+ | Red Hat Enterprise Linux 9.5 | PASS | SKIPPED | SKIPPED | SKIPPED | +------------------------------+----------------+---------------------------+--------------+------------------------------+ | Ubuntu 20.04 | PASS | SKIPPED | PASS | SKIPPED | +------------------------------+----------------+---------------------------+--------------+------------------------------+ | Debian 12 (arm) | SKIPPED | PASS | SKIPPED | PASS | +------------------------------+----------------+---------------------------+--------------+------------------------------+ Debian GNU/Linux 12 Kernel: 5.4 Compiler: gcc gcc (Debian 12.2.0-14+deb12u1) 12.2.0 CentOS Stream 9 Kernel: 5.4 Compiler: gcc gcc (GCC) 11.5.0 20240719 (Red Hat 11.5.0-7) Fedora Linux 40 Kernel: 5.4 Compiler: gcc gcc (GCC) 14.2.1 20240912 (Red Hat 14.2.1-3) Fedora Linux 41 Kernel: 5.4 Compiler: gcc gcc (GCC) 14.3.1 20250523 (Red Hat 14.3.1-1) Ubuntu 22.04 Kernel: 5.4 Compiler: gcc gcc (Ubuntu 11.4.0-1ubuntu1~22.04) 11.4.0 CentOS Stream 10 Kernel: 5.4 Compiler: gcc gcc (GCC) 14.2.1 20250110 (Red Hat 14.2.1-8) Ubuntu 24.04 Kernel: 5.4 Compiler: gcc gcc (Ubuntu 13.3.0-6ubuntu2~24.04) 13.3.0 Red Hat Enterprise Linux 9.5 Kernel: 5.4 Compiler: gcc gcc (GCC) 11.5.0 20240719 (Red Hat 11.5.0-2) Ubuntu 20.04 Kernel: 5.4 Compiler: gcc gcc (Ubuntu 9.4.0-1ubuntu1~20.04.2) 9.4.0 Debian 12 (arm) Kernel: Depends on container host Compiler: gcc (Debian 12.2.0-14) 12.2.0 To view detailed results, visit: https://lab.dpdk.org/results/dashboard/patchsets/33681/ UNH-IOL DPDK Community Lab To manage your email subscriptions, visit: https://lab.dpdk.org/results/dashboard/preferences/subscriptions/