From mboxrd@z Thu Jan 1 00:00:00 1970 Return-Path: Received: from mails.dpdk.org (mails.dpdk.org [217.70.189.124]) by inbox.dpdk.org (Postfix) with ESMTP id A14FE46BA2 for ; Fri, 18 Jul 2025 02:51:34 +0200 (CEST) Received: from mails.dpdk.org (localhost [127.0.0.1]) by mails.dpdk.org (Postfix) with ESMTP id 66AC94014F; Fri, 18 Jul 2025 02:51:34 +0200 (CEST) Received: from mail-yw1-f226.google.com (mail-yw1-f226.google.com [209.85.128.226]) by mails.dpdk.org (Postfix) with ESMTP id 17FCF4014F for ; Fri, 18 Jul 2025 02:51:33 +0200 (CEST) Received: by mail-yw1-f226.google.com with SMTP id 00721157ae682-714067ecea3so12253537b3.0 for ; Thu, 17 Jul 2025 17:51:33 -0700 (PDT) DKIM-Signature: v=1; a=rsa-sha256; c=relaxed/relaxed; d=iol.unh.edu; s=unh-iol; t=1752799892; x=1753404692; darn=dpdk.org; h=references:in-reply-to:cc:to:from:subject:message-id:date:from:to :cc:subject:date:message-id:reply-to; bh=Rx9tPjWKvSulNYtLZ2z5LOs5H+pMv4Jl6EIZyZGDOnI=; b=EULIGgVFguwFl59/+eUT76LgTzWPWDowrZ3qOAwTQpQJgX243NGzy4oJOCdfnZW/YV lmQf/XlKiE2RckIIdQEBLWTjTFtRQ178tj42De/IbzCRJjx4gQQD/2Ge7ZLVxv0DmfZM yHcjfblRNGPlGURiUPzapSPvs8dbpE7vpaPuY= X-Google-DKIM-Signature: v=1; a=rsa-sha256; c=relaxed/relaxed; d=1e100.net; s=20230601; t=1752799892; x=1753404692; h=references:in-reply-to:cc:to:from:subject:message-id:date :x-gm-message-state:from:to:cc:subject:date:message-id:reply-to; bh=Rx9tPjWKvSulNYtLZ2z5LOs5H+pMv4Jl6EIZyZGDOnI=; b=jhgOlw2LCVYxjnG7yF5LI2RG9+lB/jPa5Z5hZ/UYIWt1YebkajB0ZvKPas3kN1t4s0 Ocag02HZ6HwOH+wbyWFiJnZPAsxVR0iD+fAOiz+vNqXnNgwNQYU3zYDJ1lhMSgRDVNnZ o+RYNtiy7TtZpUnQD3IkmknW5ZZkLb1L2hEusFNVOTztniUT6fDh5Orjsxkmm0sLpts7 qCPyYIl0wJfk2nDWY/WCjXIA29yjfwyqhFrOgk5LGQHCEifCpOntRaTnhMnzdRDUxeoe jB243Fl/8YpNQhY63mBQlzkyd+2mlquQFAd5PovD9i6XebC/fkiGGAQBHI3M7prSDaiv /jmg== X-Gm-Message-State: AOJu0Yx6LGnkRjU5lkoH5tU+quaiXquMEoZ5Qm4DTaQLz4M/pk4nUxQ4 M8WwtFxuKRpdj3YnmFvgVxwnYOwZtyZb5n2IO164iSQPzGCTqHUx+qPeSN0e7+uKwB3mEgIIv8y OWNQDBAFcGiiQJkZVtoO9vDaC/m6DG4aRcvWbkbmz9YksigFYtXmtt2aoKiDT X-Gm-Gg: ASbGncvLa2A0K2Bw3gKZ+JNcxEcfEVhFXkiXI7z2hVSkkZXqoLzT1S8NRK9gInehl22 Oj4MbRtZMcJ1nhnSw2XBBB/bMH/WMxffGRZm4pxJ/jNktwybyEBRLmapxRAyyx991vywm2UGEHY /6Ous7zobixrNP+mgxvVmP9vOIe4xztBMP5A5HhzF2uEaTcs5KiayIjyXZ+HBbh1d5qc+Y/dOsO Q2o/9xTTdoyJUnFregNiUSNh43jaTHZYOPEcDVy3NnT+c0wpCQFzOAYmMCgq5rq8q8SV7olhxKd tJHdTfFQNqXU55QzzRvVBa4MKWZjs0mGYpPKtYYKAsxkj1DWrQ== X-Google-Smtp-Source: AGHT+IFGv+aXHhIo7UPy3MsauyeOr1VZI/zSMFhas0Gyky9EVVsJEe8ITQPPk7xJp3j6Hb/OC9W7BYQndvcy X-Received: by 2002:a05:690c:640d:b0:718:3d24:dbce with SMTP id 00721157ae682-7183d250afcmr91490037b3.30.1752799892174; Thu, 17 Jul 2025 17:51:32 -0700 (PDT) Received: from postal.iol.unh.edu (postal.iol.unh.edu. [2606:4100:3880:1234::84]) by smtp-relay.gmail.com with ESMTPS id 00721157ae682-7195330f240sm171517b3.46.2025.07.17.17.51.32 (version=TLS1_2 cipher=ECDHE-ECDSA-AES128-GCM-SHA256 bits=128/128); Thu, 17 Jul 2025 17:51:32 -0700 (PDT) X-Relaying-Domain: iol.unh.edu Date: Thu, 17 Jul 2025 17:51:32 -0700 (PDT) Message-ID: <68799a94.810a0220.2616cb.147fSMTPIN_ADDED_MISSING@mx.google.com> Received: from [172.21.0.3] (unknown [172.18.0.240]) by postal.iol.unh.edu (Postfix) with ESMTP id CFCE76051830; Thu, 17 Jul 2025 20:51:31 -0400 (EDT) Subject: |SUCCESS| pw155313-155314 [PATCH] [v1,2/2] dts: add qinq test suite From: dpdklab@iol.unh.edu To: Test Report Cc: dpdk-test-reports@iol.unh.edu In-Reply-To: <20250717205718.108826-2-dmarx@iol.unh.edu> References: <20250717205718.108826-2-dmarx@iol.unh.edu> Content-Type: text/plain X-BeenThere: test-report@dpdk.org X-Mailman-Version: 2.1.29 Precedence: list List-Id: automatic DPDK test reports List-Unsubscribe: , List-Archive: List-Post: List-Help: List-Subscribe: , Errors-To: test-report-bounces@dpdk.org Test-Label: iol-compile-arm64-testing Test-Status: SUCCESS http://dpdk.org/patch/155314 _Testing PASS_ Submitter: Dean Marx Date: Thursday, July 17 2025 20:57:18 DPDK git baseline: Repo:dpdk Branch: master CommitID:f8fb19d5e2fc20798ed0caa292a1538fbbd98f96 155313-155314 --> testing pass Upstream job id: Generic-DPDK-Compile-Meson#409536 Test environment and result as below: +------------------------------+--------------------+ | Environment | dpdk_meson_compile | +==============================+====================+ | Red Hat Enterprise Linux 9.5 | PASS | +------------------------------+--------------------+ | Ubuntu 20.04 | PASS | +------------------------------+--------------------+ | Debian GNU/Linux 12 | PASS | +------------------------------+--------------------+ | Fedora Linux 40 | PASS | +------------------------------+--------------------+ | Fedora Linux 41 | PASS | +------------------------------+--------------------+ | Ubuntu 24.04 | PASS | +------------------------------+--------------------+ | CentOS Stream 9 | PASS | +------------------------------+--------------------+ | Ubuntu 22.04 | PASS | +------------------------------+--------------------+ | CentOS Stream 10 | PASS | +------------------------------+--------------------+ Red Hat Enterprise Linux 9.5 Kernel: 5.4 Compiler: gcc gcc (GCC) 11.5.0 20240719 (Red Hat 11.5.0-2) Ubuntu 20.04 Kernel: 5.15 Compiler: aarch64-linux-gnu-gcc gcc (Ubuntu 9.4.0-1ubuntu1~20.04.2) 9.4.0 Debian GNU/Linux 12 Kernel: 5.4 Compiler: gcc gcc (Debian 12.2.0-14+deb12u1) 12.2.0 Fedora Linux 40 Kernel: 5.4 Compiler: clang gcc (GCC) 14.2.1 20240912 (Red Hat 14.2.1-3) Fedora Linux 41 Kernel: 5.4 Compiler: gcc gcc (GCC) 14.3.1 20250523 (Red Hat 14.3.1-1) Ubuntu 24.04 Kernel: 5.4 Compiler: gcc gcc (Ubuntu 13.3.0-6ubuntu2~24.04) 13.3.0 CentOS Stream 9 Kernel: 5.4 Compiler: gcc gcc (GCC) 11.5.0 20240719 (Red Hat 11.5.0-7) Ubuntu 22.04 Kernel: 5.4 Compiler: gcc gcc (Ubuntu 11.4.0-1ubuntu1~22.04) 11.4.0 CentOS Stream 10 Kernel: 5.4 Compiler: gcc gcc (GCC) 14.2.1 20250110 (Red Hat 14.2.1-8) To view detailed results, visit: https://lab.dpdk.org/results/dashboard/patchsets/33681/ UNH-IOL DPDK Community Lab To manage your email subscriptions, visit: https://lab.dpdk.org/results/dashboard/preferences/subscriptions/