From mboxrd@z Thu Jan 1 00:00:00 1970 Return-Path: Received: from mails.dpdk.org (mails.dpdk.org [217.70.189.124]) by inbox.dpdk.org (Postfix) with ESMTP id B674B46BA2 for ; Fri, 18 Jul 2025 03:24:05 +0200 (CEST) Received: from mails.dpdk.org (localhost [127.0.0.1]) by mails.dpdk.org (Postfix) with ESMTP id A17584014F; Fri, 18 Jul 2025 03:24:05 +0200 (CEST) Received: from mail-pl1-f225.google.com (mail-pl1-f225.google.com [209.85.214.225]) by mails.dpdk.org (Postfix) with ESMTP id E9CB54014F for ; Fri, 18 Jul 2025 03:24:03 +0200 (CEST) Received: by mail-pl1-f225.google.com with SMTP id d9443c01a7336-236377f00a1so14616475ad.3 for ; Thu, 17 Jul 2025 18:24:03 -0700 (PDT) DKIM-Signature: v=1; a=rsa-sha256; c=relaxed/relaxed; d=iol.unh.edu; s=unh-iol; t=1752801843; x=1753406643; darn=dpdk.org; h=cc:to:from:subject:message-id:date:from:to:cc:subject:date :message-id:reply-to; bh=+RTdAf3YKcad7uB0u4bSuy/s1gxYe/9XsYz9eiZ0XFE=; b=FA/jzIa5wnO+1Yr8Pbb68ett0yeJbCgvt7bTXMrA0Jdo6vFGLYxJXa8rpuWkM9o9ye 1hioxnEB1nSFnOMtLlOT9yarwF3IV0VruplG8b2IvBJIRIc7Y/ZMMGMbspr8ACDjAAHC N3DiPX/EDuAUgFjqkyaxJwZ5AZwW7m6CqhxmY= X-Google-DKIM-Signature: v=1; a=rsa-sha256; c=relaxed/relaxed; d=1e100.net; s=20230601; t=1752801843; x=1753406643; h=cc:to:from:subject:message-id:date:x-gm-message-state:from:to:cc :subject:date:message-id:reply-to; bh=+RTdAf3YKcad7uB0u4bSuy/s1gxYe/9XsYz9eiZ0XFE=; b=mRtS+hlCv7ihXVIFEkSOCTzr8cznPuli7pt5Z2xLNvPAYQTYqg3PDF+0n0Cws+4BQL VZPAgzDzW4x9ZXvCPY86eXfH0bRTVDyuch8fZO/7PK3ZMwMCHV17yFnnZ5w3AabND+E7 kl0sYTB/w74xTapnerkac5k/BncCUR1Z3oTglFogFJdBpdVyyiJc1DHlSEksdL71ybCN wRJz+orWjKunrc+J1TC7xyr4CUxrPFi5jynA6y9qNXOLEc2EFSzGcxg2tWz851E4op6W Sbxmdg0CGJbS2XGbxfLkb0JDt6/aXzDlUgy+pe2wFhmqQ4RkICPkALfMNI/JGtMosZUe zgxg== X-Gm-Message-State: AOJu0YzVj8TctDwAl0ADrWCp1tVPj4IGIY4jik4U4lzWvEvhW9GFEmnN 5Cbue2ZTlKPEMdQt2r6HY/qgstEmbT+0QGTMt4CaImMX2qAx30GBlWZ5qjfE3xEzzNzFGLM5S8s APvGfMnDD1zCFTGHtPYolgHRw4aW6X6O5LupUvuO9m6TiOPFJt0S5KNaz+55d X-Gm-Gg: ASbGnct2h7bYt5qHpFxKF2GyrmQ3XNdURPwsjUcrdPJvrPDycJOOR8/umnSYcD4RJfb 8YULyjTKs30pzFUTqpwbq0bZlQUpoccksRuCbj5QVdOzmvuA4+y8lgU1mORbZ4wzn/CdR1r1k4h Kc+8veBsrV+2RtrGUTz6Iryse8JcOfSci/J1jOBFrXXhrnQ4qzsg+VG0s5JrS4FpHQoYfltC94q jYn6kdZPf2URsCC0eFuCXC214wwAm3XiWxUzKdthhs0Yz0wKPvM6sMMPdn6OnBW8a8CqFIsRXB6 HEQseCSzbAF2Ye/kJyQI6jeW2+I/Hq6bZ0pxwlWktHTy3TxU/g== X-Google-Smtp-Source: AGHT+IEBHqUkKTWU6DyEfTPzKWLz5nx0LhvJo/oO4rT9kgJgSurcMkJZmr9we0Gs57ijHrfwnp2UX2UYKDxH X-Received: by 2002:a17:903:3d0b:b0:234:11f9:a72b with SMTP id d9443c01a7336-23e24f94aeemr128133255ad.50.1752801842995; Thu, 17 Jul 2025 18:24:02 -0700 (PDT) Received: from postal.iol.unh.edu (postal.iol.unh.edu. [2606:4100:3880:1234::84]) by smtp-relay.gmail.com with ESMTPS id d9443c01a7336-23e3b6f5685sm318265ad.115.2025.07.17.18.24.02 (version=TLS1_2 cipher=ECDHE-ECDSA-AES128-GCM-SHA256 bits=128/128); Thu, 17 Jul 2025 18:24:02 -0700 (PDT) X-Relaying-Domain: iol.unh.edu Date: Thu, 17 Jul 2025 18:24:02 -0700 (PDT) Message-ID: <6879a232.170a0220.109a62.1936SMTPIN_ADDED_MISSING@mx.google.com> Received: from [172.21.0.2] (unknown [172.18.0.240]) by postal.iol.unh.edu (Postfix) with ESMTP id 729866051830; Thu, 17 Jul 2025 21:24:02 -0400 (EDT) Subject: |SUCCESS| [GIT MASTER] 20a053a223db35244b6daee98d71fdab631646b6 From: dpdklab@iol.unh.edu To: Test Report Cc: dpdk-test-reports@iol.unh.edu Content-Type: text/plain X-BeenThere: test-report@dpdk.org X-Mailman-Version: 2.1.29 Precedence: list List-Id: automatic DPDK test reports List-Unsubscribe: , List-Archive: List-Post: List-Help: List-Subscribe: , Errors-To: test-report-bounces@dpdk.org _Testing PASS_ Branch: dpdk 20a053a223db35244b6daee98d71fdab631646b6 --> testing pass Upstream job id: Generic-VM-Unit-Test-DPDK#30001 Test environment and result as below: +-------------------------------+----------------+ | Environment | dpdk_unit_test | +===============================+================+ | CentOS Stream 10 | PASS | +-------------------------------+----------------+ | Arch Linux 20250613.0.365270 | PASS | +-------------------------------+----------------+ | CentOS Stream 9 | PASS | +-------------------------------+----------------+ | Debian GNU/Linux 12 | PASS | +-------------------------------+----------------+ | Fedora Linux 41 | PASS | +-------------------------------+----------------+ | Fedora Linux 40 | PASS | +-------------------------------+----------------+ | Red Hat Enterprise Linux 9.5 | PASS | +-------------------------------+----------------+ | Red Hat Enterprise Linux 8.10 | PASS | +-------------------------------+----------------+ | Ubuntu 20.04 | PASS | +-------------------------------+----------------+ | Ubuntu 22.04 | PASS | +-------------------------------+----------------+ | Ubuntu 24.04 | PASS | +-------------------------------+----------------+ | Windows Server 2022 | PASS | +-------------------------------+----------------+ CentOS Stream 10 Kernel: 5.15 Compiler: gcc gcc (GCC) 14.2.1 20250110 (Red Hat 14.2.1-8) Arch Linux 20250613.0.365270 Kernel: 5.15 Compiler: gcc gcc (GCC) 15.1.1 20250425 CentOS Stream 9 Kernel: 5.15 Compiler: gcc gcc (GCC) 11.5.0 20240719 (Red Hat 11.5.0-7) Debian GNU/Linux 12 Kernel: 5.15 Compiler: gcc gcc (Debian 12.2.0-14+deb12u1) 12.2.0 Fedora Linux 41 Kernel: 5.15 Compiler: gcc gcc (GCC) 14.3.1 20250523 (Red Hat 14.3.1-1) Fedora Linux 40 Kernel: 5.15 Compiler: clang gcc (GCC) 14.2.1 20240912 (Red Hat 14.2.1-3) Red Hat Enterprise Linux 9.5 Kernel: 5.15 Compiler: gcc gcc (GCC) 11.5.0 20240719 (Red Hat 11.5.0-2) Red Hat Enterprise Linux 8.10 Kernel: 5.15 Compiler: gcc gcc (GCC) 8.5.0 20210514 (Red Hat 8.5.0-22) Ubuntu 20.04 Kernel: 5.15 Compiler: gcc gcc (Ubuntu 9.4.0-1ubuntu1~20.04.2) 9.4.0 Ubuntu 22.04 Kernel: 5.15 Compiler: gcc gcc (Ubuntu 11.4.0-1ubuntu1~22.04) 11.4.0 Ubuntu 24.04 Kernel: 5.15 Compiler: gcc gcc (Ubuntu 13.3.0-6ubuntu2~24.04) 13.3.0 Windows Server 2022 Kernel: 10.0.20348.2031 Compiler: clang 15.0.7, gcc 14.1.0 (MinGW), and MSVC VS 19.39.33521 To view detailed results, visit: https://lab.dpdk.org/results/dashboard/tarballs/34306/ UNH-IOL DPDK Community Lab To manage your email subscriptions, visit: https://lab.dpdk.org/results/dashboard/preferences/subscriptions/