From mboxrd@z Thu Jan 1 00:00:00 1970 Return-Path: Received: from mails.dpdk.org (mails.dpdk.org [217.70.189.124]) by inbox.dpdk.org (Postfix) with ESMTP id 1939A46BA2 for ; Fri, 18 Jul 2025 03:37:03 +0200 (CEST) Received: from mails.dpdk.org (localhost [127.0.0.1]) by mails.dpdk.org (Postfix) with ESMTP id E460F4014F; Fri, 18 Jul 2025 03:37:02 +0200 (CEST) Received: from mail-il1-f228.google.com (mail-il1-f228.google.com [209.85.166.228]) by mails.dpdk.org (Postfix) with ESMTP id 2E7224014F for ; Fri, 18 Jul 2025 03:37:01 +0200 (CEST) Received: by mail-il1-f228.google.com with SMTP id e9e14a558f8ab-3e057f2c8d8so12532305ab.1 for ; Thu, 17 Jul 2025 18:37:01 -0700 (PDT) DKIM-Signature: v=1; a=rsa-sha256; c=relaxed/relaxed; d=iol.unh.edu; s=unh-iol; t=1752802620; x=1753407420; darn=dpdk.org; h=cc:to:from:subject:message-id:date:from:to:cc:subject:date :message-id:reply-to; bh=vaUYYdEvHtBRMflS8A2QGVP4d4ZliTE4J4P2CEkPXgc=; b=aX9nmZPMLYpyuahEB0xLmPvbccK1e8Mv55WtGdVyEX9STi+uQ8yz8Ar+yUdJz/ldO2 0POHji4Cd40ApRKvbfLa6gDBUgmHY/hu1GvSgvGdU7lb1Wwpp6ja/4/jm+Oq8hm4FDcK HeecomE2gDKKQgOg90baHc6ZZHC7AgEa//laI= X-Google-DKIM-Signature: v=1; a=rsa-sha256; c=relaxed/relaxed; d=1e100.net; s=20230601; t=1752802620; x=1753407420; h=cc:to:from:subject:message-id:date:x-gm-message-state:from:to:cc :subject:date:message-id:reply-to; bh=vaUYYdEvHtBRMflS8A2QGVP4d4ZliTE4J4P2CEkPXgc=; b=Zh4Y9uAM29P+queFMP+FTuEJIJzoDnT9ohMFBbXKX9faYZnbUqXkSe0JWrqQSY8N3a mmTTWnHRzkuiYvASsL7IgRVituwjEE57fa7d6xRkZu4uVRbS4NqskEXZOkrX05m06TN8 cZ36HYK6L/sWhoTaeGQcHjokJJaQmt0nAHNuZyE93UBQPs/9Us5z1BxPMOKJMXBiwHCj IgN+XGriF7T3tyrdie2nMfN1kmODGxRT0W54ECjUEEThzgnn7+dnS4DIfYjrJLSeLX4g zkCRNUtd3TWUySd+G4/aNztxz3ax1NoFInh4BOdXskyunCMsmSylauxnagS9X2HD1Kqk L1fg== X-Gm-Message-State: AOJu0YysyDBa6eHDJxrln2bjr9Lj2H3CXLEzQuoG0L/oeAVbiD8nNtXF zXN2JhTFTqtiOl8SgzJU+pvF8bI9R12tReOncFTXSy0jYVwJ8+N81enrJDGFgRggXEqts+OoPy1 IZ5MLq169bF8oTwMwvJZ/nYKyvqAOUvjcpQZzcyyROIl+E2X1x5PcbDfu1oll X-Gm-Gg: ASbGncuxnL2UaaYDnvXk2TsQTxmcoq583ocNmNbK0U8trmoCNsdPfbiekT1KW7AEVRB fx8gG5RqSqYUO0ZmCjdVmEandBotW/luYgXHYaW08dt3/yvw2ZaBr7W1UaDydGOAF0X/kYzoEB4 SpI2jqlGJzeDAGhvG/HJLcdumzAOMQb0Yvbv5OxNba9Cn0TydH6KHrEh8Ir+L3GEzFggzX3f7uw HVop1i9mkwQd572e+usRTlshwONG0a7OdfrGssCjSb6fQyskbPNMx/AyBx3JbAwLE6QZ5uccS4Z iVWML1/3kZBK78UkBzF7j7MkpHgQew41C759+pCfEdks3ED/9w== X-Google-Smtp-Source: AGHT+IFD/3tOOfvld9qfPMZ9ZO25jkLGsNEXlaiOsWy3b/4NfuDrxomZ3OO5V5+7gzbiq5GyIr+2G4BSkiEN X-Received: by 2002:a05:6e02:1447:b0:3e0:5073:acc5 with SMTP id e9e14a558f8ab-3e2823385e3mr87727905ab.6.1752802620446; Thu, 17 Jul 2025 18:37:00 -0700 (PDT) Received: from postal.iol.unh.edu (postal.iol.unh.edu. [2606:4100:3880:1234::84]) by smtp-relay.gmail.com with ESMTPS id 8926c6da1cb9f-5084c8f6ec2sm13246173.44.2025.07.17.18.37.00 (version=TLS1_2 cipher=ECDHE-ECDSA-AES128-GCM-SHA256 bits=128/128); Thu, 17 Jul 2025 18:37:00 -0700 (PDT) X-Relaying-Domain: iol.unh.edu Date: Thu, 17 Jul 2025 18:37:00 -0700 (PDT) Message-ID: <6879a53c.050a0220.5467c.0c08SMTPIN_ADDED_MISSING@mx.google.com> Received: from [172.21.0.2] (unknown [172.18.0.240]) by postal.iol.unh.edu (Postfix) with ESMTP id ECBBB6050A61; Thu, 17 Jul 2025 21:36:59 -0400 (EDT) Subject: |SUCCESS| [GIT MASTER] 20a053a223db35244b6daee98d71fdab631646b6 From: dpdklab@iol.unh.edu To: Test Report Cc: dpdk-test-reports@iol.unh.edu Content-Type: text/plain X-BeenThere: test-report@dpdk.org X-Mailman-Version: 2.1.29 Precedence: list List-Id: automatic DPDK test reports List-Unsubscribe: , List-Archive: List-Post: List-Help: List-Subscribe: , Errors-To: test-report-bounces@dpdk.org _Testing PASS_ Branch: dpdk 20a053a223db35244b6daee98d71fdab631646b6 --> testing pass Upstream job id: Generic-Unit-Test-DPDK#356080 Test environment and result as below: +------------------------------+--------------+---------------------------+------------------------------+----------------+ | Environment | lpm_autotest | cryptodev_sw_zuc_autotest | cryptodev_sw_snow3g_autotest | dpdk_unit_test | +==============================+==============+===========================+==============================+================+ | Ubuntu 20.04 | PASS | SKIPPED | SKIPPED | PASS | +------------------------------+--------------+---------------------------+------------------------------+----------------+ | Debian 12 (arm) | SKIPPED | PASS | PASS | SKIPPED | +------------------------------+--------------+---------------------------+------------------------------+----------------+ | CentOS Stream 10 | SKIPPED | SKIPPED | SKIPPED | PASS | +------------------------------+--------------+---------------------------+------------------------------+----------------+ | CentOS Stream 9 | SKIPPED | SKIPPED | SKIPPED | PASS | +------------------------------+--------------+---------------------------+------------------------------+----------------+ | Fedora Linux 40 | SKIPPED | SKIPPED | SKIPPED | PASS | +------------------------------+--------------+---------------------------+------------------------------+----------------+ | Debian GNU/Linux 12 | SKIPPED | SKIPPED | SKIPPED | PASS | +------------------------------+--------------+---------------------------+------------------------------+----------------+ | Fedora Linux 41 | SKIPPED | SKIPPED | SKIPPED | PASS | +------------------------------+--------------+---------------------------+------------------------------+----------------+ | Ubuntu 24.04 | SKIPPED | SKIPPED | SKIPPED | PASS | +------------------------------+--------------+---------------------------+------------------------------+----------------+ | Ubuntu 22.04 | SKIPPED | SKIPPED | SKIPPED | PASS | +------------------------------+--------------+---------------------------+------------------------------+----------------+ | Red Hat Enterprise Linux 9.5 | SKIPPED | SKIPPED | SKIPPED | PASS | +------------------------------+--------------+---------------------------+------------------------------+----------------+ Ubuntu 20.04 Kernel: 5.4 Compiler: gcc gcc (Ubuntu 9.4.0-1ubuntu1~20.04.2) 9.4.0 Debian 12 (arm) Kernel: Depends on container host Compiler: gcc (Debian 12.2.0-14) 12.2.0 CentOS Stream 10 Kernel: 5.4 Compiler: gcc gcc (GCC) 14.2.1 20250110 (Red Hat 14.2.1-8) CentOS Stream 9 Kernel: 5.4 Compiler: gcc gcc (GCC) 11.5.0 20240719 (Red Hat 11.5.0-7) Fedora Linux 40 Kernel: 5.4 Compiler: gcc gcc (GCC) 14.2.1 20240912 (Red Hat 14.2.1-3) Debian GNU/Linux 12 Kernel: 5.4 Compiler: gcc gcc (Debian 12.2.0-14+deb12u1) 12.2.0 Fedora Linux 41 Kernel: 5.4 Compiler: gcc gcc (GCC) 14.3.1 20250523 (Red Hat 14.3.1-1) Ubuntu 24.04 Kernel: 5.4 Compiler: gcc gcc (Ubuntu 13.3.0-6ubuntu2~24.04) 13.3.0 Ubuntu 22.04 Kernel: 5.4 Compiler: gcc gcc (Ubuntu 11.4.0-1ubuntu1~22.04) 11.4.0 Red Hat Enterprise Linux 9.5 Kernel: 5.4 Compiler: gcc gcc (GCC) 11.5.0 20240719 (Red Hat 11.5.0-2) To view detailed results, visit: https://lab.dpdk.org/results/dashboard/tarballs/34306/ UNH-IOL DPDK Community Lab To manage your email subscriptions, visit: https://lab.dpdk.org/results/dashboard/preferences/subscriptions/