From mboxrd@z Thu Jan 1 00:00:00 1970 Return-Path: Received: from mails.dpdk.org (mails.dpdk.org [217.70.189.124]) by inbox.dpdk.org (Postfix) with ESMTP id 505C546BA2 for ; Fri, 18 Jul 2025 03:40:15 +0200 (CEST) Received: from mails.dpdk.org (localhost [127.0.0.1]) by mails.dpdk.org (Postfix) with ESMTP id 492E14014F; Fri, 18 Jul 2025 03:40:15 +0200 (CEST) Received: from mail-io1-f99.google.com (mail-io1-f99.google.com [209.85.166.99]) by mails.dpdk.org (Postfix) with ESMTP id 709124014F for ; Fri, 18 Jul 2025 03:40:13 +0200 (CEST) Received: by mail-io1-f99.google.com with SMTP id ca18e2360f4ac-875dd57d63bso63318139f.0 for ; Thu, 17 Jul 2025 18:40:13 -0700 (PDT) DKIM-Signature: v=1; a=rsa-sha256; c=relaxed/relaxed; d=iol.unh.edu; s=unh-iol; t=1752802813; x=1753407613; darn=dpdk.org; h=cc:to:from:subject:message-id:date:from:to:cc:subject:date :message-id:reply-to; bh=i6Z8il2VlQ5daziGpu3R3R8sFm9JBENoAwDnnlhYTgs=; b=WhCb2bmsH0NYMClIA552nDgobBavy8iClSKBoOgM+B86muyLTvlbqhK4QJNrqI/Ho2 bvnDKMWrRlsJdrf00wF0qRfpGlYGlv+1AoRW4Kdo0EW2wU2lDjVoKjoJJ9iSuJu/8HgP z8g9tZMlxkHRK6+bz21EGU3Qh8DISYjht76pQ= X-Google-DKIM-Signature: v=1; a=rsa-sha256; c=relaxed/relaxed; d=1e100.net; s=20230601; t=1752802813; x=1753407613; h=cc:to:from:subject:message-id:date:x-gm-message-state:from:to:cc :subject:date:message-id:reply-to; bh=i6Z8il2VlQ5daziGpu3R3R8sFm9JBENoAwDnnlhYTgs=; b=isCDFZWYJLcR/88p4qIs1ixx1aDyFREnaIWoQNPje2vi97Ilnjzgu5oZPTVa5RHg3p FjVPXGZqHZQ6DABUXzNYp56uD5BPmDXFXyQaJuHZm3L7RCpPFXYVFAppmQz7WZkDef1o f95JWVPdsFbOJes3CylmghDtZ40rRvY2aP6fJt5s7RzH4N/MZ5zMEwU8L0q0L6g08XsN 4ql6jztmClzQNVVZcMdyj5n2OzubC23GTtaSyykulfA3HmOkxwTYwMMPiWOOeOy5yo9g 8zHwHEhAq3xtbYSkWzR65jdOmt+GTpV2WE/HmI093iF83NPHWJcyFphvtz1Yl9Qx0Gzd jGPQ== X-Gm-Message-State: AOJu0YyeS4raapg9gm+9kiVxIhBqv5fAZe+Yuj4uCOOI2lmdcuIK1sl4 Fpp0YBCM79ziyViUCZwDGg+x9CZonsNu4gEQCyh5ZyUu3gXa4pQZQoCgVlPUGVej4z1Rfb5EsNv phJosbApLXnwRqBPPmq7yrPUWwBP5KnPPil+FfFnAwrhtWEtgO6ZpjKuZTyEb X-Gm-Gg: ASbGncv3CnTY7sBNMGHzkAnM4YkQh1r5uFyTR7Fh/F2wXM0DC5CXCAOVObcJx+vCsjt zbAVFWyUiWLdIQubd4ZotKBQbYTznxTb3mlrKGhowI1CgVi1rucLqkBWq4y+7o0w5oGeTqhX/Iy 3QuuvchVT/p1+Zu+8OfdOYi0fejSNx6aZdbNDUmXN6FrWhVCT6g9+PWssaR4nKWJwzSjG653V1c u6voPqOHVCC4lfxhD9cBNbMyKYUkWm9tUoxnfAVc9FbM6k9M1dd/brQ+P9glzJdlsiAcz0Gwwcf sBNYCM8U+3ev0LkKbssUNxMNxh73oEHtUXXnoZInYthXOYZFZA== X-Google-Smtp-Source: AGHT+IGxg9or5CTYRJrujYfY+Y13sEQwXP9WWFvcmJkUgii1JOyCeEz1xyJaNEU8RujUe76+joLdMKCLWWzo X-Received: by 2002:a05:6602:c84:b0:867:8d3:9864 with SMTP id ca18e2360f4ac-87ba83a2e57mr639858739f.4.1752802812697; Thu, 17 Jul 2025 18:40:12 -0700 (PDT) Received: from postal.iol.unh.edu (postal.iol.unh.edu. [2606:4100:3880:1234::84]) by smtp-relay.gmail.com with ESMTPS id ca18e2360f4ac-87c0e460ba4sm3526539f.3.2025.07.17.18.40.12 (version=TLS1_2 cipher=ECDHE-ECDSA-AES128-GCM-SHA256 bits=128/128); Thu, 17 Jul 2025 18:40:12 -0700 (PDT) X-Relaying-Domain: iol.unh.edu Date: Thu, 17 Jul 2025 18:40:12 -0700 (PDT) Message-ID: <6879a5fc.050a0220.2ef2fa.1caeSMTPIN_ADDED_MISSING@mx.google.com> Received: from [172.21.0.2] (unknown [172.18.0.240]) by postal.iol.unh.edu (Postfix) with ESMTP id 31C536050A61; Thu, 17 Jul 2025 21:40:12 -0400 (EDT) Subject: |SUCCESS| [GIT MASTER] 20a053a223db35244b6daee98d71fdab631646b6 From: dpdklab@iol.unh.edu To: Test Report Cc: dpdk-test-reports@iol.unh.edu Content-Type: text/plain X-BeenThere: test-report@dpdk.org X-Mailman-Version: 2.1.29 Precedence: list List-Id: automatic DPDK test reports List-Unsubscribe: , List-Archive: List-Post: List-Help: List-Subscribe: , Errors-To: test-report-bounces@dpdk.org _Testing PASS_ Branch: dpdk 20a053a223db35244b6daee98d71fdab631646b6 --> testing pass Upstream job id: Generic-DPDK-Compile-ABI#134697 Test environment and result as below: +-------------------------------+----------+ | Environment | abi_test | +===============================+==========+ | CentOS Stream 9 | PASS | +-------------------------------+----------+ | CentOS Stream 10 | PASS | +-------------------------------+----------+ | openSUSE Leap 15.6 | PASS | +-------------------------------+----------+ | Fedora Linux 41 | PASS | +-------------------------------+----------+ | Fedora Linux 40 | PASS | +-------------------------------+----------+ | Debian GNU/Linux 12 | PASS | +-------------------------------+----------+ | Red Hat Enterprise Linux 8.10 | PASS | +-------------------------------+----------+ | Arch Linux 20250613.0.365270 | PASS | +-------------------------------+----------+ | Red Hat Enterprise Linux 9.5 | PASS | +-------------------------------+----------+ | Ubuntu 24.04 | PASS | +-------------------------------+----------+ | Ubuntu 22.04 | PASS | +-------------------------------+----------+ CentOS Stream 9 Kernel: 5.15 Compiler: gcc gcc (GCC) 11.5.0 20240719 (Red Hat 11.5.0-7) CentOS Stream 10 Kernel: 5.15 Compiler: gcc gcc (GCC) 14.2.1 20250110 (Red Hat 14.2.1-8) openSUSE Leap 15.6 Kernel: 5.15 Compiler: gcc gcc (SUSE Linux) 7.5.0 Fedora Linux 41 Kernel: 5.15 Compiler: clang gcc (GCC) 14.3.1 20250523 (Red Hat 14.3.1-1) Fedora Linux 40 Kernel: 5.15 Compiler: gcc gcc (GCC) 14.2.1 20240912 (Red Hat 14.2.1-3) Debian GNU/Linux 12 Kernel: 5.15 Compiler: gcc gcc (Debian 12.2.0-14+deb12u1) 12.2.0 Red Hat Enterprise Linux 8.10 Kernel: 5.15 Compiler: gcc gcc (GCC) 8.5.0 20210514 (Red Hat 8.5.0-22) Arch Linux 20250613.0.365270 Kernel: 5.15 Compiler: gcc gcc (GCC) 15.1.1 20250425 Red Hat Enterprise Linux 9.5 Kernel: 5.15 Compiler: gcc gcc (GCC) 11.5.0 20240719 (Red Hat 11.5.0-2) Ubuntu 24.04 Kernel: 5.15 Compiler: gcc gcc (Ubuntu 13.3.0-6ubuntu2~24.04) 13.3.0 Ubuntu 22.04 Kernel: 5.15 Compiler: gcc gcc (Ubuntu 11.4.0-1ubuntu1~22.04) 11.4.0 To view detailed results, visit: https://lab.dpdk.org/results/dashboard/tarballs/34306/ UNH-IOL DPDK Community Lab To manage your email subscriptions, visit: https://lab.dpdk.org/results/dashboard/preferences/subscriptions/