From mboxrd@z Thu Jan 1 00:00:00 1970 Return-Path: Received: from mails.dpdk.org (mails.dpdk.org [217.70.189.124]) by inbox.dpdk.org (Postfix) with ESMTP id AA36546BA2 for ; Fri, 18 Jul 2025 03:42:40 +0200 (CEST) Received: from mails.dpdk.org (localhost [127.0.0.1]) by mails.dpdk.org (Postfix) with ESMTP id 82B4F4014F; Fri, 18 Jul 2025 03:42:40 +0200 (CEST) Received: from mail-yw1-f225.google.com (mail-yw1-f225.google.com [209.85.128.225]) by mails.dpdk.org (Postfix) with ESMTP id 34C484014F for ; Fri, 18 Jul 2025 03:42:40 +0200 (CEST) Received: by mail-yw1-f225.google.com with SMTP id 00721157ae682-70e302191a3so15675057b3.2 for ; Thu, 17 Jul 2025 18:42:40 -0700 (PDT) DKIM-Signature: v=1; a=rsa-sha256; c=relaxed/relaxed; d=iol.unh.edu; s=unh-iol; t=1752802959; x=1753407759; darn=dpdk.org; h=cc:to:from:subject:message-id:date:from:to:cc:subject:date :message-id:reply-to; bh=3FkCdCC4k2On47P53St/CRe/+sfOO1FVwuDkAzpzkxo=; b=fQE+LPwBRHILFhmGkUEkl1QPeyTWAG/CArqPUAml1s0yvtw3n92fxLhbaBw9pPWKMl kYOChnCUSPqrIsvThR52+IRu3dz8uDJG8qcbuyeddRIwhgI1wcpo2CvfuDgR6gJ1+zmQ S7iXP8eRGQ4WyMstt2RUfT1dEMWUOTMhaWsMY= X-Google-DKIM-Signature: v=1; a=rsa-sha256; c=relaxed/relaxed; d=1e100.net; s=20230601; t=1752802959; x=1753407759; h=cc:to:from:subject:message-id:date:x-gm-message-state:from:to:cc :subject:date:message-id:reply-to; bh=3FkCdCC4k2On47P53St/CRe/+sfOO1FVwuDkAzpzkxo=; b=GyTF+pM8gtycQFRcNXlsWpn5KRHTd3sS88yTwGWP+HRo/2mjQiA7HF3Wv3TzCP3pUg ubw6N5B2afX0yeC1xHWdaBPoSbBvMu/YJmj2CP8fJnbINDEt/YRvhIvK9HtTHNjMvOGz D0UhTjj6A7kvjB1GHOpyIrAYxt+Gt55VYK/7ggZRJxbXaNRuKgwtcBR7CTH079FjHBdB KcHb028HxwWCRicjBR44423m1RqNjjrYRwRAxPe/1NYXcNRaNIJRII782q6H+5NZc1sB LqqrZ4i86DUivTuiU4cARXCc5p9iB0OlxKE6UY2Gk824ZBJT1wKuxngDFL9Ra5vasx16 1nhg== X-Gm-Message-State: AOJu0YxUL9JQ+JCaXcoGLY1NGIm+QFL9fng4Rb0g1feVD9l7GHCeIHCl qkB9OIjYHqmdGIwDhg2xqe76wBMn4MsoWpFhcEeAAr5bDkQaH9fozGBRbt4sh/VQbd3UL0oS1T6 YYJ6zrEjer5uQEXN8eTjdpUf8wd/LKPA3zgPHZvVXjVDbuC5ILKJkX+cdF7fa X-Gm-Gg: ASbGncsIYoogohiqJ4NY/QCzH8QNry1hLoU6lm0AfcTY7Y4WU4pYPGfJGbZ3GV+Scpi 7TdWZ5ud2yit2psL/ZncDVPdA96I/D0Cq9mtcu0OMvrlFZ/Mzc+6A3wjrYR+w3ISO8UR7CU4Qm0 lQb1ByGJ2gPSOGE1L2v7UUbnuwpyJO9Li8hQk6PFouCeTu3PEyVTICDmURtw3xt0ut8pxB8Fq7s JdZFEp9S4y8ejI2cgLzbJKtR3B1P+ExgLwxnZyKu83WK2wjh6fShmupZWw0HP4p6a4euY1A+b9R Rh5llP7N5lP95jNvOJVRw/csv+Kq1MJSEcjyf5/jwUIAvaTjAw== X-Google-Smtp-Source: AGHT+IG4doX4KAurS5fsOGia5PUD4aY1BKvlgKrjZp+A9Pn8lWszGboqzP9ljo1dtGiZ721AzSIr/JLrxzOn X-Received: by 2002:a05:690c:a089:20b0:718:17b1:3eb with SMTP id 00721157ae682-71834f9fef5mr86610207b3.8.1752802959450; Thu, 17 Jul 2025 18:42:39 -0700 (PDT) Received: from postal.iol.unh.edu (postal.iol.unh.edu. [2606:4100:3880:1234::84]) by smtp-relay.gmail.com with ESMTPS id 3f1490d57ef6-e8d7cc0ee71sm15637276.1.2025.07.17.18.42.39 (version=TLS1_2 cipher=ECDHE-ECDSA-AES128-GCM-SHA256 bits=128/128); Thu, 17 Jul 2025 18:42:39 -0700 (PDT) X-Relaying-Domain: iol.unh.edu Date: Thu, 17 Jul 2025 18:42:39 -0700 (PDT) Message-ID: <6879a68f.050a0220.354f65.0da9SMTPIN_ADDED_MISSING@mx.google.com> Received: from [172.21.0.3] (unknown [172.18.0.240]) by postal.iol.unh.edu (Postfix) with ESMTP id 1EDE66050A61; Thu, 17 Jul 2025 21:42:39 -0400 (EDT) Subject: |SUCCESS| [GIT MASTER] 20a053a223db35244b6daee98d71fdab631646b6 From: dpdklab@iol.unh.edu To: Test Report Cc: dpdk-test-reports@iol.unh.edu Content-Type: text/plain X-BeenThere: test-report@dpdk.org X-Mailman-Version: 2.1.29 Precedence: list List-Id: automatic DPDK test reports List-Unsubscribe: , List-Archive: List-Post: List-Help: List-Subscribe: , Errors-To: test-report-bounces@dpdk.org _Testing PASS_ Branch: dpdk 20a053a223db35244b6daee98d71fdab631646b6 --> testing pass Upstream job id: Generic-DPDK-Compile-Meson#409559 Test environment and result as below: +-------------------------------+--------------------+-------------------+------------------+-------------------------+-------------------+----------------------+ | Environment | dpdk_meson_compile | dpdk_compile_spdk | dpdk_compile_ovs | dpdk_llvm_clang_compile | dpdk_msvc_compile | dpdk_mingw64_compile | +===============================+====================+===================+==================+=========================+===================+======================+ | CentOS Stream 9 | PASS | PASS | SKIPPED | SKIPPED | SKIPPED | SKIPPED | +-------------------------------+--------------------+-------------------+------------------+-------------------------+-------------------+----------------------+ | CentOS Stream 10 | PASS | SKIPPED | SKIPPED | SKIPPED | SKIPPED | SKIPPED | +-------------------------------+--------------------+-------------------+------------------+-------------------------+-------------------+----------------------+ | Debian GNU/Linux 12 | PASS | PASS | SKIPPED | SKIPPED | SKIPPED | SKIPPED | +-------------------------------+--------------------+-------------------+------------------+-------------------------+-------------------+----------------------+ | Fedora Linux 40 | PASS | PASS | SKIPPED | SKIPPED | SKIPPED | SKIPPED | +-------------------------------+--------------------+-------------------+------------------+-------------------------+-------------------+----------------------+ | openSUSE Leap 15.6 | PASS | SKIPPED | SKIPPED | SKIPPED | SKIPPED | SKIPPED | +-------------------------------+--------------------+-------------------+------------------+-------------------------+-------------------+----------------------+ | Fedora Linux 41 | PASS | PASS | PASS | SKIPPED | SKIPPED | SKIPPED | +-------------------------------+--------------------+-------------------+------------------+-------------------------+-------------------+----------------------+ | Red Hat Enterprise Linux 8.10 | PASS | SKIPPED | SKIPPED | SKIPPED | SKIPPED | SKIPPED | +-------------------------------+--------------------+-------------------+------------------+-------------------------+-------------------+----------------------+ | Red Hat Enterprise Linux 9.5 | PASS | SKIPPED | SKIPPED | SKIPPED | SKIPPED | SKIPPED | +-------------------------------+--------------------+-------------------+------------------+-------------------------+-------------------+----------------------+ | Ubuntu 20.04 | PASS | SKIPPED | SKIPPED | SKIPPED | SKIPPED | SKIPPED | +-------------------------------+--------------------+-------------------+------------------+-------------------------+-------------------+----------------------+ | Ubuntu 22.04 | PASS | PASS | SKIPPED | SKIPPED | SKIPPED | SKIPPED | +-------------------------------+--------------------+-------------------+------------------+-------------------------+-------------------+----------------------+ | Arch Linux 20250613.0.365270 | PASS | SKIPPED | SKIPPED | SKIPPED | SKIPPED | SKIPPED | +-------------------------------+--------------------+-------------------+------------------+-------------------------+-------------------+----------------------+ | Ubuntu 24.04 | PASS | PASS | PASS | SKIPPED | SKIPPED | SKIPPED | +-------------------------------+--------------------+-------------------+------------------+-------------------------+-------------------+----------------------+ | Alpine Linux 3.22.0 | PASS | SKIPPED | SKIPPED | SKIPPED | SKIPPED | SKIPPED | +-------------------------------+--------------------+-------------------+------------------+-------------------------+-------------------+----------------------+ | FreeBSD 14.2 | PASS | SKIPPED | SKIPPED | SKIPPED | SKIPPED | SKIPPED | +-------------------------------+--------------------+-------------------+------------------+-------------------------+-------------------+----------------------+ | Windows Server 2022 | SKIPPED | SKIPPED | SKIPPED | PASS | PASS | PASS | +-------------------------------+--------------------+-------------------+------------------+-------------------------+-------------------+----------------------+ CentOS Stream 9 Kernel: 5.15 Compiler: gcc gcc (GCC) 11.5.0 20240719 (Red Hat 11.5.0-7) CentOS Stream 10 Kernel: 5.15 Compiler: gcc gcc (GCC) 14.2.1 20250110 (Red Hat 14.2.1-8) Debian GNU/Linux 12 Kernel: 5.15 Compiler: gcc gcc (Debian 12.2.0-14+deb12u1) 12.2.0 Fedora Linux 40 Kernel: 5.15 Compiler: clang gcc (GCC) 14.2.1 20240912 (Red Hat 14.2.1-3) openSUSE Leap 15.6 Kernel: 5.15 Compiler: gcc gcc (SUSE Linux) 7.5.0 Fedora Linux 41 Kernel: 5.15 Compiler: clang gcc (GCC) 14.3.1 20250523 (Red Hat 14.3.1-1) Red Hat Enterprise Linux 8.10 Kernel: 5.15 Compiler: gcc gcc (GCC) 8.5.0 20210514 (Red Hat 8.5.0-22) Red Hat Enterprise Linux 9.5 Kernel: 5.15 Compiler: gcc gcc (GCC) 11.5.0 20240719 (Red Hat 11.5.0-2) Ubuntu 20.04 Kernel: 4.19 Compiler: gcc gcc (Ubuntu 9.4.0-1ubuntu1~20.04.2) 9.4.0 Ubuntu 22.04 Kernel: 5.15 Compiler: gcc gcc (Ubuntu 11.4.0-1ubuntu1~22.04) 11.4.0 Arch Linux 20250613.0.365270 Kernel: 5.15 Compiler: gcc gcc (GCC) 15.1.1 20250425 Ubuntu 24.04 Kernel: 5.15 Compiler: gcc gcc (Ubuntu 13.3.0-6ubuntu2~24.04) 13.3.0 Alpine Linux 3.22.0 Kernel: 5.15 Compiler: gcc gcc (Alpine 14.2.0) 14.2.0 FreeBSD 14.2 Kernel: 14.2-RELEASE Compiler: clang 18.1.6 Windows Server 2022 Kernel: 10.0.20348.2031 Compiler: clang 15.0.7, gcc 14.1.0 (MinGW), and MSVC VS 19.39.33521 To view detailed results, visit: https://lab.dpdk.org/results/dashboard/tarballs/34306/ UNH-IOL DPDK Community Lab To manage your email subscriptions, visit: https://lab.dpdk.org/results/dashboard/preferences/subscriptions/