From mboxrd@z Thu Jan 1 00:00:00 1970 Return-Path: Received: from mails.dpdk.org (mails.dpdk.org [217.70.189.124]) by inbox.dpdk.org (Postfix) with ESMTP id 9AE3A46BA4 for ; Fri, 18 Jul 2025 04:09:10 +0200 (CEST) Received: from mails.dpdk.org (localhost [127.0.0.1]) by mails.dpdk.org (Postfix) with ESMTP id 7D6E84014F; Fri, 18 Jul 2025 04:09:10 +0200 (CEST) Received: from mail-qk1-f225.google.com (mail-qk1-f225.google.com [209.85.222.225]) by mails.dpdk.org (Postfix) with ESMTP id 1B2CB4014F for ; Fri, 18 Jul 2025 04:09:09 +0200 (CEST) Received: by mail-qk1-f225.google.com with SMTP id af79cd13be357-7e34607e575so276556785a.2 for ; Thu, 17 Jul 2025 19:09:09 -0700 (PDT) DKIM-Signature: v=1; a=rsa-sha256; c=relaxed/relaxed; d=iol.unh.edu; s=unh-iol; t=1752804548; x=1753409348; darn=dpdk.org; h=references:in-reply-to:cc:to:from:subject:message-id:date:from:to :cc:subject:date:message-id:reply-to; bh=4UedhHdyKWTUsaGhQ73zFLuu2gd/qhtw/bnW5V1GmI0=; b=W0vk4PpghfcneSxEMaFj0DzZjgT/cG9sBi3p1ajruw+PcN+oASUgjYsUiTFaEi0HrT Q4a10LFcjdKwsaD/KkW9sok18yUja/Vg+I/oyP7eoIsEdGnuFDdPAGMWwMPsbsJ/4+4b l4i3pcbRRkD0P+3TqNIexCdhTFOa+ZE/mKs7Q= X-Google-DKIM-Signature: v=1; a=rsa-sha256; c=relaxed/relaxed; d=1e100.net; s=20230601; t=1752804548; x=1753409348; h=references:in-reply-to:cc:to:from:subject:message-id:date :x-gm-message-state:from:to:cc:subject:date:message-id:reply-to; bh=4UedhHdyKWTUsaGhQ73zFLuu2gd/qhtw/bnW5V1GmI0=; b=EuYZxm1ZesoHk82H5fyT7I3ng2yJkfs/heCXc0F2JVtpBaSzmSUh1iXNTRVK3Fi3lX M5zAExRfAL8v/w9RUA4lljsMtjNorwLb5dAi9s4A5xTaIcB7mlDDaacIy6hc4b9Zy5Z9 6BK8z7apiyro+cxX36Wu8G8x7RkG9DrPTLfASuVTNhS3+LY+d6FO4upD+ZxbjTYXxrhS bsvTMzWG+DTdPUJUggouKU2cgkPt2SipoX3myXYW/uEsbyMROfTqjBYe9KQW/9p8XT2h QsIdMHjveVf8g758KBKVDgvIAkAEMEdA0BzkwgBWdvlL/Pe5/hp3QdGYnTbh2gtwzoms iMGw== X-Gm-Message-State: AOJu0YxYrsGSNhbDNfFVyvI7/SM69U4TDdjpdEGZ/KbmbjerwpjtV+YA rvbXb48Lk1en+tOKOXdbMnEWuEzUbOhC07d5365LLOC/DPUDgKR6oG/Ts+jOHubQrtRu8y3ykPE FUS9dBmqlVh7wAVF7qmP2kO7NaTEX5SsE0Xk0qW76HhBIIorBgdwfs611ErJ9 X-Gm-Gg: ASbGncuetVB/581WaulpORcPrMzTITsomGtHSljRHDOBe+KhIzpIJtobvKUARJWiOO5 2UBp5SFYLXfj3w16j0kM2rAlrJWUpofkn3FIKrVo3GxH5c6n1iZy5cjEovgMPDXMkxUkkDT+YJL za7GlzqKFoY+jWS4cXdDVBjs+I3V0DJLV2XJlULOxtcCnhsgcq3vM2J5L4AnxqkeFreXsxZxrrK NYTBGhvjy7Ol04iKNMM1nD2yvGELJJwQRN6O6sWwHnH3YrkFvrHjj6KnBD1lczm7D3BrTIkxUTA TLLQBIAkFe6uWWkwbcxKlMGj46hGLN3y2UCPZ12wkf/bUqPCVw== X-Google-Smtp-Source: AGHT+IEVnFCHn27LA7Vnm5oFap+mTnqRcak1Fyr8uEG1oGCcxi7un5iO30foJ2EmQ/qIjTCNEj91xOmyMp99 X-Received: by 2002:a05:6214:e8f:b0:702:d1aa:46e6 with SMTP id 6a1803df08f44-7051a113c5amr20416626d6.28.1752804548014; Thu, 17 Jul 2025 19:09:08 -0700 (PDT) Received: from postal.iol.unh.edu (postal.iol.unh.edu. [2606:4100:3880:1234::84]) by smtp-relay.gmail.com with ESMTPS id 6a1803df08f44-7051ba2c7d0sm256056d6.6.2025.07.17.19.09.07 (version=TLS1_2 cipher=ECDHE-ECDSA-AES128-GCM-SHA256 bits=128/128); Thu, 17 Jul 2025 19:09:07 -0700 (PDT) X-Relaying-Domain: iol.unh.edu Date: Thu, 17 Jul 2025 19:09:07 -0700 (PDT) Message-ID: <6879acc3.d40a0220.25e087.1645SMTPIN_ADDED_MISSING@mx.google.com> Received: from [172.21.0.2] (unknown [172.18.0.240]) by postal.iol.unh.edu (Postfix) with ESMTP id ADBA06051830; Thu, 17 Jul 2025 22:09:07 -0400 (EDT) Subject: |SUCCESS| pw155207 [PATCH] [v1] mailmap: add new email to DPDK From: dpdklab@iol.unh.edu To: Test Report Cc: dpdk-test-reports@iol.unh.edu In-Reply-To: <20250714191141.1243467-1-pravin.pathak@intel.com> References: <20250714191141.1243467-1-pravin.pathak@intel.com> Content-Type: text/plain X-BeenThere: test-report@dpdk.org X-Mailman-Version: 2.1.29 Precedence: list List-Id: automatic DPDK test reports List-Unsubscribe: , List-Archive: List-Post: List-Help: List-Subscribe: , Errors-To: test-report-bounces@dpdk.org Test-Label: iol-unit-amd64-testing Test-Status: SUCCESS http://dpdk.org/patch/155207 _Testing PASS RETEST #2_ Submitter: Pravin Pathak Date: Monday, July 14 2025 19:11:41 DPDK git baseline: Repo:dpdk Branch: master CommitID:20a053a223db35244b6daee98d71fdab631646b6 155207 --> testing pass Upstream job id: Generic-Unit-Test-DPDK#356104 Test environment and result as below: +-------------------------------+----------------+ | Environment | dpdk_unit_test | +===============================+================+ | Debian GNU/Linux 12 | PASS | +-------------------------------+----------------+ | CentOS Stream 9 | PASS | +-------------------------------+----------------+ | Fedora Linux 40 | PASS | +-------------------------------+----------------+ | CentOS Stream 10 | PASS | +-------------------------------+----------------+ | Fedora Linux 41 | PASS | +-------------------------------+----------------+ | Red Hat Enterprise Linux 8.10 | PASS | +-------------------------------+----------------+ | Ubuntu 22.04 | PASS | +-------------------------------+----------------+ | Red Hat Enterprise Linux 9.5 | PASS | +-------------------------------+----------------+ | Ubuntu 24.04 | PASS | +-------------------------------+----------------+ | Ubuntu 20.04 | PASS | +-------------------------------+----------------+ | Windows Server 2022 | PASS | +-------------------------------+----------------+ Debian GNU/Linux 12 Kernel: 5.15 Compiler: gcc gcc (Debian 12.2.0-14+deb12u1) 12.2.0 CentOS Stream 9 Kernel: 5.15 Compiler: gcc gcc (GCC) 11.5.0 20240719 (Red Hat 11.5.0-7) Fedora Linux 40 Kernel: 5.15 Compiler: clang gcc (GCC) 14.2.1 20240912 (Red Hat 14.2.1-3) CentOS Stream 10 Kernel: 5.15 Compiler: gcc gcc (GCC) 14.2.1 20250110 (Red Hat 14.2.1-8) Fedora Linux 41 Kernel: 5.15 Compiler: clang gcc (GCC) 14.3.1 20250523 (Red Hat 14.3.1-1) Red Hat Enterprise Linux 8.10 Kernel: 5.15 Compiler: gcc gcc (GCC) 8.5.0 20210514 (Red Hat 8.5.0-22) Ubuntu 22.04 Kernel: 5.15 Compiler: gcc gcc (Ubuntu 11.4.0-1ubuntu1~22.04) 11.4.0 Red Hat Enterprise Linux 9.5 Kernel: 5.15 Compiler: gcc gcc (GCC) 11.5.0 20240719 (Red Hat 11.5.0-2) Ubuntu 24.04 Kernel: 5.15 Compiler: gcc gcc (Ubuntu 13.3.0-6ubuntu2~24.04) 13.3.0 Ubuntu 20.04 Kernel: 5.15 Compiler: gcc gcc (Ubuntu 9.4.0-1ubuntu1~20.04.2) 9.4.0 Windows Server 2022 Kernel: 10.0.20348.2031 Compiler: clang 15.0.7, gcc 14.1.0 (MinGW), and MSVC VS 19.39.33521 To view detailed results, visit: https://lab.dpdk.org/results/dashboard/patchsets/33652/ UNH-IOL DPDK Community Lab To manage your email subscriptions, visit: https://lab.dpdk.org/results/dashboard/preferences/subscriptions/