From mboxrd@z Thu Jan 1 00:00:00 1970 Return-Path: Received: from mails.dpdk.org (mails.dpdk.org [217.70.189.124]) by inbox.dpdk.org (Postfix) with ESMTP id 5AB2446BA4 for ; Fri, 18 Jul 2025 04:29:30 +0200 (CEST) Received: from mails.dpdk.org (localhost [127.0.0.1]) by mails.dpdk.org (Postfix) with ESMTP id 3546B4014F; Fri, 18 Jul 2025 04:29:30 +0200 (CEST) Received: from mail-il1-f225.google.com (mail-il1-f225.google.com [209.85.166.225]) by mails.dpdk.org (Postfix) with ESMTP id AC82D4014F for ; Fri, 18 Jul 2025 04:29:28 +0200 (CEST) Received: by mail-il1-f225.google.com with SMTP id e9e14a558f8ab-3da73df6b6bso6372475ab.3 for ; Thu, 17 Jul 2025 19:29:28 -0700 (PDT) DKIM-Signature: v=1; a=rsa-sha256; c=relaxed/relaxed; d=iol.unh.edu; s=unh-iol; t=1752805768; x=1753410568; darn=dpdk.org; h=references:in-reply-to:cc:to:from:subject:message-id:date:from:to :cc:subject:date:message-id:reply-to; bh=iMiDUui6gYD3QMP8kKVNMk+wpUDXXmbbZbzBMa9WLe0=; b=hHr0oUdqOJIvxN/AdJ5N2rI49SEiAvC3R+3qen67cMu4d1dVt4F00ir567AORBzm52 DUpsWrmiwha1N3WW5w8v/b2yWU9htOzkCnm8AHxzeGvW1rxpDwJfWEtL4Re9AMWS8+QF w1sP44o9CQzgGI5PxWiULLcmREAi0KsvZeYBc= X-Google-DKIM-Signature: v=1; a=rsa-sha256; c=relaxed/relaxed; d=1e100.net; s=20230601; t=1752805768; x=1753410568; h=references:in-reply-to:cc:to:from:subject:message-id:date :x-gm-message-state:from:to:cc:subject:date:message-id:reply-to; bh=iMiDUui6gYD3QMP8kKVNMk+wpUDXXmbbZbzBMa9WLe0=; b=IMQDM4+0tTDXWve/YcVMYpcWk+MS04P5NDdvhJNJ3BPsh4/gfD7YeSQ6c8vNaJjzb7 lFu/ptsTvCjDr60QqqxykVBO6G/GzsbDJTbrMaw9776zsv64S/P3WeO2LXGvzkeZWf0T kwfa23rxlU7iZ10u6MnjtAt7g0mhMzIM2sM5Ks7X+Ul8Qpx/6pJBK9jOVXD7S2qblYu8 K7OQuRVUs3MppVqwZg8NLqRFymCMLFsD5qHomavOPZb+gHniCVtsKF4+5DsW82xegDKH lcjMhPAJSM+o8/US23bul7SUTpJ+8kCPVXOzqI4C9m02+Ghg5v01K8CPKtsHI4fXffv+ mBjg== X-Gm-Message-State: AOJu0YxiA9NXTeBWB2CDRDrN6MenIrOoJrUENRbrTEp8bZOG7i19Wdyi 90wbq/Bgk7TVB7uDVlNsZkhjAfq9CvdTJM92uuGhmAqw+vzEX6TcLZ0G+HkyDujN4yl390A+DlR OOHMiHsdD5SXajd/4q5gBc/zXPcopVTA94W2wsSuA0rBiz+ZykyEMrrkYsxLH X-Gm-Gg: ASbGncv7kf3KKgzf507lB1SyhITHru0ZY0sP3cqgKewTD4zSdzOF6T48tFN5FanXls7 pvcrThIaeeyJE/TomthkiSC1RhKHCBjcooS1bIT36e6ApEnUsTa+Q/op9X3s6/PlHv5hXRdze0A 78XhRf3puAOY5Oyahb3HhmXQc46LrBa52HRYq7KRhL1CYoiwP0WAXROkPhJcq3ZE9Y+obtGzmIA oLqYnKhMeNawz5GGvBmgbqYUkE8lUIIqf9N4UqeHgxwBw61c1nWWx5fWBun0rflR0rWvKHsEeH7 ofjTcxDdQfPUspFMaq3xK+nRu0QN5UAQ3YWSc9AlmskL5xsFUw== X-Google-Smtp-Source: AGHT+IH5rqn1gVN5E1ZSeVhibskc5mWs7BzRoZ+9tFk8cR0ywleP2wXKrDZnekreeVW+hfCKHihUe+AQrTHF X-Received: by 2002:a05:6e02:230a:b0:3df:3154:2e90 with SMTP id e9e14a558f8ab-3e282ef4b25mr90850965ab.19.1752805767824; Thu, 17 Jul 2025 19:29:27 -0700 (PDT) Received: from postal.iol.unh.edu (postal.iol.unh.edu. [2606:4100:3880:1234::84]) by smtp-relay.gmail.com with ESMTPS id 8926c6da1cb9f-5084c7acef6sm17205173.15.2025.07.17.19.29.27 (version=TLS1_2 cipher=ECDHE-ECDSA-AES128-GCM-SHA256 bits=128/128); Thu, 17 Jul 2025 19:29:27 -0700 (PDT) X-Relaying-Domain: iol.unh.edu Date: Thu, 17 Jul 2025 19:29:27 -0700 (PDT) Message-ID: <6879b187.050a0220.33800e.1240SMTPIN_ADDED_MISSING@mx.google.com> Received: from [172.21.0.2] (unknown [172.18.0.240]) by postal.iol.unh.edu (Postfix) with ESMTP id 543AA6051830; Thu, 17 Jul 2025 22:29:27 -0400 (EDT) Subject: |SUCCESS| pw155207 [PATCH] [v1] mailmap: add new email to DPDK From: dpdklab@iol.unh.edu To: Test Report Cc: dpdk-test-reports@iol.unh.edu In-Reply-To: <20250714191141.1243467-1-pravin.pathak@intel.com> References: <20250714191141.1243467-1-pravin.pathak@intel.com> Content-Type: text/plain X-BeenThere: test-report@dpdk.org X-Mailman-Version: 2.1.29 Precedence: list List-Id: automatic DPDK test reports List-Unsubscribe: , List-Archive: List-Post: List-Help: List-Subscribe: , Errors-To: test-report-bounces@dpdk.org Test-Label: iol-unit-arm64-testing Test-Status: SUCCESS http://dpdk.org/patch/155207 _Testing PASS RETEST #2_ Submitter: Pravin Pathak Date: Monday, July 14 2025 19:11:41 DPDK git baseline: Repo:dpdk Branch: master CommitID:20a053a223db35244b6daee98d71fdab631646b6 155207 --> testing pass Upstream job id: Generic-Unit-Test-DPDK#356103 Test environment and result as below: +------------------------------+----------------+---------------------------+--------------+------------------------------+ | Environment | dpdk_unit_test | cryptodev_sw_zuc_autotest | lpm_autotest | cryptodev_sw_snow3g_autotest | +==============================+================+===========================+==============+==============================+ | Fedora Linux 40 | PASS | SKIPPED | SKIPPED | SKIPPED | +------------------------------+----------------+---------------------------+--------------+------------------------------+ | CentOS Stream 9 | PASS | SKIPPED | SKIPPED | SKIPPED | +------------------------------+----------------+---------------------------+--------------+------------------------------+ | Debian GNU/Linux 12 | PASS | SKIPPED | SKIPPED | SKIPPED | +------------------------------+----------------+---------------------------+--------------+------------------------------+ | CentOS Stream 10 | PASS | SKIPPED | SKIPPED | SKIPPED | +------------------------------+----------------+---------------------------+--------------+------------------------------+ | Fedora Linux 41 | PASS | SKIPPED | SKIPPED | SKIPPED | +------------------------------+----------------+---------------------------+--------------+------------------------------+ | Ubuntu 20.04 | PASS | SKIPPED | PASS | SKIPPED | +------------------------------+----------------+---------------------------+--------------+------------------------------+ | Red Hat Enterprise Linux 9.5 | PASS | SKIPPED | SKIPPED | SKIPPED | +------------------------------+----------------+---------------------------+--------------+------------------------------+ | Ubuntu 22.04 | PASS | SKIPPED | SKIPPED | SKIPPED | +------------------------------+----------------+---------------------------+--------------+------------------------------+ | Ubuntu 24.04 | PASS | SKIPPED | SKIPPED | SKIPPED | +------------------------------+----------------+---------------------------+--------------+------------------------------+ | Debian 12 (arm) | SKIPPED | PASS | SKIPPED | PASS | +------------------------------+----------------+---------------------------+--------------+------------------------------+ Fedora Linux 40 Kernel: 5.4 Compiler: clang gcc (GCC) 14.2.1 20240912 (Red Hat 14.2.1-3) CentOS Stream 9 Kernel: 5.4 Compiler: gcc gcc (GCC) 11.5.0 20240719 (Red Hat 11.5.0-7) Debian GNU/Linux 12 Kernel: 5.4 Compiler: gcc gcc (Debian 12.2.0-14+deb12u1) 12.2.0 CentOS Stream 10 Kernel: 5.4 Compiler: gcc gcc (GCC) 14.2.1 20250110 (Red Hat 14.2.1-8) Fedora Linux 41 Kernel: 5.4 Compiler: clang gcc (GCC) 14.3.1 20250523 (Red Hat 14.3.1-1) Ubuntu 20.04 Kernel: 5.4 Compiler: gcc gcc (Ubuntu 9.4.0-1ubuntu1~20.04.2) 9.4.0 Red Hat Enterprise Linux 9.5 Kernel: 5.4 Compiler: gcc gcc (GCC) 11.5.0 20240719 (Red Hat 11.5.0-2) Ubuntu 22.04 Kernel: 5.4 Compiler: gcc gcc (Ubuntu 11.4.0-1ubuntu1~22.04) 11.4.0 Ubuntu 24.04 Kernel: 5.4 Compiler: gcc gcc (Ubuntu 13.3.0-6ubuntu2~24.04) 13.3.0 Debian 12 (arm) Kernel: Depends on container host Compiler: gcc (Debian 12.2.0-14) 12.2.0 To view detailed results, visit: https://lab.dpdk.org/results/dashboard/patchsets/33652/ UNH-IOL DPDK Community Lab To manage your email subscriptions, visit: https://lab.dpdk.org/results/dashboard/preferences/subscriptions/