From mboxrd@z Thu Jan 1 00:00:00 1970 Return-Path: Received: from mails.dpdk.org (mails.dpdk.org [217.70.189.124]) by inbox.dpdk.org (Postfix) with ESMTP id C2F8246BA4 for ; Fri, 18 Jul 2025 05:53:32 +0200 (CEST) Received: from mails.dpdk.org (localhost [127.0.0.1]) by mails.dpdk.org (Postfix) with ESMTP id A246E40144; Fri, 18 Jul 2025 05:53:32 +0200 (CEST) Received: from mail-pj1-f99.google.com (mail-pj1-f99.google.com [209.85.216.99]) by mails.dpdk.org (Postfix) with ESMTP id 804AC40144 for ; Fri, 18 Jul 2025 05:53:31 +0200 (CEST) Received: by mail-pj1-f99.google.com with SMTP id 98e67ed59e1d1-313f68bc519so1174653a91.0 for ; Thu, 17 Jul 2025 20:53:31 -0700 (PDT) DKIM-Signature: v=1; a=rsa-sha256; c=relaxed/relaxed; d=iol.unh.edu; s=unh-iol; t=1752810810; x=1753415610; darn=dpdk.org; h=cc:to:from:subject:message-id:date:from:to:cc:subject:date :message-id:reply-to; bh=tIZvaSA/erUvcVt9ptMFUguApZfMDphCN75eo9Voc00=; b=OoZr2XjKnhGMO4MDkMN/9bVFCLL8J6djbtRYcqEOJvD9nZdR2Ot854t1NZr8l7FvZr bcwJCxVh07/ZW33Ev+s8/bV0qsMzQauqNFZhSObOQhyL5SwYNcdcp6cVwzYPUSprwTKw cUzQgKxpksIFd4lcCWMRYwdffwjUHw0Vz9xL8= X-Google-DKIM-Signature: v=1; a=rsa-sha256; c=relaxed/relaxed; d=1e100.net; s=20230601; t=1752810810; x=1753415610; h=cc:to:from:subject:message-id:date:x-gm-message-state:from:to:cc :subject:date:message-id:reply-to; bh=tIZvaSA/erUvcVt9ptMFUguApZfMDphCN75eo9Voc00=; b=tA/2sktbBSPtQfy3r9UHeqJKolt6ZtycbflGAzVw2I/O99TNc6HOfDFzZsVStIZe9w wT67UR6jsE/W1Dn5R2AVnlNv12CS73OJJ208wuCLYLH8jpQvL5X/wjPE2pf1jNDBoZ5e 30MuzxWFDiGXb7pUSWaBtA3IGRke6VXgR0oAV7UjNYF6ugGb4zw+0NjB095NaadeI3x7 0X8ej7t0jhP9g5g4uJ3/y7/9FW8C8Z8lMwh2SHSh7pm7mztb2b8YtXI8P/b3FHKbz7sX T1kskETYVhffZ99+GUyL+2hmVWcCdhum0K3PTyz4Dum64Hyvgn5+l81XmChup7s46/xS qTEA== X-Gm-Message-State: AOJu0YzYbrcJBZr6RaJ5zAdvcVM/tJ3OltcxASSmDA2fOC5cKLIsprn5 QF0ZFaPW9Fq8cm9cUk98MznbQLZwZbJ7Ljp1+i9oP0Vn3MADZQ5599KhD0w8p6WjYGf69VR+4rG PWKGoL7Dwz1qLTvvUssa1MbTanga/aRfhX2ekE7+CLxgdMK6wL9va2oLU/yjK X-Gm-Gg: ASbGncvix1jXr2clWA8sWw6nhc3nJO+IPevoUNWDHymTzmHWAlnZkI1z71Zw+kaDKRx jQF+1sCh8FCMu94T8EDBJiF+CuHW5xijehSXZ3ZRaOBjdy6dK68T1voZVcS1WCep2Qb5J7XQMzG VQ3j0fQFg9FJptuVkCgqNT7QDJlvVm1Mp5qfaVtJseBwzwtVG/ne4DjLAwymQQmvKj0lJ2shrZM ecOCO9o8NO0MzTAFlZ9ecxcaedOWPOsA7aDxKOSdaSXFL49SMFjgPYKM9AH4PG0qEElLeNhc8aO PysCyDYRS9IUhvM4hCv/CGsqDukF6YfsnqLJHqjF0ChNtnbYUg== X-Google-Smtp-Source: AGHT+IEzLNIqodTPMdUCEnuF//Rm7pZQh9WnEQIO3rfuXx6znXAW3tdHazOll500yePWIzJgqXv7ZYYbGDMk X-Received: by 2002:a17:90b:51c3:b0:311:e731:523a with SMTP id 98e67ed59e1d1-31c9f44b9cemr13463653a91.11.1752810810345; Thu, 17 Jul 2025 20:53:30 -0700 (PDT) Received: from postal.iol.unh.edu (postal.iol.unh.edu. [2606:4100:3880:1234::84]) by smtp-relay.gmail.com with ESMTPS id 98e67ed59e1d1-31c9f28d87fsm252894a91.12.2025.07.17.20.53.30 (version=TLS1_2 cipher=ECDHE-ECDSA-AES128-GCM-SHA256 bits=128/128); Thu, 17 Jul 2025 20:53:30 -0700 (PDT) X-Relaying-Domain: iol.unh.edu Date: Thu, 17 Jul 2025 20:53:30 -0700 (PDT) Message-ID: <6879c53a.170a0220.2787de.c8aeSMTPIN_ADDED_MISSING@mx.google.com> Received: from [172.21.0.2] (unknown [172.18.0.240]) by postal.iol.unh.edu (Postfix) with ESMTP id 908636051830; Thu, 17 Jul 2025 23:53:29 -0400 (EDT) Subject: |SUCCESS| [GIT MASTER] 20a053a223db35244b6daee98d71fdab631646b6 From: dpdklab@iol.unh.edu To: Test Report Cc: dpdk-test-reports@iol.unh.edu Content-Type: text/plain X-BeenThere: test-report@dpdk.org X-Mailman-Version: 2.1.29 Precedence: list List-Id: automatic DPDK test reports List-Unsubscribe: , List-Archive: List-Post: List-Help: List-Subscribe: , Errors-To: test-report-bounces@dpdk.org _Testing PASS_ Branch: dpdk 20a053a223db35244b6daee98d71fdab631646b6 --> testing pass Upstream job id: Generic-DPDK-Compile-Meson#409568 Test environment and result as below: +------------------------------+--------------------+ | Environment | dpdk_meson_compile | +==============================+====================+ | Red Hat Enterprise Linux 9.5 | PASS | +------------------------------+--------------------+ | Fedora Linux 40 | PASS | +------------------------------+--------------------+ | Ubuntu 20.04 | PASS | +------------------------------+--------------------+ | Fedora Linux 41 | PASS | +------------------------------+--------------------+ | Debian GNU/Linux 12 | PASS | +------------------------------+--------------------+ | Ubuntu 24.04 | PASS | +------------------------------+--------------------+ | Ubuntu 22.04 | PASS | +------------------------------+--------------------+ | CentOS Stream 10 | PASS | +------------------------------+--------------------+ | CentOS Stream 9 | PASS | +------------------------------+--------------------+ Red Hat Enterprise Linux 9.5 Kernel: 5.4 Compiler: gcc gcc (GCC) 11.5.0 20240719 (Red Hat 11.5.0-2) Fedora Linux 40 Kernel: 5.4 Compiler: gcc gcc (GCC) 14.2.1 20240912 (Red Hat 14.2.1-3) Ubuntu 20.04 Kernel: 5.15 Compiler: aarch64-linux-gnu-gcc gcc (Ubuntu 9.4.0-1ubuntu1~20.04.2) 9.4.0 Fedora Linux 41 Kernel: 5.4 Compiler: gcc gcc (GCC) 14.3.1 20250523 (Red Hat 14.3.1-1) Debian GNU/Linux 12 Kernel: 5.4 Compiler: gcc gcc (Debian 12.2.0-14+deb12u1) 12.2.0 Ubuntu 24.04 Kernel: 5.4 Compiler: gcc gcc (Ubuntu 13.3.0-6ubuntu2~24.04) 13.3.0 Ubuntu 22.04 Kernel: 5.4 Compiler: gcc gcc (Ubuntu 11.4.0-1ubuntu1~22.04) 11.4.0 CentOS Stream 10 Kernel: 5.4 Compiler: gcc gcc (GCC) 14.2.1 20250110 (Red Hat 14.2.1-8) CentOS Stream 9 Kernel: 5.4 Compiler: gcc gcc (GCC) 11.5.0 20240719 (Red Hat 11.5.0-7) To view detailed results, visit: https://lab.dpdk.org/results/dashboard/tarballs/34306/ UNH-IOL DPDK Community Lab To manage your email subscriptions, visit: https://lab.dpdk.org/results/dashboard/preferences/subscriptions/